BEGIN:VCALENDAR
VERSION:2.0
PRODID:-//The Museum of Cambridge - ECPv6.15.20//NONSGML v1.0//EN
CALSCALE:GREGORIAN
METHOD:PUBLISH
X-WR-CALNAME:The Museum of Cambridge
X-ORIGINAL-URL:https://www.museumofcambridge.org.uk
X-WR-CALDESC:Events for The Museum of Cambridge
REFRESH-INTERVAL;VALUE=DURATION:PT1H
X-Robots-Tag:noindex
X-PUBLISHED-TTL:PT1H
BEGIN:VTIMEZONE
TZID:Europe/London
BEGIN:DAYLIGHT
TZOFFSETFROM:+0000
TZOFFSETTO:+0100
TZNAME:BST
DTSTART:20220327T010000
END:DAYLIGHT
BEGIN:STANDARD
TZOFFSETFROM:+0100
TZOFFSETTO:+0000
TZNAME:GMT
DTSTART:20221030T010000
END:STANDARD
BEGIN:DAYLIGHT
TZOFFSETFROM:+0000
TZOFFSETTO:+0100
TZNAME:BST
DTSTART:20230326T010000
END:DAYLIGHT
BEGIN:STANDARD
TZOFFSETFROM:+0100
TZOFFSETTO:+0000
TZNAME:GMT
DTSTART:20231029T010000
END:STANDARD
BEGIN:DAYLIGHT
TZOFFSETFROM:+0000
TZOFFSETTO:+0100
TZNAME:BST
DTSTART:20240331T010000
END:DAYLIGHT
BEGIN:STANDARD
TZOFFSETFROM:+0100
TZOFFSETTO:+0000
TZNAME:GMT
DTSTART:20241027T010000
END:STANDARD
END:VTIMEZONE
BEGIN:VEVENT
DTSTART;TZID=Europe/London:20231021T100000
DTEND;TZID=Europe/London:20231030T170000
DTSTAMP:20260422T201440
CREATED:20230904T090745Z
LAST-MODIFIED:20231026T101836Z
UID:10744-1697882400-1698685200@www.museumofcambridge.org.uk
SUMMARY:Fun & Phantoms - Halloween Half-Term
DESCRIPTION:Be a part of Fun & Phantoms – Halloween \, at the Museum of Cambridge from October 22nd – 30th. \nWatch this space for information about all of our Halloween events! \nWe will be launching our Creepy Creatives craft workshops\, and holding an extra special Halloween playgroup. \nDon’t forget to check out our two haunting new trails which will run throughout October. \nWait\, there’s more!  \nThe Museum will be open every day from October 22nd – 30th! \n  \nWhat’s On: \nTemporary Halloween Display \nStep into the enchanting world of all things spooky and paranormal this Halloween half term! Our temporary display in the attic room features a mummified rat\, horse bones\, and a witch ball to deter witches\, and more. \nDon’t miss out our star celebrity Hannah\, our enigmatic doll. Hannah’s eerie presence and watchful eyes will make your visit all the more other-worldly. Brace yourself for a visit filled with bewitching surprises! \nWhen: October 22nd– 30th \n  \nWhat’s Creeping and Crawling Trail (Suitable for ages 5 – 10)  \nExplore the intriguing world of critters that crawl around the Museum. Follow the trail\, spot the bus along the way and learn how we care for our collection and preserve against the creepy crawlies trying to eat them! \nNo reservations needed for this eerie journey. Simply arrive\, and get ready to explore the Museum! \nWhen: October 22nd– 30th \n  \nCreepy Creatives (Suitable for ages 6 – 12) \nPrepare to be spellbound as you delve into the depths of our museum and encounter some spine-tingling museum artefacts. But here’s the twist – you won’t just stare in awe. You’ll recreate these haunting artefacts through the magic of art! \n\n\n\n\n\n\n\n\n\n\n\n\nJoin us for a bewitching time as we craft witch bottles from glass\, feathers\, sticks\, and a dash of glitter to add that extra enchantment. Witch bottles have been used for centuries to ward off negativity and protect against bad luck. It’s the perfect craft for your little ghouls during the October half-term break. Don’t miss out on the magic! \nNo reservations required\, it’s a drop-in session! \n\n\n\n\n\n\n\n\n\n\n\n\nWhen: October 24th and October 28th from 1 – 3 pm \n  \nIf you have any questions\, please email enquiries@museumofcambridge.org.uk or call the Museum on 01223 355159. \n  \nAccessibility  \nYou can also read about our accessibility information on our website. If you’d like to chat through any accessibility requirements\, don’t hesitate to give us a call on 01223 355159 or email enquiries@museumofcambridge.org.uk. Event attendees with additional needs are welcome to bring a supporter or carer free of charge.  \nGetting Here  \nWe are in the centre of Cambridge. You’ll find us at the corner of Castle Street and Northampton Street. We are right beside Kettle’s Yard and only a 15-minute walk from King’s College.  \nYou can park your bike at the bike parks on Bridge Street or on Northampton Street. There is a bus stop on Bridge Street. Check out the Stagecoach website to plan your journey to and from the Museum. Find out more about how to get here by train\, bike\, bus\, car or on foot on our website.  \nPhotography  \nPlease note that photographs will be taken throughout this event\, and images may be used in future marketing and reporting materials. If you do not wish you or your family’s photograph to be taken\, please make sure to let us know.  \nHealthy Events  \nIf you’re feeling unwell or have recently tested positive for Covid-19\, please do not attend this event. We’ll be happy to offer you a refund if applicable\, and welcome you at the Museum on another day.  \nLove events? Love them even more when they’re free? Join the Friends of the Museum of Cambridge today and you’ll get access to free events\, discounts in our shop and year-round free entry for you and a guest.  \n 
URL:https://www.museumofcambridge.org.uk/event/fun-phantoms-halloween-half-term/
LOCATION:The Museum of Cambridge\, 2-3 Castle Street\, Cambridge\, Cambridgeshire\, CB3 0AQ\, United Kingdom
CATEGORIES:Activity,Ghost Hunts,Museum,Trail,Workshop
ATTACH;FMTTYPE=image/jpeg:https://www.museumofcambridge.org.uk/wp-content/uploads/2023/09/Halloween-Half-Term.jpg
END:VEVENT
END:VCALENDAR