BEGIN:VCALENDAR
VERSION:2.0
PRODID:-//The Museum of Cambridge - ECPv6.15.20//NONSGML v1.0//EN
CALSCALE:GREGORIAN
METHOD:PUBLISH
X-WR-CALNAME:The Museum of Cambridge
X-ORIGINAL-URL:https://www.museumofcambridge.org.uk
X-WR-CALDESC:Events for The Museum of Cambridge
REFRESH-INTERVAL;VALUE=DURATION:PT1H
X-Robots-Tag:noindex
X-PUBLISHED-TTL:PT1H
BEGIN:VTIMEZONE
TZID:Europe/London
BEGIN:DAYLIGHT
TZOFFSETFROM:+0000
TZOFFSETTO:+0100
TZNAME:BST
DTSTART:20200329T010000
END:DAYLIGHT
BEGIN:STANDARD
TZOFFSETFROM:+0100
TZOFFSETTO:+0000
TZNAME:GMT
DTSTART:20201025T010000
END:STANDARD
BEGIN:DAYLIGHT
TZOFFSETFROM:+0000
TZOFFSETTO:+0100
TZNAME:BST
DTSTART:20210328T010000
END:DAYLIGHT
BEGIN:STANDARD
TZOFFSETFROM:+0100
TZOFFSETTO:+0000
TZNAME:GMT
DTSTART:20211031T010000
END:STANDARD
BEGIN:DAYLIGHT
TZOFFSETFROM:+0000
TZOFFSETTO:+0100
TZNAME:BST
DTSTART:20220327T010000
END:DAYLIGHT
BEGIN:STANDARD
TZOFFSETFROM:+0100
TZOFFSETTO:+0000
TZNAME:GMT
DTSTART:20221030T010000
END:STANDARD
END:VTIMEZONE
BEGIN:VEVENT
DTSTART;TZID=Europe/London:20211220T110000
DTEND;TZID=Europe/London:20211222T150000
DTSTAMP:20260426T032909
CREATED:20211206T105746Z
LAST-MODIFIED:20211206T110019Z
UID:7880-1639998000-1640185200@www.museumofcambridge.org.uk
SUMMARY:Festive Storytelling
DESCRIPTION:Cambridge is full of fascinating stories. Are you ready to hear some of them? \nThe days might be shorter and colder\, but we’re not letting that stop us from having fun this December! \nJoin us and professional storyteller and folklorist Chip Colquhoun \, for a series of FREE online sessions for families with children. \nThis time around\, you’ll be hearing stories that match the wintery season: incredible skating feats and a woman trapped in the snow and saved miraculously are just some of the things you will hear in these storytelling sessions. \nThe sessions run for approximately 30 to 45 mins each. They will take place on Monday 20th\, Tuesday 21st\, and Wednesday 22nd of December at 11am and 2pm.  \nYou should book 1 ticket per device you are going to use (i.e. if there are three kids but all of them will watch on the same single device\, you need to book 1 ticket only) \nYou can book your ticket here: https://www.eventbrite.co.uk/e/festive-storytelling-tickets-223213827567 \nThis event is family friendly\, for kids aged 5 and above (although children of all ages are welcome to join in). \nTo attend\, you must sign up choosing a slot\, have a broadband connection and Zoom installed on your computer\, mobile phone\, or tablet. Installing Zoom is free\, and you can access it via any of these devices. \nYou can download Zoom here: https://zoom.us/ \nA link to join the session you’re booked on will be sent to all attendees 20min before the start of the sessions\, so please keep an eye on your emails on the day. \nChildren attending this event must be supervised by an adult at all times. \nAny questions\, please email us on eventbrite@museumofcambridge.org.uk \nWe look forward to seeing you soon! \nThis free event is made possible thanks to a grant by Cambridge City Council and the National Lottery Heritage Fund.
URL:https://www.museumofcambridge.org.uk/event/festive-storytelling/
LOCATION:Cambridgeshire
CATEGORIES:Activity,Museum
ATTACH;FMTTYPE=image/jpeg:https://www.museumofcambridge.org.uk/wp-content/uploads/2021/12/Untitled.jpg
END:VEVENT
END:VCALENDAR