BEGIN:VCALENDAR
VERSION:2.0
PRODID:-//The Museum of Cambridge - ECPv6.15.20//NONSGML v1.0//EN
CALSCALE:GREGORIAN
METHOD:PUBLISH
X-ORIGINAL-URL:https://www.museumofcambridge.org.uk
X-WR-CALDESC:Events for The Museum of Cambridge
REFRESH-INTERVAL;VALUE=DURATION:PT1H
X-Robots-Tag:noindex
X-PUBLISHED-TTL:PT1H
BEGIN:VTIMEZONE
TZID:Europe/London
BEGIN:DAYLIGHT
TZOFFSETFROM:+0000
TZOFFSETTO:+0100
TZNAME:BST
DTSTART:20210328T010000
END:DAYLIGHT
BEGIN:STANDARD
TZOFFSETFROM:+0100
TZOFFSETTO:+0000
TZNAME:GMT
DTSTART:20211031T010000
END:STANDARD
BEGIN:DAYLIGHT
TZOFFSETFROM:+0000
TZOFFSETTO:+0100
TZNAME:BST
DTSTART:20220327T010000
END:DAYLIGHT
BEGIN:STANDARD
TZOFFSETFROM:+0100
TZOFFSETTO:+0000
TZNAME:GMT
DTSTART:20221030T010000
END:STANDARD
BEGIN:DAYLIGHT
TZOFFSETFROM:+0000
TZOFFSETTO:+0100
TZNAME:BST
DTSTART:20230326T010000
END:DAYLIGHT
BEGIN:STANDARD
TZOFFSETFROM:+0100
TZOFFSETTO:+0000
TZNAME:GMT
DTSTART:20231029T010000
END:STANDARD
END:VTIMEZONE
BEGIN:VEVENT
DTSTART;TZID=Europe/London:20220215T100000
DTEND;TZID=Europe/London:20220217T183000
DTSTAMP:20260426T004212
CREATED:20220208T110257Z
LAST-MODIFIED:20220215T100809Z
UID:8172-1644919200-1645122600@www.museumofcambridge.org.uk
SUMMARY:Twilight with the Museums
DESCRIPTION:Get ready to enjoy the museums under a different light this February half-term. Twilight with the Museums is back\, with museums across Cambridge hosting events all week long\, from Monday 14th to Friday 18th of February. \nEach museum will offer a different family-friendly activity\, and here’s what the Museum of Cambridge has prepared for you: \nOn the night of the digital sleepover\, on Wednesday 16th of February\, you can join us for a cook along video where we teach you how to make one of our historic biscuits recipe\, and add a twilight twist to it! \nYou can sign up for the digital sleepover here: https://www.museums.cam.ac.uk/twilight \nIn addition\, on Tuesday 15th and Thursday 17th\, you can come to the museum between 4.30pm and 6.30pm\, and receive a complimentary self-led trail to enjoy the quirkiness of the White Horse Inn after hours.
URL:https://www.museumofcambridge.org.uk/event/twilight-with-the-museums/
LOCATION:The Museum of Cambridge\, 2-3 Castle Street\, Cambridge\, Cambridgeshire\, CB3 0AQ\, United Kingdom
CATEGORIES:Activity,Museum
ATTACH;FMTTYPE=image/jpeg:https://www.museumofcambridge.org.uk/wp-content/uploads/2022/02/event-social-media-banner-100.jpg
END:VEVENT
END:VCALENDAR