BEGIN:VCALENDAR
VERSION:2.0
PRODID:-//The Museum of Cambridge - ECPv6.15.20//NONSGML v1.0//EN
CALSCALE:GREGORIAN
METHOD:PUBLISH
X-ORIGINAL-URL:https://www.museumofcambridge.org.uk
X-WR-CALDESC:Events for The Museum of Cambridge
REFRESH-INTERVAL;VALUE=DURATION:PT1H
X-Robots-Tag:noindex
X-PUBLISHED-TTL:PT1H
BEGIN:VTIMEZONE
TZID:Europe/London
BEGIN:DAYLIGHT
TZOFFSETFROM:+0000
TZOFFSETTO:+0100
TZNAME:BST
DTSTART:20210328T010000
END:DAYLIGHT
BEGIN:STANDARD
TZOFFSETFROM:+0100
TZOFFSETTO:+0000
TZNAME:GMT
DTSTART:20211031T010000
END:STANDARD
BEGIN:DAYLIGHT
TZOFFSETFROM:+0000
TZOFFSETTO:+0100
TZNAME:BST
DTSTART:20220327T010000
END:DAYLIGHT
BEGIN:STANDARD
TZOFFSETFROM:+0100
TZOFFSETTO:+0000
TZNAME:GMT
DTSTART:20221030T010000
END:STANDARD
BEGIN:DAYLIGHT
TZOFFSETFROM:+0000
TZOFFSETTO:+0100
TZNAME:BST
DTSTART:20230326T010000
END:DAYLIGHT
BEGIN:STANDARD
TZOFFSETFROM:+0100
TZOFFSETTO:+0000
TZNAME:GMT
DTSTART:20231029T010000
END:STANDARD
END:VTIMEZONE
BEGIN:VEVENT
DTSTART;TZID=Europe/London:20220530T160000
DTEND;TZID=Europe/London:20220530T180000
DTSTAMP:20260425T202021
CREATED:20220518T131004Z
LAST-MODIFIED:20220518T141253Z
UID:8325-1653926400-1653933600@www.museumofcambridge.org.uk
SUMMARY:Arbury Carnival - Community Event
DESCRIPTION:Join us in Arbury to create memories (and bunting)! \n  \nThe Museum of Cambridge’s Arbury Carnival festivities kick off on the 30th May we will be hosting a community workshop in Arbury Community Centre. \nAre you an Arbury resident who just can’t wait for the Arbury Carnival? Neither can we! In the meantime\, why not join us for an afternoon of fun\, chatter\, and crafts\, whilst we talk all things Arbury?  \nIn this FREE\, family-friendly workshop\, you will be using different materials (such as markers\, stencils\, and embroidery)\, to make your very own Arbury bunting.  \nThe best thing is that you will then be able to see your bunting\, along with everyone else’s\, displayed at the Carnival. \nThe workshop is suitable for all ages and abilities. No skills or expertise are required. – only enthusiasm. \nTo book please select one of the four slots available. Please secure a ticket for each person attending. \nEveryone is welcome! Please let us know if you require any additional assistance by emailing enquiries@museumofcambridge.org.uk \n  \nThis project is made possible by the National Lottery Heritage Fund. \n  \nTickets available now. \n  \nRegister here
URL:https://www.museumofcambridge.org.uk/event/arbury-carnival-community-event/
LOCATION:Arbury Community Centre\, Campkin Road\, Cambridge\, Cambridgeshire\, CB4 2LD\, United Kingdom
CATEGORIES:Activity
ATTACH;FMTTYPE=image/jpeg:https://www.museumofcambridge.org.uk/wp-content/uploads/2022/05/MOC_AF_FB_Banner.jpg
END:VEVENT
END:VCALENDAR