BEGIN:VCALENDAR
VERSION:2.0
PRODID:-//The Museum of Cambridge - ECPv6.15.20//NONSGML v1.0//EN
CALSCALE:GREGORIAN
METHOD:PUBLISH
X-ORIGINAL-URL:https://www.museumofcambridge.org.uk
X-WR-CALDESC:Events for The Museum of Cambridge
REFRESH-INTERVAL;VALUE=DURATION:PT1H
X-Robots-Tag:noindex
X-PUBLISHED-TTL:PT1H
BEGIN:VTIMEZONE
TZID:Europe/London
BEGIN:DAYLIGHT
TZOFFSETFROM:+0000
TZOFFSETTO:+0100
TZNAME:BST
DTSTART:20210328T010000
END:DAYLIGHT
BEGIN:STANDARD
TZOFFSETFROM:+0100
TZOFFSETTO:+0000
TZNAME:GMT
DTSTART:20211031T010000
END:STANDARD
BEGIN:DAYLIGHT
TZOFFSETFROM:+0000
TZOFFSETTO:+0100
TZNAME:BST
DTSTART:20220327T010000
END:DAYLIGHT
BEGIN:STANDARD
TZOFFSETFROM:+0100
TZOFFSETTO:+0000
TZNAME:GMT
DTSTART:20221030T010000
END:STANDARD
BEGIN:DAYLIGHT
TZOFFSETFROM:+0000
TZOFFSETTO:+0100
TZNAME:BST
DTSTART:20230326T010000
END:DAYLIGHT
BEGIN:STANDARD
TZOFFSETFROM:+0100
TZOFFSETTO:+0000
TZNAME:GMT
DTSTART:20231029T010000
END:STANDARD
END:VTIMEZONE
BEGIN:VEVENT
DTSTART;TZID=Europe/London:20221029T100000
DTEND;TZID=Europe/London:20221029T150000
DTSTAMP:20260425T124730
CREATED:20221003T160123Z
LAST-MODIFIED:20221003T161326Z
UID:9148-1667037600-1667055600@www.museumofcambridge.org.uk
SUMMARY:Halloween Hijinks!
DESCRIPTION:Come along to our Halloween Hijinks! \nDress up for our fancy dress parade! \nListen to Spooky storytelling with Chip (from 2-3pm\, please click on the link below to register for your free ticket!)\, \nmake pumpkins\, bats and ghosts in our arts and crafts session! \n Enjoy our children’s Halloween trails around the Museum. \nAll ages welcome! \nJust pop in to The Museum of Cambridge anytime between 10am – 3pm on the 29th October! \nDon’t forget to leave us your email to keep up to date with all our events!
URL:https://www.museumofcambridge.org.uk/event/halloween-hijinks/
LOCATION:Enid Porter Room\, Museum of Cambridge\, 2-3 Castle Street\, Cambridge\, Cambridgeshire\, CB3 0AQ\, United Kingdom
CATEGORIES:Activity,Ghost Hunts,Museum
ATTACH;FMTTYPE=image/jpeg:https://www.museumofcambridge.org.uk/wp-content/uploads/2021/10/IMG-2894.jpg
END:VEVENT
END:VCALENDAR