BEGIN:VCALENDAR
VERSION:2.0
PRODID:-//The Museum of Cambridge - ECPv6.15.20//NONSGML v1.0//EN
CALSCALE:GREGORIAN
METHOD:PUBLISH
X-WR-CALNAME:The Museum of Cambridge
X-ORIGINAL-URL:https://www.museumofcambridge.org.uk
X-WR-CALDESC:Events for The Museum of Cambridge
REFRESH-INTERVAL;VALUE=DURATION:PT1H
X-Robots-Tag:noindex
X-PUBLISHED-TTL:PT1H
BEGIN:VTIMEZONE
TZID:Europe/London
BEGIN:DAYLIGHT
TZOFFSETFROM:+0000
TZOFFSETTO:+0100
TZNAME:BST
DTSTART:20220327T010000
END:DAYLIGHT
BEGIN:STANDARD
TZOFFSETFROM:+0100
TZOFFSETTO:+0000
TZNAME:GMT
DTSTART:20221030T010000
END:STANDARD
BEGIN:DAYLIGHT
TZOFFSETFROM:+0000
TZOFFSETTO:+0100
TZNAME:BST
DTSTART:20230326T010000
END:DAYLIGHT
BEGIN:STANDARD
TZOFFSETFROM:+0100
TZOFFSETTO:+0000
TZNAME:GMT
DTSTART:20231029T010000
END:STANDARD
BEGIN:DAYLIGHT
TZOFFSETFROM:+0000
TZOFFSETTO:+0100
TZNAME:BST
DTSTART:20240331T010000
END:DAYLIGHT
BEGIN:STANDARD
TZOFFSETFROM:+0100
TZOFFSETTO:+0000
TZNAME:GMT
DTSTART:20241027T010000
END:STANDARD
END:VTIMEZONE
BEGIN:VEVENT
DTSTART;TZID=Europe/London:20230529T100000
DTEND;TZID=Europe/London:20230604T170000
DTSTAMP:20260422T232645
CREATED:20230328T123927Z
LAST-MODIFIED:20230328T123927Z
UID:9988-1685354400-1685898000@www.museumofcambridge.org.uk
SUMMARY:May Half Term
DESCRIPTION:New Half term trails! \nDiscover the different stories in our collection \nSuitable for ages 3+ \nDrop in to the Museum to discover our new trails. \nAdmission Fee applies\, Children are free! \n 
URL:https://www.museumofcambridge.org.uk/event/may-half-term/
LOCATION:The Museum of Cambridge\, 2-3 Castle Street\, Cambridge\, Cambridgeshire\, CB3 0AQ\, United Kingdom
CATEGORIES:Activity,Arts and Crafts,Museum
ATTACH;FMTTYPE=image/jpeg:https://www.museumofcambridge.org.uk/wp-content/uploads/2023/03/Museum-of-Cambridge-boot-and-little-feet-scaled.jpg
END:VEVENT
BEGIN:VEVENT
DTSTART;TZID=Europe/London:20230602T130000
DTEND;TZID=Europe/London:20230602T150000
DTSTAMP:20260422T232645
CREATED:20230503T123152Z
LAST-MODIFIED:20230510T144310Z
UID:10183-1685710800-1685718000@www.museumofcambridge.org.uk
SUMMARY:Royal Folktale Fables
DESCRIPTION:Join us for royal storytelling\, arts and crafts! \nBe blown away with interactive stories by Chip from EpicTales. \nMake your own royal portrait\, recreate the coronation scene and decorate some street party bunting. \nSuitable for ages 3+ \nBook a ticket for you and your little one by clicking the link \nAccessibility  \nYou can read about our accessibility information on our website. If you’d like to chat through any accessibility requirements\, don’t hesitate to give us a call on 01223 355159 or email alex.smaridge@museumofcambridge.org.uk. Event attendees with additional needs are welcome to bring a supporter or carer who will be admitted to the event free of charge.   \nGetting Here  \nWe are in the centre of Cambridge. You’ll find us at the corner of Castle Street and Northampton Street. We are right beside Kettle’s Yard and only a 15-minute walk from King’s College.   \nYou can park your bike at the bike parks on Bridge Street or on Northampton Street. There is a bus stop on Bridge Street. Check out the Stagecoach website to plan your journey to and from the Museum. Find out more about how to get here by train\, bike\, bus\, car or on foot on our website.  \nPhotography  \nPlease note that photographs will be taken throughout this event\, and images may be used in future marketing and reporting materials. If you do not wish you or your family’s photograph to be taken\, please make sure to let us know.  \nHealthy Events  \nIf you’re feeling unwell or have recently tested positive for Covid-19\, please do not attend this event. We’ll be happy to offer you a refund if applicable\, and welcome you to the Museum on another day.  \nLove events? Love them even more when they’re free? Join the Friends of the Museum of Cambridge today and you’ll get access to free and discounted events\, discounts in our shop and year-round free entry for you and a guest. 
URL:https://www.museumofcambridge.org.uk/event/royal-folktale-fables/
LOCATION:Enid Porter Room\, Museum of Cambridge\, 2-3 Castle Street\, Cambridge\, Cambridgeshire\, CB3 0AQ\, United Kingdom
CATEGORIES:Activity,Arts and Crafts,Museum
ATTACH;FMTTYPE=image/jpeg:https://www.museumofcambridge.org.uk/wp-content/uploads/2023/05/Coronation-storytelling-1.jpg
END:VEVENT
BEGIN:VEVENT
DTSTART;TZID=Europe/London:20230622T100000
DTEND;TZID=Europe/London:20230622T113000
DTSTAMP:20260422T232645
CREATED:20230510T100757Z
LAST-MODIFIED:20230608T152039Z
UID:10225-1687428000-1687433400@www.museumofcambridge.org.uk
SUMMARY:Little Feet\, Big Impressions
DESCRIPTION:Come along to these free\, fun and interactive sessions for your 1-5 year olds.  \nCatch up with friends and make new ones with coffee\, tea\, and biscuits while your Little ones play musical instruments\, make some arts and crafts and play with other children. \n A chance to meet chat\, make friends and entertain your small people.  \nRefreshments will be provided. Changing facilities available.  \nSmaller siblings also welcome to attend\, please book both parents and childrens tickets. \nPushchairs are welcome but need to fit through a standard door frame.
URL:https://www.museumofcambridge.org.uk/event/little-feet-big-impressions-20/
LOCATION:Enid Porter Room\, Museum of Cambridge\, 2-3 Castle Street\, Cambridge\, Cambridgeshire\, CB3 0AQ\, United Kingdom
CATEGORIES:Activity,Arts and Crafts,Museum
ATTACH;FMTTYPE=image/jpeg:https://www.museumofcambridge.org.uk/wp-content/uploads/2022/05/Museum-of-Cambridge-1-76-scaled.jpg
END:VEVENT
BEGIN:VEVENT
DTSTART;TZID=Europe/London:20230629T100000
DTEND;TZID=Europe/London:20230629T113000
DTSTAMP:20260422T232645
CREATED:20230616T112945Z
LAST-MODIFIED:20230616T112945Z
UID:10379-1688032800-1688038200@www.museumofcambridge.org.uk
SUMMARY:Little Feet\, Big Impressions
DESCRIPTION:Come along to these free\, fun and interactive sessions for your 1-5 year olds.  \nCatch up with friends and make new ones with coffee\, tea\, and biscuits while your Little ones play musical instruments\, make some arts and crafts and play with other children. \n A chance to meet chat\, make friends and entertain your small people.  \nRefreshments will be provided. Changing facilities available.  \nSmaller siblings also welcome to attend\, please book both parents and childrens tickets. \nPushchairs are welcome but need to fit through a standard door frame.
URL:https://www.museumofcambridge.org.uk/event/little-feet-big-impressions-27/
LOCATION:Enid Porter Room\, Museum of Cambridge\, 2-3 Castle Street\, Cambridge\, Cambridgeshire\, CB3 0AQ\, United Kingdom
CATEGORIES:Activity,Arts and Crafts,Museum
ATTACH;FMTTYPE=image/jpeg:https://www.museumofcambridge.org.uk/wp-content/uploads/2022/05/Museum-of-Cambridge-1-76-scaled.jpg
END:VEVENT
END:VCALENDAR