BEGIN:VCALENDAR
VERSION:2.0
PRODID:-//The Museum of Cambridge - ECPv6.15.20//NONSGML v1.0//EN
CALSCALE:GREGORIAN
METHOD:PUBLISH
X-WR-CALNAME:The Museum of Cambridge
X-ORIGINAL-URL:https://www.museumofcambridge.org.uk
X-WR-CALDESC:Events for The Museum of Cambridge
REFRESH-INTERVAL;VALUE=DURATION:PT1H
X-Robots-Tag:noindex
X-PUBLISHED-TTL:PT1H
BEGIN:VTIMEZONE
TZID:Europe/London
BEGIN:DAYLIGHT
TZOFFSETFROM:+0000
TZOFFSETTO:+0100
TZNAME:BST
DTSTART:20220327T010000
END:DAYLIGHT
BEGIN:STANDARD
TZOFFSETFROM:+0100
TZOFFSETTO:+0000
TZNAME:GMT
DTSTART:20221030T010000
END:STANDARD
BEGIN:DAYLIGHT
TZOFFSETFROM:+0000
TZOFFSETTO:+0100
TZNAME:BST
DTSTART:20230326T010000
END:DAYLIGHT
BEGIN:STANDARD
TZOFFSETFROM:+0100
TZOFFSETTO:+0000
TZNAME:GMT
DTSTART:20231029T010000
END:STANDARD
BEGIN:DAYLIGHT
TZOFFSETFROM:+0000
TZOFFSETTO:+0100
TZNAME:BST
DTSTART:20240331T010000
END:DAYLIGHT
BEGIN:STANDARD
TZOFFSETFROM:+0100
TZOFFSETTO:+0000
TZNAME:GMT
DTSTART:20241027T010000
END:STANDARD
END:VTIMEZONE
BEGIN:VEVENT
DTSTART;TZID=Europe/London:20230706T100000
DTEND;TZID=Europe/London:20230706T113000
DTSTAMP:20260422T214227
CREATED:20230510T100909Z
LAST-MODIFIED:20230608T151907Z
UID:10228-1688637600-1688643000@www.museumofcambridge.org.uk
SUMMARY:Little Feet\, Big Impressions
DESCRIPTION:Come along to these free\, fun and interactive sessions for your 1-5 year olds.  \nCatch up with friends and make new ones with coffee\, tea\, and biscuits while your Little ones play musical instruments\, make some arts and crafts and play with other children. \n A chance to meet chat\, make friends and entertain your small people.  \nRefreshments will be provided. Changing facilities available.  \nSmaller siblings also welcome to attend\, please book both parents and childrens tickets. \nPushchairs are welcome but need to fit through a standard door frame.
URL:https://www.museumofcambridge.org.uk/event/little-feet-big-impressions-21/
LOCATION:Enid Porter Room\, Museum of Cambridge\, 2-3 Castle Street\, Cambridge\, Cambridgeshire\, CB3 0AQ\, United Kingdom
CATEGORIES:Activity,Arts and Crafts,Museum
ATTACH;FMTTYPE=image/jpeg:https://www.museumofcambridge.org.uk/wp-content/uploads/2022/05/Museum-of-Cambridge-1-76-scaled.jpg
END:VEVENT
BEGIN:VEVENT
DTSTART;TZID=Europe/London:20230720T100000
DTEND;TZID=Europe/London:20230720T113000
DTSTAMP:20260422T214227
CREATED:20230510T101024Z
LAST-MODIFIED:20230608T151831Z
UID:10230-1689847200-1689852600@www.museumofcambridge.org.uk
SUMMARY:Little Feet\, Big Impressions
DESCRIPTION:Come along to these free\, fun and interactive sessions for your 1-5 year olds.  \nCatch up with friends and make new ones with coffee\, tea\, and biscuits while your Little ones play musical instruments\, make some arts and crafts and play with other children. \n A chance to meet chat\, make friends and entertain your small people.  \nRefreshments will be provided. Changing facilities available.  \nSmaller siblings also welcome to attend\, please book both parents and childrens tickets. \nPushchairs are welcome but need to fit through a standard door frame.
URL:https://www.museumofcambridge.org.uk/event/little-feet-big-impressions-22/
LOCATION:Enid Porter Room\, Museum of Cambridge\, 2-3 Castle Street\, Cambridge\, Cambridgeshire\, CB3 0AQ\, United Kingdom
CATEGORIES:Activity,Arts and Crafts,Museum
ATTACH;FMTTYPE=image/jpeg:https://www.museumofcambridge.org.uk/wp-content/uploads/2022/05/Museum-of-Cambridge-1-76-scaled.jpg
END:VEVENT
BEGIN:VEVENT
DTSTART;TZID=Europe/London:20230724T100000
DTEND;TZID=Europe/London:20230724T120000
DTSTAMP:20260422T214227
CREATED:20230714T094423Z
LAST-MODIFIED:20230714T094423Z
UID:10561-1690192800-1690200000@www.museumofcambridge.org.uk
SUMMARY:My Mini Museum Makers - Workshop for Families
DESCRIPTION:Join us for a family-friendly workshop and get crafting your very own Mini Museum!\nMini Museums are back at the Museum of Cambridge for summer 2023! \nInspired by the creativity of nearly 3000 individuals in January and February 2023\, we’re once again calling the residents of Cambridgeshire to celebrate the place they call home – in miniature! \nJoin a workshop during the summer holidays to create a brilliant mini-exhibition about what you love most about Cambridgeshire today: its people\, places and stories. Be inspired by objects from the Museum’s collection while you tell your own story through your Mini Museum. \nWhat: A hands-on workshop where you can make a miniature Museum about your favourite places in Cambridgeshire. \nWhen:\n24th Juy 10 am and 2 pm\n25th July 10 am\n7th August 10 am and 2 pm\n8th August 10 am\n21st August 10 am and 2 pm\n22nd August 10 am \nWhere: The Museum of Cambridge. \nBook: https://www.eventbrite.co.uk/e/my-mini-museum-makers-workshop-for-families-tickets-668070024427?aff=oddtdtcreator  \nCan you help us build an exhibition all about what you love in Cambridgeshire?  \nThis summer\, you will be able to share your Mini Museum in a major exhibition at the Museum of Cambridge! Mini Museums will be on display as part of the exhibition from the 7th of August to the 31st of September 2023!  All those who have created a Mini Museum will be able to share it with us to make it part of the exhibition. For more details on how to share your mini museum with us visit: My Mini Museum & Your Exhibit To Go In It! – The Museum of Cambridge \nSuitable for children aged 6 and above and their families. \nBooking is essential\, and you can reserve your free places using the Eventbrite link below\, or should you prefer\, do feel free to email us directly: sarah.hutton@museumofcambridge.org.uk. \nFor more information about the My Mini Museum project\, take a look at our website here. \n Accessibility You can also read about our accessibility information on our website. If you’d like to chat through any accessibility requirements\, don’t hesitate to give us a call on 01223 355159 or email sarah.hutton@museumofcambridge.org.uk. Event attendees with additional needs are welcome to bring a supporter or carer who will be admitted to the event free of charge.   \nGetting Here We are in the centre of Cambridge. You’ll find us at the corner of Castle Street and Northampton Street. We are right beside Kettle’s Yard and only a 15-minute walk from King’s College.  \nYou can park your bike at the bike parks on Bridge Street or on Northampton Street. There is a bus stop on Bridge Street. Check out the Stagecoach website to plan your journey to and from the Museum. Find out more about how to get here by train\, bike\, bus\, car or on foot on our website.  \nPhotography Please note that photographs will be taken throughout this event\, and images may be used in future marketing and reporting materials. If you do not wish you or your family’s photograph to be taken\, please make sure to let us know.  \nHealthy Events If you’re feeling unwell or have recently tested positive for Covid-19\, please do not attend this event. We’ll be happy to offer you a refund if applicable and welcome you at the Museum on another day.  \nLove events? Love them even more when they’re free? Join the Friends of the Museum of Cambridge today and you’ll get access to free events\, discounts in our shop and year-round free entry for you and a guest.  \nA big thank you to the National Lottery Heritage Fund and Cambridge City Council for making this project possible.  \nThis project is completely free to all participants. However\, if you would like to make a donation to support the work of the Museum\, we would be very grateful. Your generosity will support us to run even more special events for the local community. Donations can be made online or by cheque. Thank you!
URL:https://www.museumofcambridge.org.uk/event/my-mini-museum-makers-workshop-for-families-5/
LOCATION:Enid Porter Room\, Museum of Cambridge\, 2-3 Castle Street\, Cambridge\, Cambridgeshire\, CB3 0AQ\, United Kingdom
CATEGORIES:Activity,Arts and Crafts,Exhibition,Museum
ATTACH;FMTTYPE=image/jpeg:https://www.museumofcambridge.org.uk/wp-content/uploads/2023/01/Cambridge-Museum-Sept-2021-LOW-228-1-scaled.jpg
END:VEVENT
BEGIN:VEVENT
DTSTART;TZID=Europe/London:20230724T120000
DTEND;TZID=Europe/London:20230724T140000
DTSTAMP:20260422T214227
CREATED:20230714T094647Z
LAST-MODIFIED:20230714T094647Z
UID:10565-1690200000-1690207200@www.museumofcambridge.org.uk
SUMMARY:My Mini Museum Makers - Workshop for Families
DESCRIPTION:Join us for a family-friendly workshop and get crafting your very own Mini Museum!\nMini Museums are back at the Museum of Cambridge for summer 2023! \nInspired by the creativity of nearly 3000 individuals in January and February 2023\, we’re once again calling the residents of Cambridgeshire to celebrate the place they call home – in miniature! \nJoin a workshop during the summer holidays to create a brilliant mini-exhibition about what you love most about Cambridgeshire today: its people\, places and stories. Be inspired by objects from the Museum’s collection while you tell your own story through your Mini Museum. \nWhat: A hands-on workshop where you can make a miniature Museum about your favourite places in Cambridgeshire. \nWhen:\n24th Juy 10 am and 2 pm\n25th July 10 am\n7th August 10 am and 2 pm\n8th August 10 am\n21st August 10 am and 2 pm\n22nd August 10 am \nWhere: The Museum of Cambridge. \nBook: https://www.eventbrite.co.uk/e/my-mini-museum-makers-workshop-for-families-tickets-668070024427?aff=oddtdtcreator  \nCan you help us build an exhibition all about what you love in Cambridgeshire?  \nThis summer\, you will be able to share your Mini Museum in a major exhibition at the Museum of Cambridge! Mini Museums will be on display as part of the exhibition from the 7th of August to the 31st of September 2023!  All those who have created a Mini Museum will be able to share it with us to make it part of the exhibition. For more details on how to share your mini museum with us visit: My Mini Museum & Your Exhibit To Go In It! – The Museum of Cambridge \nSuitable for children aged 6 and above and their families. \nBooking is essential\, and you can reserve your free places using the Eventbrite link below\, or should you prefer\, do feel free to email us directly: sarah.hutton@museumofcambridge.org.uk. \nFor more information about the My Mini Museum project\, take a look at our website here. \n Accessibility You can also read about our accessibility information on our website. If you’d like to chat through any accessibility requirements\, don’t hesitate to give us a call on 01223 355159 or email sarah.hutton@museumofcambridge.org.uk. Event attendees with additional needs are welcome to bring a supporter or carer who will be admitted to the event free of charge.   \nGetting Here We are in the centre of Cambridge. You’ll find us at the corner of Castle Street and Northampton Street. We are right beside Kettle’s Yard and only a 15-minute walk from King’s College.  \nYou can park your bike at the bike parks on Bridge Street or on Northampton Street. There is a bus stop on Bridge Street. Check out the Stagecoach website to plan your journey to and from the Museum. Find out more about how to get here by train\, bike\, bus\, car or on foot on our website.  \nPhotography Please note that photographs will be taken throughout this event\, and images may be used in future marketing and reporting materials. If you do not wish you or your family’s photograph to be taken\, please make sure to let us know.  \nHealthy Events If you’re feeling unwell or have recently tested positive for Covid-19\, please do not attend this event. We’ll be happy to offer you a refund if applicable and welcome you at the Museum on another day.  \nLove events? Love them even more when they’re free? Join the Friends of the Museum of Cambridge today and you’ll get access to free events\, discounts in our shop and year-round free entry for you and a guest.  \nA big thank you to the National Lottery Heritage Fund and Cambridge City Council for making this project possible.  \nThis project is completely free to all participants. However\, if you would like to make a donation to support the work of the Museum\, we would be very grateful. Your generosity will support us to run even more special events for the local community. Donations can be made online or by cheque. Thank you!
URL:https://www.museumofcambridge.org.uk/event/my-mini-museum-makers-workshop-for-families-6/
LOCATION:Enid Porter Room\, Museum of Cambridge\, 2-3 Castle Street\, Cambridge\, Cambridgeshire\, CB3 0AQ\, United Kingdom
CATEGORIES:Activity,Arts and Crafts,Exhibition,Museum
ATTACH;FMTTYPE=image/jpeg:https://www.museumofcambridge.org.uk/wp-content/uploads/2023/01/Cambridge-Museum-Sept-2021-LOW-228-1-scaled.jpg
END:VEVENT
BEGIN:VEVENT
DTSTART;TZID=Europe/London:20230725T100000
DTEND;TZID=Europe/London:20230725T120000
DTSTAMP:20260422T214227
CREATED:20230714T094725Z
LAST-MODIFIED:20230714T094725Z
UID:10567-1690279200-1690286400@www.museumofcambridge.org.uk
SUMMARY:My Mini Museum Makers - Workshop for Families
DESCRIPTION:Join us for a family-friendly workshop and get crafting your very own Mini Museum!\nMini Museums are back at the Museum of Cambridge for summer 2023! \nInspired by the creativity of nearly 3000 individuals in January and February 2023\, we’re once again calling the residents of Cambridgeshire to celebrate the place they call home – in miniature! \nJoin a workshop during the summer holidays to create a brilliant mini-exhibition about what you love most about Cambridgeshire today: its people\, places and stories. Be inspired by objects from the Museum’s collection while you tell your own story through your Mini Museum. \nWhat: A hands-on workshop where you can make a miniature Museum about your favourite places in Cambridgeshire. \nWhen:\n24th Juy 10 am and 2 pm\n25th July 10 am\n7th August 10 am and 2 pm\n8th August 10 am\n21st August 10 am and 2 pm\n22nd August 10 am \nWhere: The Museum of Cambridge. \nBook: https://www.eventbrite.co.uk/e/my-mini-museum-makers-workshop-for-families-tickets-668070024427?aff=oddtdtcreator  \nCan you help us build an exhibition all about what you love in Cambridgeshire?  \nThis summer\, you will be able to share your Mini Museum in a major exhibition at the Museum of Cambridge! Mini Museums will be on display as part of the exhibition from the 7th of August to the 31st of September 2023!  All those who have created a Mini Museum will be able to share it with us to make it part of the exhibition. For more details on how to share your mini museum with us visit: My Mini Museum & Your Exhibit To Go In It! – The Museum of Cambridge \nSuitable for children aged 6 and above and their families. \nBooking is essential\, and you can reserve your free places using the Eventbrite link below\, or should you prefer\, do feel free to email us directly: sarah.hutton@museumofcambridge.org.uk. \nFor more information about the My Mini Museum project\, take a look at our website here. \n Accessibility You can also read about our accessibility information on our website. If you’d like to chat through any accessibility requirements\, don’t hesitate to give us a call on 01223 355159 or email sarah.hutton@museumofcambridge.org.uk. Event attendees with additional needs are welcome to bring a supporter or carer who will be admitted to the event free of charge.   \nGetting Here We are in the centre of Cambridge. You’ll find us at the corner of Castle Street and Northampton Street. We are right beside Kettle’s Yard and only a 15-minute walk from King’s College.  \nYou can park your bike at the bike parks on Bridge Street or on Northampton Street. There is a bus stop on Bridge Street. Check out the Stagecoach website to plan your journey to and from the Museum. Find out more about how to get here by train\, bike\, bus\, car or on foot on our website.  \nPhotography Please note that photographs will be taken throughout this event\, and images may be used in future marketing and reporting materials. If you do not wish you or your family’s photograph to be taken\, please make sure to let us know.  \nHealthy Events If you’re feeling unwell or have recently tested positive for Covid-19\, please do not attend this event. We’ll be happy to offer you a refund if applicable and welcome you at the Museum on another day.  \nLove events? Love them even more when they’re free? Join the Friends of the Museum of Cambridge today and you’ll get access to free events\, discounts in our shop and year-round free entry for you and a guest.  \nA big thank you to the National Lottery Heritage Fund and Cambridge City Council for making this project possible.  \nThis project is completely free to all participants. However\, if you would like to make a donation to support the work of the Museum\, we would be very grateful. Your generosity will support us to run even more special events for the local community. Donations can be made online or by cheque. Thank you!
URL:https://www.museumofcambridge.org.uk/event/my-mini-museum-makers-workshop-for-families-7/
LOCATION:Enid Porter Room\, Museum of Cambridge\, 2-3 Castle Street\, Cambridge\, Cambridgeshire\, CB3 0AQ\, United Kingdom
CATEGORIES:Activity,Arts and Crafts,Exhibition,Museum
ATTACH;FMTTYPE=image/jpeg:https://www.museumofcambridge.org.uk/wp-content/uploads/2023/01/Cambridge-Museum-Sept-2021-LOW-228-1-scaled.jpg
END:VEVENT
BEGIN:VEVENT
DTSTART;TZID=Europe/London:20230727T100000
DTEND;TZID=Europe/London:20230727T113000
DTSTAMP:20260422T214227
CREATED:20230616T110835Z
LAST-MODIFIED:20230616T121726Z
UID:10369-1690452000-1690457400@www.museumofcambridge.org.uk
SUMMARY:Little Feet\, Big Impressions
DESCRIPTION:Come along to these free\, fun and interactive sessions for your 1-5 year olds.  \nCatch up with friends and make new ones with coffee\, tea\, and biscuits while your little ones play musical instruments\, make arts and crafts and play with other children. \n A chance to meet chat\, make friends and entertain your small people.  \nRefreshments will be provided. Changing facilities available.  \nSmaller siblings also welcome to attend\, please book both parents and carers and children’s tickets. \nPushchairs are welcome but will need to fit through a standard door frame.
URL:https://www.museumofcambridge.org.uk/event/little-feet-big-impressions-28/
LOCATION:Enid Porter Room\, Museum of Cambridge\, 2-3 Castle Street\, Cambridge\, Cambridgeshire\, CB3 0AQ\, United Kingdom
CATEGORIES:Activity,Arts and Crafts,Museum
ATTACH;FMTTYPE=image/jpeg:https://www.museumofcambridge.org.uk/wp-content/uploads/2022/05/Museum-of-Cambridge-1-76-scaled.jpg
END:VEVENT
END:VCALENDAR