BEGIN:VCALENDAR
VERSION:2.0
PRODID:-//The Museum of Cambridge - ECPv6.15.20//NONSGML v1.0//EN
CALSCALE:GREGORIAN
METHOD:PUBLISH
X-ORIGINAL-URL:https://www.museumofcambridge.org.uk
X-WR-CALDESC:Events for The Museum of Cambridge
REFRESH-INTERVAL;VALUE=DURATION:PT1H
X-Robots-Tag:noindex
X-PUBLISHED-TTL:PT1H
BEGIN:VTIMEZONE
TZID:Europe/London
BEGIN:DAYLIGHT
TZOFFSETFROM:+0000
TZOFFSETTO:+0100
TZNAME:BST
DTSTART:20230326T010000
END:DAYLIGHT
BEGIN:STANDARD
TZOFFSETFROM:+0100
TZOFFSETTO:+0000
TZNAME:GMT
DTSTART:20231029T010000
END:STANDARD
BEGIN:DAYLIGHT
TZOFFSETFROM:+0000
TZOFFSETTO:+0100
TZNAME:BST
DTSTART:20240331T010000
END:DAYLIGHT
BEGIN:STANDARD
TZOFFSETFROM:+0100
TZOFFSETTO:+0000
TZNAME:GMT
DTSTART:20241027T010000
END:STANDARD
BEGIN:DAYLIGHT
TZOFFSETFROM:+0000
TZOFFSETTO:+0100
TZNAME:BST
DTSTART:20250330T010000
END:DAYLIGHT
BEGIN:STANDARD
TZOFFSETFROM:+0100
TZOFFSETTO:+0000
TZNAME:GMT
DTSTART:20251026T010000
END:STANDARD
END:VTIMEZONE
BEGIN:VEVENT
DTSTART;TZID=Europe/London:20240405T110000
DTEND;TZID=Europe/London:20240405T160000
DTSTAMP:20260422T064815
CREATED:20240312T155617Z
LAST-MODIFIED:20240312T155617Z
UID:11401-1712314800-1712332800@www.museumofcambridge.org.uk
SUMMARY:Vintage Flower Making and Drawing Drop-In Craft
DESCRIPTION:Come and celebrate spring and Easter with flowers. Make vintage-style cards and 3D flowers using real drawing lessons from vintage lesson cards to help you draw flowers and insects! \nThis event is suitable for children ages 6 and above with an accompanying adult. Younger siblings are welcome to attend. \n  \nDates: \nSaturday 16th March\nSaturday 23rd March\nSunday 24th March\nFriday 29th March\nFriday 5th April \nTimes: \n11 AM – 4 PM \nTickets: \nThere is no need to book a ticket for this event. It is a drop-in activity in our Enid Porter Room. \nPlace:\nThe Enid Porter Room\nAt the Museum of Cambridge\n2-3 Castle Street\nCambridge\nCb3 0AQ \nAccessibility \nThe Enid Porter Room has level access into the space. You can also read about our accessibility information on our website. If you’d like to chat through any accessibility requirements\, don’t hesitate to give us a call on 01223 355159 or email enquiries@museumofcambridge.org.uk. Event attendees with additional needs are welcome to bring a supporter or carer who will be admitted to the event free of charge. \nGetting Here \nWe are in the centre of Cambridge. You’ll find us at the corner of Castle Street and Northampton Street. We are right beside Kettle’s Yard and only a 15-minute walk from King’s College. \nYou can park your bike at the bike parks on Bridge Street or on Northampton Street. There is a bus stop on Bridge Street. Check out the Stagecoach website to plan your journey to and from the Museum. Find out more about how to get here by train\, bike\, bus\, car or on foot on our website. \nPhotography \nPlease note that photographs will be taken throughout this event\, and images may be used in future marketing and reporting materials. If you do not wish your or your family’s photograph to be taken\, please make sure to let us know. \nHealthy Events \nIf you’re feeling unwell or have recently tested positive for Covid-19\, please do not attend this event. We’ll be happy to offer you a refund if applicable and welcome you at the Museum on another day.
URL:https://www.museumofcambridge.org.uk/event/vintage-flower-making-and-drawing-drop-in-craft-5/
LOCATION:Enid Porter Room\, Museum of Cambridge\, 2-3 Castle Street\, Cambridge\, Cambridgeshire\, CB3 0AQ\, United Kingdom
CATEGORIES:Activity,Arts and Crafts
ATTACH;FMTTYPE=image/jpeg:https://www.museumofcambridge.org.uk/wp-content/uploads/2024/03/thumbnail_image0.jpg
END:VEVENT
END:VCALENDAR