BEGIN:VCALENDAR
VERSION:2.0
PRODID:-//The Museum of Cambridge - ECPv6.15.20//NONSGML v1.0//EN
CALSCALE:GREGORIAN
METHOD:PUBLISH
X-WR-CALNAME:The Museum of Cambridge
X-ORIGINAL-URL:https://www.museumofcambridge.org.uk
X-WR-CALDESC:Events for The Museum of Cambridge
REFRESH-INTERVAL;VALUE=DURATION:PT1H
X-Robots-Tag:noindex
X-PUBLISHED-TTL:PT1H
BEGIN:VTIMEZONE
TZID:Europe/London
BEGIN:DAYLIGHT
TZOFFSETFROM:+0000
TZOFFSETTO:+0100
TZNAME:BST
DTSTART:20230326T010000
END:DAYLIGHT
BEGIN:STANDARD
TZOFFSETFROM:+0100
TZOFFSETTO:+0000
TZNAME:GMT
DTSTART:20231029T010000
END:STANDARD
BEGIN:DAYLIGHT
TZOFFSETFROM:+0000
TZOFFSETTO:+0100
TZNAME:BST
DTSTART:20240331T010000
END:DAYLIGHT
BEGIN:STANDARD
TZOFFSETFROM:+0100
TZOFFSETTO:+0000
TZNAME:GMT
DTSTART:20241027T010000
END:STANDARD
BEGIN:DAYLIGHT
TZOFFSETFROM:+0000
TZOFFSETTO:+0100
TZNAME:BST
DTSTART:20250330T010000
END:DAYLIGHT
BEGIN:STANDARD
TZOFFSETFROM:+0100
TZOFFSETTO:+0000
TZNAME:GMT
DTSTART:20251026T010000
END:STANDARD
END:VTIMEZONE
BEGIN:VEVENT
DTSTART;VALUE=DATE:20240525
DTEND;VALUE=DATE:20240603
DTSTAMP:20260422T030833
CREATED:20240514T123114Z
LAST-MODIFIED:20240514T123328Z
UID:11651-1716595200-1717372799@www.museumofcambridge.org.uk
SUMMARY:Summer Half-Term at the Museum of Cambridge
DESCRIPTION:We’ve got lots on this half-term holiday\, including an all new community-led trail and free gaming events! \nRead what’s on and follow the links for more info on each event. \n\nThe River Trail 🔎⛵\n\n\n25th May – 30th June\nThis activity trail has been made in collaboration with the Cambridge Nature Festival and co-created with Abbey ward residents.\n\n\nFollow the clues through the Museum\, hear from locals about their connection to nature\, and learn about the history of Cambridge and the river Cam.\n\n\nNormal Museum Entry applies to access the trail. Children 16 and Under visit for free. No booking required for the trail.\nMore info here: https://www.museumofcambridge.org.uk/event/trail-the-river-runs-through-the-museum-of-cambridge/\n\n\n \n\n\nConservation in Action 🧹🎨\n\n\n25th May 10:30 am – 4:30 pm\n\n\nHave you ever wondered how objects in Museum collections are cared for? Come and have a go yourself! Clean objects from the collection and learn what materials are used and how to clean like an expert!\n\n\nNormal Museum Entry applies. Children 16 and Under visit for free. No booking required.\nMore info here: https://www.museumofcambridge.org.uk/event/conservation-in-action-get-hands-on-cleaning-objects/\n\n\n\nBoard Game Days 🎲🧵\n\n\n29th\, 31st May\, and 8th June 11:00 am – 4:00 pm\n\n\nJoin us for FREE drop-in board gaming fun! Play games related to our current exhibition ‘The Stories Behind the Stitches’ like Patchwork and Colourbrain.\n\n\nSuitable for children aged 8 and above\, accompanied by adults.\n\n\nThere’s no need to book tickets\, drop in any time during the day.\nMore info here: https://www.museumofcambridge.org.uk/event/museum-board-game-day/
URL:https://www.museumofcambridge.org.uk/event/summer-half-term/
LOCATION:The Museum of Cambridge\, 2-3 Castle Street\, Cambridge\, Cambridgeshire\, CB3 0AQ\, United Kingdom
CATEGORIES:Activity,Museum,Trail
ATTACH;FMTTYPE=image/jpeg:https://www.museumofcambridge.org.uk/wp-content/uploads/2024/05/Kingfisher-1-rotated.jpg
END:VEVENT
BEGIN:VEVENT
DTSTART;TZID=Europe/London:20240608T110000
DTEND;TZID=Europe/London:20240608T160000
DTSTAMP:20260422T030833
CREATED:20240514T104753Z
LAST-MODIFIED:20240514T104753Z
UID:11637-1717844400-1717862400@www.museumofcambridge.org.uk
SUMMARY:Museum Board Game Day
DESCRIPTION:Join us in the Enid Porter Room for a day of drop-in board gaming fun. Play a variety of quick-to-learn games related to our current exhibition “The Stories Behind the Stitches”. \nBuild a quilt to earn button tokens in Patchwork\, construct bizarre blocky creations in Block Party\, or give clues and guess the colours in Hues and Cues. These games and more will be available to try out from 11:00­­-16:00. \nAll games are suitable for children aged 8+\, but younger siblings are welcome to drop in for some colouring and crafts during the day. \n  \nDates: \nWednesday 29th May \nFriday 31st May \nSaturday 8th June \n  \nTimes: \n11:00 – 16:00 \n  \nTickets: \nThere is no need to book a ticket for this event. It is a drop-in activity in the Enid Porter Room. \n  \nPlace: \nThe Enid Porter Room \nMuseum of Cambridge \n2-3 Castle Street \nCambridge \nCB3 0AQ \n  \nAccessibility: \nThe Enid Porter Room has level access into the space. You can also read about our accessibility information on our website. If you’d like to chat through any accessibility requirements\, don’t hesitate to give us a call on 01223 355159 or email enquiries@museumofcambridge.org.uk. \n  \nGetting Here: \nWe are in the centre of Cambridge. You’ll find us at the corner of Castle Street and Northampton Street. We are right beside Kettle’s Yard and only a 15-minute walk from King’s College. \nYou can park your bike at the bike parks on Bridge Street or on Northampton Street. There is a bus stop nearby on Bridge Street. Find out more about how to get here by train\, bike\, bus\, car or on foot on our website. \n  \nPhotography: \nPlease note that photographs may be taken throughout this event\, and images may be used in future marketing and reporting materials. If you do not wish for you or your family’s photograph to be taken\, please make sure to let us know. \n  \nHealthy Events: \nIf you’re feeling unwell or have recently tested positive for COVID-19\, please do not attend this event. We’ll be happy to welcome you at the Museum on another day.
URL:https://www.museumofcambridge.org.uk/event/museum-board-game-day-3/
LOCATION:Enid Porter Room\, Museum of Cambridge\, 2-3 Castle Street\, Cambridge\, Cambridgeshire\, CB3 0AQ\, United Kingdom
CATEGORIES:Activity,Museum
ATTACH;FMTTYPE=image/jpeg:https://www.museumofcambridge.org.uk/wp-content/uploads/2024/05/Patchwork-scaled.jpg
END:VEVENT
END:VCALENDAR