BEGIN:VCALENDAR
VERSION:2.0
PRODID:-//The Museum of Cambridge - ECPv6.15.20//NONSGML v1.0//EN
CALSCALE:GREGORIAN
METHOD:PUBLISH
X-WR-CALNAME:The Museum of Cambridge
X-ORIGINAL-URL:https://www.museumofcambridge.org.uk
X-WR-CALDESC:Events for The Museum of Cambridge
REFRESH-INTERVAL;VALUE=DURATION:PT1H
X-Robots-Tag:noindex
X-PUBLISHED-TTL:PT1H
BEGIN:VTIMEZONE
TZID:Europe/London
BEGIN:DAYLIGHT
TZOFFSETFROM:+0000
TZOFFSETTO:+0100
TZNAME:BST
DTSTART:20230326T010000
END:DAYLIGHT
BEGIN:STANDARD
TZOFFSETFROM:+0100
TZOFFSETTO:+0000
TZNAME:GMT
DTSTART:20231029T010000
END:STANDARD
BEGIN:DAYLIGHT
TZOFFSETFROM:+0000
TZOFFSETTO:+0100
TZNAME:BST
DTSTART:20240331T010000
END:DAYLIGHT
BEGIN:STANDARD
TZOFFSETFROM:+0100
TZOFFSETTO:+0000
TZNAME:GMT
DTSTART:20241027T010000
END:STANDARD
BEGIN:DAYLIGHT
TZOFFSETFROM:+0000
TZOFFSETTO:+0100
TZNAME:BST
DTSTART:20250330T010000
END:DAYLIGHT
BEGIN:STANDARD
TZOFFSETFROM:+0100
TZOFFSETTO:+0000
TZNAME:GMT
DTSTART:20251026T010000
END:STANDARD
END:VTIMEZONE
BEGIN:VEVENT
DTSTART;VALUE=DATE:20240723
DTEND;VALUE=DATE:20240902
DTSTAMP:20260421T233824
CREATED:20240701T090059Z
LAST-MODIFIED:20240814T130800Z
UID:11774-1721692800-1725235199@www.museumofcambridge.org.uk
SUMMARY:Summer Holidays 2024: Season of Wellbeing
DESCRIPTION:The Summer Holidays are here\, and we have so many exciting craft activities and workshops to keep the whole family busy throughout the holiday! \nIt’s the Season of Wellbeing at the Museum of Cambridge\, linking to our temporary exhibition ‘The Stories Behind the Stitches’ which explores how crafting can improve our mental and physical health. Each of the family crafts throughout the summer are related to improving wellbeing\, encouraging mindfulness and self-reflection. \nHere’s a rundown of all the excitement with links to more information and booking where applicable. \n  \n🧶 Mini-Me Maker \n⏰ 24th and 31st July\, 11:00-16:00 \n🎟 Drop-in\, no booking required \n📍 In this first event for the Museum of Cambridge’s Season of Wellbeing\, craft a miniature version of yourself\, and learn to appreciate the little things that make you\, you! \nMore information here: https://www.museumofcambridge.org.uk/event/mini-me-maker/. \n  \n🌱 Woad-Working Wonders \n⏰ 14th and 17th August\, 12:00-14:00 \n🎟 Booking required \n📍 Get hands on with a complete guide to natural dyeing. From planting seeds to your very own naturally dyed bracelet\, follow the process of a 2000-year-old craft. \nMore information and booking link here: \nWednesday 14th: museumofcambridge.org.uk/event/woad-working-wonders-season-of-wellbeing-2/ \nSaturday 17th: museumofcambridge.org.uk/event/woad-working-wonders-season-of-wellbeing/ \n  \n📖 Junior Journals \n⏰ 19th and 23rd August\, 11:00-16:00 \n🎟 Drop-in\, no booking required \n📍 Design your own journal to help reflect and improve your wellbeing. Use a variety of materials to make a unique cover\, then take some time to fill your journal in. \nMore information here: https://www.museumofcambridge.org.uk/event/junior-journals-season-of-wellbeing/. \n  \n🥁 You Can Drum \n⏰ 27th and 31st August\, 12:00-15:00 \n🎟 Booking required \n📍 Turn rubbish into music in our final summer workshop. Learn how a tin can and a balloon become an instrument before taking part in a drumming circle. \nMore information and booking link here: \nTuesday 27th August: https://www.museumofcambridge.org.uk/event/you-can-drum/ \nSaturday 31st August: https://www.museumofcambridge.org.uk/event/you-can-drum-2/ \n  \nAlongside events\, there are three new trails to take you through the Museum during your visit. \nEach trail is aimed at different age groups\, so there is something for everyone! Alongside this\, the current trails (Why do We Craft\, and Mischief the Monkey) will still be running. That means we have 5 trails on the go! \n✨ Calming Colours\, for ages 5-8 \nExploring the link between colours and emotions \n🌻 Nurturing Nature\, for ages 9-12 \nLook at natural objects and the influence of nature on the Museum’s displays \n🧵 Creative Crafts\, for ages 13+ \nFind beautifully crafted objects in the collection and design your own. \nEach trail includes engaging activities and extra information to take your visit to the next level.
URL:https://www.museumofcambridge.org.uk/event/summer-2024/
LOCATION:The Museum of Cambridge\, 2-3 Castle Street\, Cambridge\, Cambridgeshire\, CB3 0AQ\, United Kingdom
CATEGORIES:Activity,Arts and Crafts,Museum,Trail,Workshop
ATTACH;FMTTYPE=image/png:https://www.museumofcambridge.org.uk/wp-content/uploads/2024/07/Season-of-Wellbeing-Banner-Instagram-Post.png
END:VEVENT
BEGIN:VEVENT
DTSTART;TZID=Europe/London:20240805T110000
DTEND;TZID=Europe/London:20240805T160000
DTSTAMP:20260421T233824
CREATED:20240707T130935Z
LAST-MODIFIED:20240707T130935Z
UID:11868-1722855600-1722873600@www.museumofcambridge.org.uk
SUMMARY:Museum Board Game Day
DESCRIPTION:Join us in the Enid Porter Room for a day of drop-in board gaming fun. Play a variety of quick-to-learn games related to our current exhibition “The Stories Behind the Stitches”. \nBuild a quilt to earn button tokens in Patchwork\, construct bizarre blocky creations in Block Party\, or give clues and guess the colours in Hues and Cues. These games and more will be available to try out from 11:00­­-16:00. \nAll games are suitable for children aged 8+\, but younger siblings are welcome to drop in for some colouring and crafts during the day. \n  \nDates: \nMonday 5th August \nSaturday 10th August \n  \nTimes: \n11:00 – 16:00 \n  \nTickets: \nThere is no need to book a ticket for this event. It is a drop-in activity in the Enid Porter Room. \n  \nPlace: \nThe Enid Porter Room \nMuseum of Cambridge \n2-3 Castle Street \nCambridge \nCB3 0AQ \n  \nAccessibility: \nThe Enid Porter Room has level access into the space. You can also read about our accessibility information on our website. If you’d like to chat through any accessibility requirements\, don’t hesitate to give us a call on 01223 355159 or email enquiries@museumofcambridge.org.uk. \n  \nGetting Here: \nWe are in the centre of Cambridge. You’ll find us at the corner of Castle Street and Northampton Street. We are right beside Kettle’s Yard and only a 15-minute walk from King’s College. \nYou can park your bike at the bike parks on Bridge Street or on Northampton Street. There is a bus stop nearby on Bridge Street. Find out more about how to get here by train\, bike\, bus\, car or on foot on our website. \n  \nPhotography: \nPlease note that photographs may be taken throughout this event\, and images may be used in future marketing and reporting materials. If you do not wish for you or your family’s photograph to be taken\, please make sure to let us know. \n  \nHealthy Events: \nIf you’re feeling unwell or have recently tested positive for COVID-19\, please do not attend this event. We’ll be happy to welcome you at the Museum on another day.
URL:https://www.museumofcambridge.org.uk/event/museum-board-game-day-4/
LOCATION:Enid Porter Room\, Museum of Cambridge\, 2-3 Castle Street\, Cambridge\, Cambridgeshire\, CB3 0AQ\, United Kingdom
CATEGORIES:Activity,Museum
ATTACH;FMTTYPE=image/jpeg:https://www.museumofcambridge.org.uk/wp-content/uploads/2024/05/Patchwork-scaled.jpg
END:VEVENT
BEGIN:VEVENT
DTSTART;TZID=Europe/London:20240810T110000
DTEND;TZID=Europe/London:20240810T160000
DTSTAMP:20260421T233824
CREATED:20240707T131005Z
LAST-MODIFIED:20240707T131005Z
UID:11867-1723287600-1723305600@www.museumofcambridge.org.uk
SUMMARY:Museum Board Game Day
DESCRIPTION:Join us in the Enid Porter Room for a day of drop-in board gaming fun. Play a variety of quick-to-learn games related to our current exhibition “The Stories Behind the Stitches”. \nBuild a quilt to earn button tokens in Patchwork\, construct bizarre blocky creations in Block Party\, or give clues and guess the colours in Hues and Cues. These games and more will be available to try out from 11:00­­-16:00. \nAll games are suitable for children aged 8+\, but younger siblings are welcome to drop in for some colouring and crafts during the day. \n  \nDates: \nMonday 5th August \nSaturday 10th August \n  \nTimes: \n11:00 – 16:00 \n  \nTickets: \nThere is no need to book a ticket for this event. It is a drop-in activity in the Enid Porter Room. \n  \nPlace: \nThe Enid Porter Room \nMuseum of Cambridge \n2-3 Castle Street \nCambridge \nCB3 0AQ \n  \nAccessibility: \nThe Enid Porter Room has level access into the space. You can also read about our accessibility information on our website. If you’d like to chat through any accessibility requirements\, don’t hesitate to give us a call on 01223 355159 or email enquiries@museumofcambridge.org.uk. \n  \nGetting Here: \nWe are in the centre of Cambridge. You’ll find us at the corner of Castle Street and Northampton Street. We are right beside Kettle’s Yard and only a 15-minute walk from King’s College. \nYou can park your bike at the bike parks on Bridge Street or on Northampton Street. There is a bus stop nearby on Bridge Street. Find out more about how to get here by train\, bike\, bus\, car or on foot on our website. \n  \nPhotography: \nPlease note that photographs may be taken throughout this event\, and images may be used in future marketing and reporting materials. If you do not wish for you or your family’s photograph to be taken\, please make sure to let us know. \n  \nHealthy Events: \nIf you’re feeling unwell or have recently tested positive for COVID-19\, please do not attend this event. We’ll be happy to welcome you at the Museum on another day.
URL:https://www.museumofcambridge.org.uk/event/museum-board-game-day-5/
LOCATION:Enid Porter Room\, Museum of Cambridge\, 2-3 Castle Street\, Cambridge\, Cambridgeshire\, CB3 0AQ\, United Kingdom
CATEGORIES:Activity,Museum
ATTACH;FMTTYPE=image/jpeg:https://www.museumofcambridge.org.uk/wp-content/uploads/2024/05/Patchwork-scaled.jpg
END:VEVENT
BEGIN:VEVENT
DTSTART;TZID=Europe/London:20240814T120000
DTEND;TZID=Europe/London:20240814T150000
DTSTAMP:20260421T233824
CREATED:20240802T110002Z
LAST-MODIFIED:20240730T153758Z
UID:11936-1723636800-1723647600@www.museumofcambridge.org.uk
SUMMARY:Woad-Working Wonders - Season of Wellbeing
DESCRIPTION:🌱 Woad-Working Wonders \n📍 Get hands on with a complete guide to natural dyeing. From planting seeds to your very own naturally dyed bracelet\, follow the process of a 2000-year-old craft. \n⏰ 14th and 17th August\, 12:00-15:00 \n🎟 Booking required \n  \nDates: \nWednesday 14th August \nSaturday 17th August \n  \nTimes: \n12:00 – 15:00 \n  \nTickets: \nPlease book your FREE ticket here: https://www.eventbrite.com/e/952708295157/ \n  \nPlace: \nThe Enid Porter Room \nMuseum of Cambridge \n2-3 Castle Street \nCambridge \nCB3 0AQ \n  \nAccessibility: \nThe Enid Porter Room has level access into the space. You can also read about our accessibility information on our website. If you’d like to chat through any accessibility requirements\, don’t hesitate to give us a call on 01223 355159 or email enquiries@museumofcambridge.org.uk. \n  \nGetting Here: \nWe are in the centre of Cambridge. You’ll find us at the corner of Castle Street and Northampton Street. We are right beside Kettle’s Yard and only a 15-minute walk from King’s College. \nYou can park your bike at the bike parks on Bridge Street or on Northampton Street. There is a bus stop nearby on Bridge Street. Find out more about how to get here by train\, bike\, bus\, car or on foot on our website. \n  \nPhotography: \nPlease note that photographs may be taken throughout this event\, and images may be used in future marketing and reporting materials. If you do not wish for you or your family’s photograph to be taken\, please make sure to let us know. \n  \nHealthy Events: \nIf you’re feeling unwell or have recently tested positive for COVID-19\, please do not attend this event. We’ll be happy to welcome you at the Museum on another day.
URL:https://www.museumofcambridge.org.uk/event/woad-working-wonders-season-of-wellbeing-2/
LOCATION:Enid Porter Room\, Museum of Cambridge\, 2-3 Castle Street\, Cambridge\, Cambridgeshire\, CB3 0AQ\, United Kingdom
CATEGORIES:Activity,Arts and Crafts,Museum,Workshop
ATTACH;FMTTYPE=image/png:https://www.museumofcambridge.org.uk/wp-content/uploads/2024/07/Woad-Working-Wonders-Insta-2.png
END:VEVENT
BEGIN:VEVENT
DTSTART;TZID=Europe/London:20240817T120000
DTEND;TZID=Europe/London:20240817T140000
DTSTAMP:20260421T233824
CREATED:20240802T110047Z
LAST-MODIFIED:20240814T140533Z
UID:11934-1723896000-1723903200@www.museumofcambridge.org.uk
SUMMARY:Woad-Working Wonders - Season of Wellbeing
DESCRIPTION:🌱 Woad-Working Wonders \n📍 Get hands on with a complete guide to natural dyeing. From planting seeds to your very own naturally dyed bracelet\, follow the process of a 2000-year-old craft. \n⏰ 14th and 17th August\, 12:00-14:00 \n🎟 Booking required \n  \nDates: \nSaturday 17th August \n  \nTimes: \n12:00 – 14:00 \n  \nTickets: \nPlease book your FREE ticket here: https://www.eventbrite.com/e/952727903807 \n  \nPlace: \nThe Enid Porter Room \nMuseum of Cambridge \n2-3 Castle Street \nCambridge \nCB3 0AQ \n  \nAccessibility: \nThe Enid Porter Room has level access into the space. You can also read about our accessibility information on our website. If you’d like to chat through any accessibility requirements\, don’t hesitate to give us a call on 01223 355159 or email enquiries@museumofcambridge.org.uk. \n  \nGetting Here: \nWe are in the centre of Cambridge. You’ll find us at the corner of Castle Street and Northampton Street. We are right beside Kettle’s Yard and only a 15-minute walk from King’s College. \nYou can park your bike at the bike parks on Bridge Street or on Northampton Street. There is a bus stop nearby on Bridge Street. Find out more about how to get here by train\, bike\, bus\, car or on foot on our website. \n  \nPhotography: \nPlease note that photographs may be taken throughout this event\, and images may be used in future marketing and reporting materials. If you do not wish for you or your family’s photograph to be taken\, please make sure to let us know. \n  \nHealthy Events: \nIf you’re feeling unwell or have recently tested positive for COVID-19\, please do not attend this event. We’ll be happy to welcome you at the Museum on another day.
URL:https://www.museumofcambridge.org.uk/event/woad-working-wonders-season-of-wellbeing/
LOCATION:Enid Porter Room\, Museum of Cambridge\, 2-3 Castle Street\, Cambridge\, Cambridgeshire\, CB3 0AQ\, United Kingdom
CATEGORIES:Activity,Arts and Crafts,Museum,Workshop
ATTACH;FMTTYPE=image/png:https://www.museumofcambridge.org.uk/wp-content/uploads/2024/08/Woad-Working-Wonders-Insta-3.png
END:VEVENT
BEGIN:VEVENT
DTSTART;TZID=Europe/London:20240819T110000
DTEND;TZID=Europe/London:20240819T160000
DTSTAMP:20260421T233824
CREATED:20240813T162919Z
LAST-MODIFIED:20240813T162919Z
UID:12057-1724065200-1724083200@www.museumofcambridge.org.uk
SUMMARY:Junior Journals - Season of Wellbeing
DESCRIPTION:📖 Junior Journals \n⏰ 19th and 23rd August\, 11:00-16:00 \n🎟 Drop-in\, no booking required \n📍 Design your own journal to help reflect and improve your wellbeing. Learn bookbinding\, use a variety of materials to make a unique cover\, then take some time to fill your journal in. \n  \nDates: \nMonday 19th August \nFriday 23rd August \n  \nTimes: \n11:00 – 16:00 \n  \nTickets: \nThere is no need to book a ticket for this event. It is a drop-in activity in the Enid Porter Room. \n  \nPlace: \nThe Enid Porter Room \nMuseum of Cambridge \n2-3 Castle Street \nCambridge \nCB3 0AQ \n  \nAccessibility: \nThe Enid Porter Room has level access into the space. You can also read about our accessibility information on our website. If you’d like to chat through any accessibility requirements\, don’t hesitate to give us a call on 01223 355159 or email enquiries@museumofcambridge.org.uk. \n  \nGetting Here: \nWe are in the centre of Cambridge. You’ll find us at the corner of Castle Street and Northampton Street. We are right beside Kettle’s Yard and only a 15-minute walk from King’s College. \nYou can park your bike at the bike parks on Bridge Street or on Northampton Street. There is a bus stop nearby on Bridge Street. Find out more about how to get here by train\, bike\, bus\, car or on foot on our website. \n  \nPhotography: \nPlease note that photographs may be taken throughout this event\, and images may be used in future marketing and reporting materials. If you do not wish for you or your family’s photograph to be taken\, please make sure to let us know. \n  \nHealthy Events: \nIf you’re feeling unwell or have recently tested positive for COVID-19\, please do not attend this event. We’ll be happy to welcome you at the Museum on another day.
URL:https://www.museumofcambridge.org.uk/event/junior-journals-season-of-wellbeing/
LOCATION:Enid Porter Room\, Museum of Cambridge\, 2-3 Castle Street\, Cambridge\, Cambridgeshire\, CB3 0AQ\, United Kingdom
CATEGORIES:Activity,Arts and Crafts,Museum
ATTACH;FMTTYPE=image/png:https://www.museumofcambridge.org.uk/wp-content/uploads/2024/08/Junior-Journals-Insta.png
END:VEVENT
BEGIN:VEVENT
DTSTART;TZID=Europe/London:20240823T110000
DTEND;TZID=Europe/London:20240823T160000
DTSTAMP:20260421T233824
CREATED:20240813T163006Z
LAST-MODIFIED:20240813T163006Z
UID:12060-1724410800-1724428800@www.museumofcambridge.org.uk
SUMMARY:Junior Journals - Season of Wellbeing
DESCRIPTION:📖 Junior Journals \n⏰ 19th and 23rd August\, 11:00-16:00 \n🎟 Drop-in\, no booking required \n📍 Design your own journal to help reflect and improve your wellbeing. Learn bookbinding\, use a variety of materials to make a unique cover\, then take some time to fill your journal in. \n  \nDates: \nFriday 23rd August \n  \nTimes: \n11:00 – 16:00 \n  \nTickets: \nThere is no need to book a ticket for this event. It is a drop-in activity in the Enid Porter Room. \n  \nPlace: \nThe Enid Porter Room \nMuseum of Cambridge \n2-3 Castle Street \nCambridge \nCB3 0AQ \n  \nAccessibility: \nThe Enid Porter Room has level access into the space. You can also read about our accessibility information on our website. If you’d like to chat through any accessibility requirements\, don’t hesitate to give us a call on 01223 355159 or email enquiries@museumofcambridge.org.uk. \n  \nGetting Here: \nWe are in the centre of Cambridge. You’ll find us at the corner of Castle Street and Northampton Street. We are right beside Kettle’s Yard and only a 15-minute walk from King’s College. \nYou can park your bike at the bike parks on Bridge Street or on Northampton Street. There is a bus stop nearby on Bridge Street. Find out more about how to get here by train\, bike\, bus\, car or on foot on our website. \n  \nPhotography: \nPlease note that photographs may be taken throughout this event\, and images may be used in future marketing and reporting materials. If you do not wish for you or your family’s photograph to be taken\, please make sure to let us know. \n  \nHealthy Events: \nIf you’re feeling unwell or have recently tested positive for COVID-19\, please do not attend this event. We’ll be happy to welcome you at the Museum on another day.
URL:https://www.museumofcambridge.org.uk/event/junior-journals-season-of-wellbeing-2/
LOCATION:Enid Porter Room\, Museum of Cambridge\, 2-3 Castle Street\, Cambridge\, Cambridgeshire\, CB3 0AQ\, United Kingdom
CATEGORIES:Activity,Arts and Crafts,Museum
ATTACH;FMTTYPE=image/png:https://www.museumofcambridge.org.uk/wp-content/uploads/2024/08/Junior-Journals-Insta.png
END:VEVENT
BEGIN:VEVENT
DTSTART;TZID=Europe/London:20240827T120000
DTEND;TZID=Europe/London:20240827T150000
DTSTAMP:20260421T233824
CREATED:20240813T164338Z
LAST-MODIFIED:20240813T165146Z
UID:12064-1724760000-1724770800@www.museumofcambridge.org.uk
SUMMARY:You Can Drum - Season of Wellbeing
DESCRIPTION:🥁 You Can Drum \n⏰ 27th and 31st August\, 12:00-15:00 \n🎟 Booking required \n📍 Turn rubbish into music in our final summer workshop. Learn how a tin can and a balloon become an instrument before taking part in a drumming circle. \n  \nDates: \nTuesday 27th August \nSaturday 31st August \n  \nTimes: \n12:00 – 15:00 \n  \nTickets: \nPlease book your FREE ticket here: https://www.eventbrite.co.uk/e/you-can-drum-tickets-991172111467 \n  \nPlace: \nThe Enid Porter Room \nMuseum of Cambridge \n2-3 Castle Street \nCambridge \nCB3 0AQ \n  \nAccessibility: \nThe Enid Porter Room has level access into the space. You can also read about our accessibility information on our website. If you’d like to chat through any accessibility requirements\, don’t hesitate to give us a call on 01223 355159 or email enquiries@museumofcambridge.org.uk. \n  \nGetting Here: \nWe are in the centre of Cambridge. You’ll find us at the corner of Castle Street and Northampton Street. We are right beside Kettle’s Yard and only a 15-minute walk from King’s College. \nYou can park your bike at the bike parks on Bridge Street or on Northampton Street. There is a bus stop nearby on Bridge Street. Find out more about how to get here by train\, bike\, bus\, car or on foot on our website. \n  \nPhotography: \nPlease note that photographs may be taken throughout this event\, and images may be used in future marketing and reporting materials. If you do not wish for you or your family’s photograph to be taken\, please make sure to let us know. \n  \nHealthy Events: \nIf you’re feeling unwell or have recently tested positive for COVID-19\, please do not attend this event. We’ll be happy to welcome you at the Museum on another day.
URL:https://www.museumofcambridge.org.uk/event/you-can-drum/
LOCATION:Enid Porter Room\, Museum of Cambridge\, 2-3 Castle Street\, Cambridge\, Cambridgeshire\, CB3 0AQ\, United Kingdom
CATEGORIES:Activity,Arts and Crafts,Museum,Workshop
ATTACH;FMTTYPE=image/png:https://www.museumofcambridge.org.uk/wp-content/uploads/2024/08/You-Can-Drum-Insta.png
END:VEVENT
BEGIN:VEVENT
DTSTART;TZID=Europe/London:20240831T120000
DTEND;TZID=Europe/London:20240831T150000
DTSTAMP:20260421T233824
CREATED:20240813T164448Z
LAST-MODIFIED:20240813T164731Z
UID:12069-1725105600-1725116400@www.museumofcambridge.org.uk
SUMMARY:You Can Drum - Season of Wellbeing
DESCRIPTION:🥁 You Can Drum \n⏰ 27th and 31st August\, 12:00-15:00 \n🎟 Booking required \n📍 Turn rubbish into music in our final summer workshop. Learn how a tin can and a balloon become an instrument before taking part in a drumming circle. \n  \nDates: \nSaturday 31st August \n  \nTimes: \n12:00 – 15:00 \n  \nTickets: \nPlease book your FREE ticket here: https://www.eventbrite.co.uk/e/you-can-drum-tickets-991172382277 \n  \nPlace: \nThe Enid Porter Room \nMuseum of Cambridge \n2-3 Castle Street \nCambridge \nCB3 0AQ \n  \nAccessibility: \nThe Enid Porter Room has level access into the space. You can also read about our accessibility information on our website. If you’d like to chat through any accessibility requirements\, don’t hesitate to give us a call on 01223 355159 or email enquiries@museumofcambridge.org.uk. \n  \nGetting Here: \nWe are in the centre of Cambridge. You’ll find us at the corner of Castle Street and Northampton Street. We are right beside Kettle’s Yard and only a 15-minute walk from King’s College. \nYou can park your bike at the bike parks on Bridge Street or on Northampton Street. There is a bus stop nearby on Bridge Street. Find out more about how to get here by train\, bike\, bus\, car or on foot on our website. \n  \nPhotography: \nPlease note that photographs may be taken throughout this event\, and images may be used in future marketing and reporting materials. If you do not wish for you or your family’s photograph to be taken\, please make sure to let us know. \n  \nHealthy Events: \nIf you’re feeling unwell or have recently tested positive for COVID-19\, please do not attend this event. We’ll be happy to welcome you at the Museum on another day.
URL:https://www.museumofcambridge.org.uk/event/you-can-drum-2/
LOCATION:Enid Porter Room\, Museum of Cambridge\, 2-3 Castle Street\, Cambridge\, Cambridgeshire\, CB3 0AQ\, United Kingdom
CATEGORIES:Activity,Arts and Crafts,Museum,Workshop
ATTACH;FMTTYPE=image/png:https://www.museumofcambridge.org.uk/wp-content/uploads/2024/08/You-Can-Drum-Insta.png
END:VEVENT
END:VCALENDAR