BEGIN:VCALENDAR
VERSION:2.0
PRODID:-//The Museum of Cambridge - ECPv6.15.20//NONSGML v1.0//EN
CALSCALE:GREGORIAN
METHOD:PUBLISH
X-WR-CALNAME:The Museum of Cambridge
X-ORIGINAL-URL:https://www.museumofcambridge.org.uk
X-WR-CALDESC:Events for The Museum of Cambridge
REFRESH-INTERVAL;VALUE=DURATION:PT1H
X-Robots-Tag:noindex
X-PUBLISHED-TTL:PT1H
BEGIN:VTIMEZONE
TZID:Europe/London
BEGIN:DAYLIGHT
TZOFFSETFROM:+0000
TZOFFSETTO:+0100
TZNAME:BST
DTSTART:20230326T010000
END:DAYLIGHT
BEGIN:STANDARD
TZOFFSETFROM:+0100
TZOFFSETTO:+0000
TZNAME:GMT
DTSTART:20231029T010000
END:STANDARD
BEGIN:DAYLIGHT
TZOFFSETFROM:+0000
TZOFFSETTO:+0100
TZNAME:BST
DTSTART:20240331T010000
END:DAYLIGHT
BEGIN:STANDARD
TZOFFSETFROM:+0100
TZOFFSETTO:+0000
TZNAME:GMT
DTSTART:20241027T010000
END:STANDARD
BEGIN:DAYLIGHT
TZOFFSETFROM:+0000
TZOFFSETTO:+0100
TZNAME:BST
DTSTART:20250330T010000
END:DAYLIGHT
BEGIN:STANDARD
TZOFFSETFROM:+0100
TZOFFSETTO:+0000
TZNAME:GMT
DTSTART:20251026T010000
END:STANDARD
END:VTIMEZONE
BEGIN:VEVENT
DTSTART;VALUE=DATE:20241129
DTEND;VALUE=DATE:20241202
DTSTAMP:20260421T171330
CREATED:20241022T122308Z
LAST-MODIFIED:20241129T151828Z
UID:12415-1732838400-1733097599@www.museumofcambridge.org.uk
SUMMARY:Made in Cambridge Christmas Market
DESCRIPTION:The Museum of Cambridge is delighted to welcome you to our annual Made in Cambridge Christmas Market 2024!\n \nWhen: Friday 29th November – Sunday 1st December\, 10am – 5pm daily\n \nWhere: Museum of Cambridge\, 2-3 Castle Street CB3 0AQ\n \nCost: FREE\n \nGet ready to immerse yourself in the Christmas spirit at our Christmas Market. Browse local\, hand-made gifts from talented Cambridgeshire makers\, and gift something different this Christmas!\n \nA festive market celebrating unique and local talent\, the Museum of Cambridge is delighted to host a variety of Cambridgeshire artisans showcasing and selling their craft. Explore a curated selection of handcrafted gifts\, made by the talented people of Cambridgeshire. Gift\, or treat yourself well\, knowing you’ve supported local people\, and spend time at our festive market and be inspired by festive décor!\n \nOur amazing vendors for the Made in Cambridge Christmas Market:\n \nFriday 29th November\nVicky Hallam Design\nWhittle Wire\nPrebble Pots\nOtherside Silly\nRowan Humberstone\nNadia Rose Makes\nRecycled Weaver\n \nSaturday 30th November\n\nVicky Hallam Design\nWhittle Wire\n\nAnsari Prints\nAdira Jewel\nI Like Your Bag\nWildMoonWhispers\n \nSunday 1st December\nHannah B Pottery\nElectraglade\nNancy K Jewellery\n\nPrebble Pots\nOtherside Silly\n\nTrinity Orchards of Cambridge\nBrewBoard\n \nVolunteer-run drinks stand and Second-hand book stall\nIn addition to this wonderful variety of Cambridgeshire makers\, there will be a volunteer-run drinks stand every day serving mulled wine\, tea and coffee to add to the festive cheer! In the Museum’s continued support to sustainability\, we will also be selling second hand books at the Christmas Market and our Museum shop\, offering something for everybody. All proceeds will support the daily running and conservation care of the Museum of Cambridge\, an independent charity. \n \nJoin the Museum of Cambridge for a weekend of festive cheer\, and local artistry and talent. Shop\, visit or browse amazing drinks and gifts galore. Let the wonder of our talented city infuse your holiday season with warmth and cheer!\n \nBeautiful Carols\nJoin us on Saturday\, 30th November at 2pm\, when a talented group of carollers will fill the market with the festive spirit. Enjoy a heart warming performance of classic and modern carols\, adding a magical touch to your Christmas shopping experience!  \n\n \nAccessibility\nYou can read about our accessibility information on our website here Accessibility – The Museum of Cambridge. If you’d like to chat through any accessibility requirements\, don’t hesitate to give us a call on 01223 355159 or email enquiries@museumofcambridge.org.uk. Visitors with additional needs are welcome to bring a supporter or carer who will be admitted to the event free of charge.\n \nGetting Here\nWe are in the centre of Cambridge. You’ll find us at the corner of Castle Street and Northampton Street. We are right beside Kettle’s Yard and only a 15-minute walk from King’s College.\n \nYou can park your bike at the bike parks on Bridge Street or on Northampton Street. There is a bus stop on Bridge Street. Check out the Stagecoach website to plan your journey to and from the Museum. Find out more about how to get here by train\, bike\, bus\, car or on foot on our website.\n \nPhotography \nPlease note that photographs will be taken throughout this event\, and images may be used in future marketing and reporting materials. If you do not wish you or your family’s photograph to be taken\, please make sure to let us know. \n \nHealthy Events\nIf you’re feeling unwell or have recently tested positive for Covid-19\, please do not attend this event. We’ll be happy to offer you a refund if applicable\, and welcome you at the Museum on another day.
URL:https://www.museumofcambridge.org.uk/event/christmas-market-2024/
LOCATION:Enid Porter Room\, Museum of Cambridge\, 2-3 Castle Street\, Cambridge\, Cambridgeshire\, CB3 0AQ\, United Kingdom
CATEGORIES:Activity,Museum,Our Cambridge,Talk
ATTACH;FMTTYPE=image/jpeg:https://www.museumofcambridge.org.uk/wp-content/uploads/2024/10/Christmas-Market-Square-Poster.jpg
END:VEVENT
BEGIN:VEVENT
DTSTART;TZID=Europe/London:20241205T130000
DTEND;TZID=Europe/London:20241205T140000
DTSTAMP:20260421T171330
CREATED:20241030T111446Z
LAST-MODIFIED:20241030T111446Z
UID:12448-1733403600-1733407200@www.museumofcambridge.org.uk
SUMMARY:Leah Manning's Legacy: Cambridge\, Women’s Rights\, and Spanish Refugees
DESCRIPTION:A companion talk to our exhibition ‘Educating Cambridge’\, join Peter Cunningham as he discusses the legacy and life of Leah Manning. \nAn outstanding personality born in 1886\, Leah Manning came to Cambridge in 1906 to train as a teacher at Homerton College. She caught the attention of Principal Mary Allan who persuaded her to teach at the ‘Cambridge Ragged School’ (founded 1854) in New Street\, a building now housing Anglia Ruskin’s Music Therapy Department. She is now remembered there by a Blue Plaque\, for her “pioneering struggle” as a “lifelong champion” of women’s and children’s causes. Homerton College is also recorded as funding renovation of the Ragged School. \n\n\n\n\n\n\n\n\n\n\n\nMiss Allan and other Homertonian women joined the suffragette movement. Leah herself was politically active as a member of the Fabian Society in Cambridge and aligned with trade unions and the Social Democratic Federation to support the emergent Labour Party. Leah herself in 1919 became Cambridge Chair of the National Federation of Women Workers\, campaigning against low pay and conditions of female ‘bedders’ in colleges. She went on to be one of the first women Labour MPs for Islington East\, and after World War 2\, she won Winston Churchill’s former seat as MP for Epping. \nMeanwhile\, as a campaigner against the Spanish Civil War\, in 1937 she used her political skill and experience to persuade the British government to provide a ship for evacuation of 3\,888 children from Bilbao following the bombardment of Guernica. She then oversaw the placement of these evacuees in various parts of the UK. A plaque can be seen on a house in Station Road\, Cambridge\, where Jesus College accommodated 29 Basque refugee children. \nAbout the Speaker \nPeter Cunningham studied at Cambridge 1967-’70 focusing on history and history of art\, followed by a year in Norwich at UEA and research at Leeds University. Increasingly interested in education through art\, he engaged in teacher education at Westminster College\, Oxford\, taught at primary schools in Oxford and Leicester\, before returning to teacher education in Cambridge at Homerton College. \nA recent collaborative book with Catherine Burke and Lottie Hoare is: \nEducation through the Arts for Well-Being and Community: \nThe Vision and Legacy of Sir Alec Clegg \nwith contributions by Clegg’s nephew Sir David Attenborough\, \nand the late Sir Tim Brighouse\, inspirational educationist\, to whom I owe much. \n\n\nBook now: \nLeah Manning’s Legacy: Cambridge\, Women’s Rights\, and Spanish Refugees Tickets\, Thu\, Dec 5\, 2024 at 1:00 PM | Eventbrite \n  \nSupporting the Museum of Cambridge \nThe Museum of Cambridge is an independent Charity and is not part of either the Cambridge Council or the University of Cambridge. We kindly suggest a donation of £7\, which includes the talk and entry to the Museum of Cambridge (usually £6 for Adults\, £4.50 for Students/Jobseekers). Your donation supports the daily running and conservation care of the Museum\, an independent charity. \nNOTE: Eventbrite has changed its set up and now only allows one ‘donate as you feel’ ticket per purchase. Please kindly book tickets separately per email; the same email can be used. \nAccessibility  \nYou can also read about our accessibility information on our website. If you’d like to chat through any accessibility requirements\, don’t hesitate to give us a call on 01223 355159 or email sumyin.wong@museumofcambridge.org.uk. Event attendees with additional needs are welcome to bring a supporter or carer who will be admitted to the event free of charge.   \nGetting Here  \nWe are in the centre of Cambridge. You’ll find us at the corner of Castle Street and Northampton Street. We are right beside Kettle’s Yard and only a 15-minute walk from King’s College.  \nYou can park your bike at the bike parks on Bridge Street or on Northampton Street. There is a bus stop on Bridge Street. Check out the Stagecoach website to plan your journey to and from the Museum. Find out more about how to get here by train\, bike\, bus\, car or on foot on our website.  \nPhotography  \nPlease note that photographs will be taken throughout this event\, and images may be used in future marketing and reporting materials. If you do not wish you or your family’s photograph to be taken\, please make sure to let us know.  \nHealthy Events  \nIf you’re feeling unwell or have recently tested positive for Covid-19\, please do not attend this event. We’ll be happy to offer you a refund if applicable\, and welcome you at the Museum on another day.  \nLove events? Love them even more when they’re free? Join the Friends of the Museum of Cambridge today and you’ll get access to free events\, discounts in our shop and year-round free entry for you and a guest.
URL:https://www.museumofcambridge.org.uk/event/leah-mannings-legacy-cambridge-womens-rights-and-spanish-refugees/
LOCATION:Enid Porter Room\, Museum of Cambridge\, 2-3 Castle Street\, Cambridge\, Cambridgeshire\, CB3 0AQ\, United Kingdom
CATEGORIES:Activity,Exhibition,Museum,Talk
ATTACH;FMTTYPE=image/png:https://www.museumofcambridge.org.uk/wp-content/uploads/2024/10/Leah-Manning-and-her-plaque-e1730285802315.png
END:VEVENT
BEGIN:VEVENT
DTSTART;TZID=Europe/London:20241221T110000
DTEND;TZID=Europe/London:20241221T130000
DTSTAMP:20260421T171330
CREATED:20241204T141846Z
LAST-MODIFIED:20241205T205957Z
UID:12536-1734778800-1734786000@www.museumofcambridge.org.uk
SUMMARY:Victorian Christmas at the Museum of Cambridge
DESCRIPTION:Learn about the origins of many of our favourite Christmas traditions\, have a go at a variety of crafts and get in the festive spirit with our Christmas craft workshops! This workshop is NOT drop-in and will begin at the advertised time. It is suitable for families with children 5+. \nWe will begin with a guided introduction to Victorian Christmas\, including a look at some objects from the Museum’s collection not normally seen by the public. Then\, get hands on as we invite you to make decorations of your very own to take home. \nCrafts include: \nPompom Baubles \nChristmas Crackers \nPaper Decorations \nGilded Walnuts \n  \nSessions run 11:00-13:00 and 14:00-16:00 \nTickets are FREE but very limited\, so please book now! \nMoCChristmas.eventbrite.co.uk
URL:https://www.museumofcambridge.org.uk/event/victorian-christmas/
LOCATION:The Museum of Cambridge\, 2-3 Castle Street\, Cambridge\, Cambridgeshire\, CB3 0AQ\, United Kingdom
CATEGORIES:Activity,Arts and Crafts,Museum,Workshop
ATTACH;FMTTYPE=image/png:https://www.museumofcambridge.org.uk/wp-content/uploads/2024/12/2.png
END:VEVENT
BEGIN:VEVENT
DTSTART;TZID=Europe/London:20241221T140000
DTEND;TZID=Europe/London:20241221T160000
DTSTAMP:20260421T171330
CREATED:20241205T123013Z
LAST-MODIFIED:20241205T205930Z
UID:12548-1734789600-1734796800@www.museumofcambridge.org.uk
SUMMARY:Victorian Christmas at the Museum of Cambridge
DESCRIPTION:Learn about the origins of many of our favourite Christmas traditions\, have a go at a variety of crafts and get in the festive spirit with our Christmas craft workshops! This workshop is NOT drop-in and will begin at the advertised time. It is suitable for families with children 5+. \nWe will begin with a guided introduction to Victorian Christmas\, including a look at some objects from the Museum’s collection not normally seen by the public. Then\, get hands on as we invite you to make decorations of your very own to take home. \nCrafts include: \nPompom Baubles \nChristmas Crackers \nPaper Decorations \nGilded Walnuts \n  \nSessions run 11:00-13:00 and 14:00-16:00 \nTickets are FREE but very limited\, so please book now! \nMoCChristmas.eventbrite.co.uk
URL:https://www.museumofcambridge.org.uk/event/victorian-christmas-2/
LOCATION:The Museum of Cambridge\, 2-3 Castle Street\, Cambridge\, Cambridgeshire\, CB3 0AQ\, United Kingdom
CATEGORIES:Activity,Arts and Crafts,Museum,Workshop
ATTACH;FMTTYPE=image/png:https://www.museumofcambridge.org.uk/wp-content/uploads/2024/12/2.png
END:VEVENT
END:VCALENDAR