BEGIN:VCALENDAR
VERSION:2.0
PRODID:-//The Museum of Cambridge - ECPv6.15.20//NONSGML v1.0//EN
CALSCALE:GREGORIAN
METHOD:PUBLISH
X-WR-CALNAME:The Museum of Cambridge
X-ORIGINAL-URL:https://www.museumofcambridge.org.uk
X-WR-CALDESC:Events for The Museum of Cambridge
REFRESH-INTERVAL;VALUE=DURATION:PT1H
X-Robots-Tag:noindex
X-PUBLISHED-TTL:PT1H
BEGIN:VTIMEZONE
TZID:Europe/London
BEGIN:DAYLIGHT
TZOFFSETFROM:+0000
TZOFFSETTO:+0100
TZNAME:BST
DTSTART:20230326T010000
END:DAYLIGHT
BEGIN:STANDARD
TZOFFSETFROM:+0100
TZOFFSETTO:+0000
TZNAME:GMT
DTSTART:20231029T010000
END:STANDARD
BEGIN:DAYLIGHT
TZOFFSETFROM:+0000
TZOFFSETTO:+0100
TZNAME:BST
DTSTART:20240331T010000
END:DAYLIGHT
BEGIN:STANDARD
TZOFFSETFROM:+0100
TZOFFSETTO:+0000
TZNAME:GMT
DTSTART:20241027T010000
END:STANDARD
BEGIN:DAYLIGHT
TZOFFSETFROM:+0000
TZOFFSETTO:+0100
TZNAME:BST
DTSTART:20250330T010000
END:DAYLIGHT
BEGIN:STANDARD
TZOFFSETFROM:+0100
TZOFFSETTO:+0000
TZNAME:GMT
DTSTART:20251026T010000
END:STANDARD
END:VTIMEZONE
BEGIN:VEVENT
DTSTART;TZID=Europe/London:20240629T120000
DTEND;TZID=Europe/London:20240629T150000
DTSTAMP:20260422T073448
CREATED:20240603T145218Z
LAST-MODIFIED:20240603T145409Z
UID:11748-1719662400-1719673200@www.museumofcambridge.org.uk
SUMMARY:Historic Craft: An Introduction to Cross-Stitch
DESCRIPTION:Join us on Saturday 29th June for an introduction to the wonderful world of cross-stitch. From 12:00-15:00 this free workshop will take you through the history of the craft with an opportunity to see objects from the Museum’s collection not on display to the general public\, then take some time to look around our current exhibition ‘The Stories Behind the Stitches’ before getting hands-on designing and making your very own cross-stitch door hanger. \nThis workshop is suitable for adults and children 5+\, no experience required. Our Engagement Officer will guide you through the history and the process of making your own stitched piece to take home at the end of the day. \n12:00-12:30 Introduction to the history of cross-stitch with Museum objects. \n12:30-13:00 Access the exhibition. \n13:00-15:00 Design and stitch your own cross-stitch. \n  \nThis event is free\, however please book a slot via the link below to ensure we prepare enough materials for all to participate. \nhttps://www.eventbrite.co.uk/e/historic-craft-an-introduction-to-cross-stitch-tickets-918836965097?aff=oddtdtcreator
URL:https://www.museumofcambridge.org.uk/event/historic-craft-an-introduction-to-cross-stitch/
LOCATION:Enid Porter Room\, Museum of Cambridge\, 2-3 Castle Street\, Cambridge\, Cambridgeshire\, CB3 0AQ\, United Kingdom
CATEGORIES:Arts and Crafts,Museum,Workshop
ATTACH;FMTTYPE=image/jpeg:https://www.museumofcambridge.org.uk/wp-content/uploads/2024/06/20240210_104806-scaled.jpg
END:VEVENT
END:VCALENDAR