BEGIN:VCALENDAR
VERSION:2.0
PRODID:-//The Museum of Cambridge - ECPv6.15.20//NONSGML v1.0//EN
CALSCALE:GREGORIAN
METHOD:PUBLISH
X-WR-CALNAME:The Museum of Cambridge
X-ORIGINAL-URL:https://www.museumofcambridge.org.uk
X-WR-CALDESC:Events for The Museum of Cambridge
REFRESH-INTERVAL;VALUE=DURATION:PT1H
X-Robots-Tag:noindex
X-PUBLISHED-TTL:PT1H
BEGIN:VTIMEZONE
TZID:Europe/London
BEGIN:DAYLIGHT
TZOFFSETFROM:+0000
TZOFFSETTO:+0100
TZNAME:BST
DTSTART:20240331T010000
END:DAYLIGHT
BEGIN:STANDARD
TZOFFSETFROM:+0100
TZOFFSETTO:+0000
TZNAME:GMT
DTSTART:20241027T010000
END:STANDARD
BEGIN:DAYLIGHT
TZOFFSETFROM:+0000
TZOFFSETTO:+0100
TZNAME:BST
DTSTART:20250330T010000
END:DAYLIGHT
BEGIN:STANDARD
TZOFFSETFROM:+0100
TZOFFSETTO:+0000
TZNAME:GMT
DTSTART:20251026T010000
END:STANDARD
BEGIN:DAYLIGHT
TZOFFSETFROM:+0000
TZOFFSETTO:+0100
TZNAME:BST
DTSTART:20260329T010000
END:DAYLIGHT
BEGIN:STANDARD
TZOFFSETFROM:+0100
TZOFFSETTO:+0000
TZNAME:GMT
DTSTART:20261025T010000
END:STANDARD
END:VTIMEZONE
BEGIN:VEVENT
DTSTART;TZID=Europe/London:20250407T110000
DTEND;TZID=Europe/London:20250407T150000
DTSTAMP:20260421T144311
CREATED:20250314T120135Z
LAST-MODIFIED:20250403T124935Z
UID:12976-1744023600-1744038000@www.museumofcambridge.org.uk
SUMMARY:Beautiful Bonnets - Easter Holidays 2025
DESCRIPTION:Have you ever seen Victorian ladies wearing big\, fancy hats? Have you ever wondered why they look so silly? Come and find out at our FREE drop-in craft session this Easter Holiday at the Museum of Cambridge. \nLearn why Easter bonnets became popular in Victorian England\, and how strange some of them were\, before making your own Easter hat. \nHave a go at plaiting the same way ‘Mad Hatters’ used to for hundreds of years! \nThis drop-in craft is suitable for families with children 5+. No need to book\, just pop in to the Enid Porter Room at the Museum. \n  \nDates: \nMonday 7th April\nFriday 11th April\nSaturday 12th April\nMonday 14th April\nFriday 18th April\nSaturday 19th April \n  \nTime: \n11:00 – 15:00 \n  \nTickets: \nThere is no need to book a ticket for this event. It is a FREE drop-in activity in the Enid Porter Room. \n  \nPlace: \nThe Enid Porter Room \nMuseum of Cambridge \n2-3 Castle Street \nCambridge \nCB3 0AQ \n  \nAccessibility: \nThe Enid Porter Room has level access into the space. You can also read about our accessibility information on our website. If you’d like to chat through any accessibility requirements\, don’t hesitate to give us a call on 01223 355159 or email enquiries@museumofcambridge.org.uk. \n  \nGetting Here: \nWe are in the centre of Cambridge. You’ll find us at the corner of Castle Street and Northampton Street. We are right beside Kettle’s Yard and only a 15-minute walk from King’s College. \nYou can park your bike at the bike parks on Bridge Street or on Northampton Street. There is a bus stop nearby on Bridge Street. Find out more about how to get here by train\, bike\, bus\, car or on foot on our website. \n  \nPhotography: \nPlease note that photographs may be taken throughout this event\, and images may be used in future marketing and reporting materials. If you do not wish for you or your family’s photograph to be taken\, please make sure to let us know. \n  \nHealthy Events: \nIf you’re feeling unwell or have recently tested positive for COVID-19\, please do not attend this event. We’ll be happy to welcome you at the Museum on another day.
URL:https://www.museumofcambridge.org.uk/event/beautiful-bonnets-easter-holidays-2025/
LOCATION:Enid Porter Room\, Museum of Cambridge\, 2-3 Castle Street\, Cambridge\, Cambridgeshire\, CB3 0AQ\, United Kingdom
CATEGORIES:Activity,Arts and Crafts,Workshop
ATTACH;FMTTYPE=image/png:https://www.museumofcambridge.org.uk/wp-content/uploads/2025/03/Beautiful-Bonnets-Social-1.png
END:VEVENT
BEGIN:VEVENT
DTSTART;TZID=Europe/London:20250411T110000
DTEND;TZID=Europe/London:20250411T150000
DTSTAMP:20260421T144311
CREATED:20250314T120521Z
LAST-MODIFIED:20250403T124840Z
UID:12979-1744369200-1744383600@www.museumofcambridge.org.uk
SUMMARY:Beautiful Bonnets - Easter Holidays 2025
DESCRIPTION:Have you ever seen Victorian ladies wearing big\, fancy hats? Have you ever wondered why they look so silly? Come and find out at our FREE drop-in craft session this Easter Holiday at the Museum of Cambridge. \nLearn why Easter bonnets became popular in Victorian England\, and how strange some of them were\, before making your own Easter hat. \nHave a go at plaiting the same way ‘Mad Hatters’ used to for hundreds of years! \nThis drop-in craft is suitable for families with children 5+. No need to book\, just pop in to the Enid Porter Room at the Museum. \n  \nDates: \nMonday 7th April\nFriday 11th April\nSaturday 12th April\nMonday 14th April\nFriday 18th April\nSaturday 19th April \n  \nTime: \n11:00 – 15:00 \n  \nTickets: \nThere is no need to book a ticket for this event. It is a FREE drop-in activity in the Enid Porter Room. \n  \nPlace: \nThe Enid Porter Room \nMuseum of Cambridge \n2-3 Castle Street \nCambridge \nCB3 0AQ \n  \nAccessibility: \nThe Enid Porter Room has level access into the space. You can also read about our accessibility information on our website. If you’d like to chat through any accessibility requirements\, don’t hesitate to give us a call on 01223 355159 or email enquiries@museumofcambridge.org.uk. \n  \nGetting Here: \nWe are in the centre of Cambridge. You’ll find us at the corner of Castle Street and Northampton Street. We are right beside Kettle’s Yard and only a 15-minute walk from King’s College. \nYou can park your bike at the bike parks on Bridge Street or on Northampton Street. There is a bus stop nearby on Bridge Street. Find out more about how to get here by train\, bike\, bus\, car or on foot on our website. \n  \nPhotography: \nPlease note that photographs may be taken throughout this event\, and images may be used in future marketing and reporting materials. If you do not wish for you or your family’s photograph to be taken\, please make sure to let us know. \n  \nHealthy Events: \nIf you’re feeling unwell or have recently tested positive for COVID-19\, please do not attend this event. We’ll be happy to welcome you at the Museum on another day.
URL:https://www.museumofcambridge.org.uk/event/beautiful-bonnets-easter-holidays-2025-2/
LOCATION:Enid Porter Room\, Museum of Cambridge\, 2-3 Castle Street\, Cambridge\, Cambridgeshire\, CB3 0AQ\, United Kingdom
CATEGORIES:Activity,Arts and Crafts,Workshop
ATTACH;FMTTYPE=image/png:https://www.museumofcambridge.org.uk/wp-content/uploads/2025/03/Beautiful-Bonnets-Social-1.png
END:VEVENT
BEGIN:VEVENT
DTSTART;TZID=Europe/London:20250412T110000
DTEND;TZID=Europe/London:20250412T150000
DTSTAMP:20260421T144311
CREATED:20250314T120659Z
LAST-MODIFIED:20250403T124752Z
UID:12981-1744455600-1744470000@www.museumofcambridge.org.uk
SUMMARY:Beautiful Bonnets - Easter Holidays 2025
DESCRIPTION:Have you ever seen Victorian ladies wearing big\, fancy hats? Have you ever wondered why they look so silly? Come and find out at our FREE drop-in craft session this Easter Holiday at the Museum of Cambridge. \nLearn why Easter bonnets became popular in Victorian England\, and how strange some of them were\, before making your own Easter hat. \nHave a go at plaiting the same way ‘Mad Hatters’ used to for hundreds of years! \nThis drop-in craft is suitable for families with children 5+. No need to book\, just pop in to the Enid Porter Room at the Museum. \n  \nDates: \nMonday 7th April\nFriday 11th April\nSaturday 12th April\nMonday 14th April\nFriday 18th April\nSaturday 19th April \n  \nTime: \n11:00 – 15:00 \n  \nTickets: \nThere is no need to book a ticket for this event. It is a FREE drop-in activity in the Enid Porter Room. \n  \nPlace: \nThe Enid Porter Room \nMuseum of Cambridge \n2-3 Castle Street \nCambridge \nCB3 0AQ \n  \nAccessibility: \nThe Enid Porter Room has level access into the space. You can also read about our accessibility information on our website. If you’d like to chat through any accessibility requirements\, don’t hesitate to give us a call on 01223 355159 or email enquiries@museumofcambridge.org.uk. \n  \nGetting Here: \nWe are in the centre of Cambridge. You’ll find us at the corner of Castle Street and Northampton Street. We are right beside Kettle’s Yard and only a 15-minute walk from King’s College. \nYou can park your bike at the bike parks on Bridge Street or on Northampton Street. There is a bus stop nearby on Bridge Street. Find out more about how to get here by train\, bike\, bus\, car or on foot on our website. \n  \nPhotography: \nPlease note that photographs may be taken throughout this event\, and images may be used in future marketing and reporting materials. If you do not wish for you or your family’s photograph to be taken\, please make sure to let us know. \n  \nHealthy Events: \nIf you’re feeling unwell or have recently tested positive for COVID-19\, please do not attend this event. We’ll be happy to welcome you at the Museum on another day.
URL:https://www.museumofcambridge.org.uk/event/beautiful-bonnets-easter-holidays-2025-3/
LOCATION:Enid Porter Room\, Museum of Cambridge\, 2-3 Castle Street\, Cambridge\, Cambridgeshire\, CB3 0AQ\, United Kingdom
CATEGORIES:Activity,Arts and Crafts,Workshop
ATTACH;FMTTYPE=image/png:https://www.museumofcambridge.org.uk/wp-content/uploads/2025/03/Beautiful-Bonnets-Social-1.png
END:VEVENT
BEGIN:VEVENT
DTSTART;TZID=Europe/London:20250414T110000
DTEND;TZID=Europe/London:20250414T150000
DTSTAMP:20260421T144311
CREATED:20250314T121454Z
LAST-MODIFIED:20250403T124652Z
UID:12983-1744628400-1744642800@www.museumofcambridge.org.uk
SUMMARY:Beautiful Bonnets - Easter Holidays 2025
DESCRIPTION:Have you ever seen Victorian ladies wearing big\, fancy hats? Have you ever wondered why they look so silly? Come and find out at our FREE drop-in craft session this Easter Holiday at the Museum of Cambridge. \nLearn why Easter bonnets became popular in Victorian England\, and how strange some of them were\, before making your own Easter hat. \nHave a go at plaiting the same way ‘Mad Hatters’ used to for hundreds of years! \nThis drop-in craft is suitable for families with children 5+. No need to book\, just pop in to the Enid Porter Room at the Museum. \n  \nDates: \nMonday 7th April\nFriday 11th April\nSaturday 12th April\nMonday 14th April\nFriday 18th April\nSaturday 19th April \n  \nTime: \n11:00 – 15:00 \n  \nTickets: \nThere is no need to book a ticket for this event. It is a FREE drop-in activity in the Enid Porter Room. \n  \nPlace: \nThe Enid Porter Room \nMuseum of Cambridge \n2-3 Castle Street \nCambridge \nCB3 0AQ \n  \nAccessibility: \nThe Enid Porter Room has level access into the space. You can also read about our accessibility information on our website. If you’d like to chat through any accessibility requirements\, don’t hesitate to give us a call on 01223 355159 or email enquiries@museumofcambridge.org.uk. \n  \nGetting Here: \nWe are in the centre of Cambridge. You’ll find us at the corner of Castle Street and Northampton Street. We are right beside Kettle’s Yard and only a 15-minute walk from King’s College. \nYou can park your bike at the bike parks on Bridge Street or on Northampton Street. There is a bus stop nearby on Bridge Street. Find out more about how to get here by train\, bike\, bus\, car or on foot on our website. \n  \nPhotography: \nPlease note that photographs may be taken throughout this event\, and images may be used in future marketing and reporting materials. If you do not wish for you or your family’s photograph to be taken\, please make sure to let us know. \n  \nHealthy Events: \nIf you’re feeling unwell or have recently tested positive for COVID-19\, please do not attend this event. We’ll be happy to welcome you at the Museum on another day.
URL:https://www.museumofcambridge.org.uk/event/beautiful-bonnets-easter-holidays-2025-4/
LOCATION:Enid Porter Room\, Museum of Cambridge\, 2-3 Castle Street\, Cambridge\, Cambridgeshire\, CB3 0AQ\, United Kingdom
CATEGORIES:Activity,Arts and Crafts,Workshop
ATTACH;FMTTYPE=image/png:https://www.museumofcambridge.org.uk/wp-content/uploads/2025/03/Beautiful-Bonnets-Social-1.png
END:VEVENT
BEGIN:VEVENT
DTSTART;TZID=Europe/London:20250418T110000
DTEND;TZID=Europe/London:20250418T150000
DTSTAMP:20260421T144311
CREATED:20250314T121655Z
LAST-MODIFIED:20250403T124555Z
UID:12985-1744974000-1744988400@www.museumofcambridge.org.uk
SUMMARY:Beautiful Bonnets - Easter Holidays 2025
DESCRIPTION:Have you ever seen Victorian ladies wearing big\, fancy hats? Have you ever wondered why they look so silly? Come and find out at our FREE drop-in craft session this Easter Holiday at the Museum of Cambridge. \nLearn why Easter bonnets became popular in Victorian England\, and how strange some of them were\, before making your own Easter hat. \nHave a go at plaiting the same way ‘Mad Hatters’ used to for hundreds of years! \nThis drop-in craft is suitable for families with children 5+. No need to book\, just pop in to the Enid Porter Room at the Museum. \n  \nDates: \nMonday 7th April\nFriday 11th April\nSaturday 12th April\nMonday 14th April\nFriday 18th April\nSaturday 19th April \n  \nTime: \n11:00 – 15:00 \n  \nTickets: \nThere is no need to book a ticket for this event. It is a FREE drop-in activity in the Enid Porter Room. \n  \nPlace: \nThe Enid Porter Room \nMuseum of Cambridge \n2-3 Castle Street \nCambridge \nCB3 0AQ \n  \nAccessibility: \nThe Enid Porter Room has level access into the space. You can also read about our accessibility information on our website. If you’d like to chat through any accessibility requirements\, don’t hesitate to give us a call on 01223 355159 or email enquiries@museumofcambridge.org.uk. \n  \nGetting Here: \nWe are in the centre of Cambridge. You’ll find us at the corner of Castle Street and Northampton Street. We are right beside Kettle’s Yard and only a 15-minute walk from King’s College. \nYou can park your bike at the bike parks on Bridge Street or on Northampton Street. There is a bus stop nearby on Bridge Street. Find out more about how to get here by train\, bike\, bus\, car or on foot on our website. \n  \nPhotography: \nPlease note that photographs may be taken throughout this event\, and images may be used in future marketing and reporting materials. If you do not wish for you or your family’s photograph to be taken\, please make sure to let us know. \n  \nHealthy Events: \nIf you’re feeling unwell or have recently tested positive for COVID-19\, please do not attend this event. We’ll be happy to welcome you at the Museum on another day.
URL:https://www.museumofcambridge.org.uk/event/beautiful-bonnets-easter-holidays-2025-5/
LOCATION:Enid Porter Room\, Museum of Cambridge\, 2-3 Castle Street\, Cambridge\, Cambridgeshire\, CB3 0AQ\, United Kingdom
CATEGORIES:Activity,Arts and Crafts,Workshop
ATTACH;FMTTYPE=image/png:https://www.museumofcambridge.org.uk/wp-content/uploads/2025/03/Beautiful-Bonnets-Social-1.png
END:VEVENT
BEGIN:VEVENT
DTSTART;TZID=Europe/London:20250419T110000
DTEND;TZID=Europe/London:20250419T150000
DTSTAMP:20260421T144311
CREATED:20250314T121813Z
LAST-MODIFIED:20250403T124506Z
UID:12987-1745060400-1745074800@www.museumofcambridge.org.uk
SUMMARY:Beautiful Bonnets - Easter Holidays 2025
DESCRIPTION:Have you ever seen Victorian ladies wearing big\, fancy hats? Have you ever wondered why they look so silly? Come and find out at our FREE drop-in craft session this Easter Holiday at the Museum of Cambridge. \nLearn why Easter bonnets became popular in Victorian England\, and how strange some of them were\, before making your own Easter hat. \nHave a go at plaiting the same way ‘Mad Hatters’ used to for hundreds of years! \nThis drop-in craft is suitable for families with children 5+. No need to book\, just pop in to the Enid Porter Room at the Museum. \n  \nDates: \nMonday 7th April\nFriday 11th April\nSaturday 12th April\nMonday 14th April\nFriday 18th April\nSaturday 19th April \n  \nTime: \n11:00 – 15:00 \n  \nTickets: \nThere is no need to book a ticket for this event. It is a FREE drop-in activity in the Enid Porter Room. \n  \nPlace: \nThe Enid Porter Room \nMuseum of Cambridge \n2-3 Castle Street \nCambridge \nCB3 0AQ \n  \nAccessibility: \nThe Enid Porter Room has level access into the space. You can also read about our accessibility information on our website. If you’d like to chat through any accessibility requirements\, don’t hesitate to give us a call on 01223 355159 or email enquiries@museumofcambridge.org.uk. \n  \nGetting Here: \nWe are in the centre of Cambridge. You’ll find us at the corner of Castle Street and Northampton Street. We are right beside Kettle’s Yard and only a 15-minute walk from King’s College. \nYou can park your bike at the bike parks on Bridge Street or on Northampton Street. There is a bus stop nearby on Bridge Street. Find out more about how to get here by train\, bike\, bus\, car or on foot on our website. \n  \nPhotography: \nPlease note that photographs may be taken throughout this event\, and images may be used in future marketing and reporting materials. If you do not wish for you or your family’s photograph to be taken\, please make sure to let us know. \n  \nHealthy Events: \nIf you’re feeling unwell or have recently tested positive for COVID-19\, please do not attend this event. We’ll be happy to welcome you at the Museum on another day.
URL:https://www.museumofcambridge.org.uk/event/beautiful-bonnets-easter-holidays-2025-6/
LOCATION:Enid Porter Room\, Museum of Cambridge\, 2-3 Castle Street\, Cambridge\, Cambridgeshire\, CB3 0AQ\, United Kingdom
CATEGORIES:Activity,Arts and Crafts,Workshop
ATTACH;FMTTYPE=image/png:https://www.museumofcambridge.org.uk/wp-content/uploads/2025/03/Beautiful-Bonnets-Social-1.png
END:VEVENT
BEGIN:VEVENT
DTSTART;VALUE=DATE:20250430
DTEND;VALUE=DATE:20250501
DTSTAMP:20260421T144311
CREATED:20250331T090245Z
LAST-MODIFIED:20250417T101220Z
UID:13002-1745971200-1746057599@www.museumofcambridge.org.uk
SUMMARY:Little Feet\, Big Impressions
DESCRIPTION:Little Feet\, Big Impressions at the Museum of Cambridge! \nJoin us for our programme of FREE storytelling and activities every two weeks for families with children aged 1-5. \nBe welcomed into the Museum’s purpose-built event space\, the Enid Porter Room\, with complementary tea and coffee\, before entering our 16th-century building to explore the objects on display with some storytelling. \nThen return to the Enid Porter Room for a sensory activity related to the story you heard. \nLittle Feet\, Big Impressions is a unique opportunity for you and your little ones to engage with history in a relaxed and inclusive environment. \nSessions run every other Wednesday from 10:30 – 12:00 and 14:00 – 15:30. Both sessions are identical\, so please book for whichever is most convenient. \nThis is NOT a drop-in session\, and will begin at the advertised start time. \nTickets are FREE\, but places must be booked in advance. Please book for you and your child (minimum 2 tickets) \n 
URL:https://www.museumofcambridge.org.uk/event/little-feet-big-impressions-45/
LOCATION:Enid Porter Room\, Museum of Cambridge\, 2-3 Castle Street\, Cambridge\, Cambridgeshire\, CB3 0AQ\, United Kingdom
CATEGORIES:Activity,Arts and Crafts,Museum
ATTACH;FMTTYPE=image/png:https://www.museumofcambridge.org.uk/wp-content/uploads/2025/03/Mini_MoC_Social_Media_Template_1080x1080_1-2.png
END:VEVENT
END:VCALENDAR