BEGIN:VCALENDAR
VERSION:2.0
PRODID:-//The Museum of Cambridge - ECPv6.15.20//NONSGML v1.0//EN
CALSCALE:GREGORIAN
METHOD:PUBLISH
X-ORIGINAL-URL:https://www.museumofcambridge.org.uk
X-WR-CALDESC:Events for The Museum of Cambridge
REFRESH-INTERVAL;VALUE=DURATION:PT1H
X-Robots-Tag:noindex
X-PUBLISHED-TTL:PT1H
BEGIN:VTIMEZONE
TZID:Europe/London
BEGIN:DAYLIGHT
TZOFFSETFROM:+0000
TZOFFSETTO:+0100
TZNAME:BST
DTSTART:20240331T010000
END:DAYLIGHT
BEGIN:STANDARD
TZOFFSETFROM:+0100
TZOFFSETTO:+0000
TZNAME:GMT
DTSTART:20241027T010000
END:STANDARD
BEGIN:DAYLIGHT
TZOFFSETFROM:+0000
TZOFFSETTO:+0100
TZNAME:BST
DTSTART:20250330T010000
END:DAYLIGHT
BEGIN:STANDARD
TZOFFSETFROM:+0100
TZOFFSETTO:+0000
TZNAME:GMT
DTSTART:20251026T010000
END:STANDARD
BEGIN:DAYLIGHT
TZOFFSETFROM:+0000
TZOFFSETTO:+0100
TZNAME:BST
DTSTART:20260329T010000
END:DAYLIGHT
BEGIN:STANDARD
TZOFFSETFROM:+0100
TZOFFSETTO:+0000
TZNAME:GMT
DTSTART:20261025T010000
END:STANDARD
END:VTIMEZONE
BEGIN:VEVENT
DTSTART;TZID=Europe/London:20250601T110000
DTEND;TZID=Europe/London:20250601T150000
DTSTAMP:20260421T113036
CREATED:20250430T145546Z
LAST-MODIFIED:20250430T145546Z
UID:13752-1748775600-1748790000@www.museumofcambridge.org.uk
SUMMARY:Audio Inspirations
DESCRIPTION:Cambridge has a wonderful history of music\, come and hear it! From medieval choirs to folk singers and steel pan bands\, the city’s sounds are as varied as its people. \nAt this FREE drop-in craft we will be playing a series of local music as inspiration for your own creativity. Come along\, listen in and make your own sculpture\, or painting\, or any work of art you like in response to the music. \nSuitable for children 5+ with accompanying adults. \nAlso\, make sure to visit the Museum for the Audio Inspirations Trail. Running only during Half Term you can explore the history of sound and music even further through our collection. \n  \nDates: \nSaturday 24th May\nSunday 25th May\nMonday 26th May\nFriday 30th May\nSaturday 31st May\nSunday 1st June \n  \nTime: \n11:00 – 15:00 \n  \nTickets: \nThere is no need to book a ticket for this event. It is a FREE drop-in activity in the Enid Porter Room. \n  \nPlace: \nThe Enid Porter Room \nMuseum of Cambridge \n2-3 Castle Street \nCambridge \nCB3 0AQ \n  \nAccessibility: \nThe Enid Porter Room has level access into the space. You can also read about our accessibility information on our website. If you’d like to chat through any accessibility requirements\, don’t hesitate to give us a call on 01223 355159 or email enquiries@museumofcambridge.org.uk. \n  \nGetting Here: \nWe are in the centre of Cambridge. You’ll find us at the corner of Castle Street and Northampton Street. We are right beside Kettle’s Yard and only a 15-minute walk from King’s College. \nYou can park your bike at the bike parks on Bridge Street or on Northampton Street. There is a bus stop nearby on Bridge Street. Find out more about how to get here by train\, bike\, bus\, car or on foot on our website. \n  \nPhotography: \nPlease note that photographs may be taken throughout this event\, and images may be used in future marketing and reporting materials. If you do not wish for you or your family’s photograph to be taken\, please make sure to let us know. \n  \nHealthy Events: \nIf you’re feeling unwell or have recently tested positive for COVID-19\, please do not attend this event. We’ll be happy to welcome you at the Museum on another day.
URL:https://www.museumofcambridge.org.uk/event/audio-inspirations-6/
LOCATION:Enid Porter Room\, Museum of Cambridge\, 2-3 Castle Street\, Cambridge\, Cambridgeshire\, CB3 0AQ\, United Kingdom
CATEGORIES:Activity,Arts and Crafts,Museum
ATTACH;FMTTYPE=image/png:https://www.museumofcambridge.org.uk/wp-content/uploads/2025/04/Morris-Audio-Inspirations-Social.png
END:VEVENT
BEGIN:VEVENT
DTSTART;TZID=Europe/London:20250607T103000
DTEND;TZID=Europe/London:20250607T163000
DTSTAMP:20260421T113036
CREATED:20250514T165328Z
LAST-MODIFIED:20250530T152313Z
UID:13815-1749292200-1749313800@www.museumofcambridge.org.uk
SUMMARY:MUSEUM UNLOCKED: A Day Behind the Scenes
DESCRIPTION:Ever wondered what behind the scenes of a Museum looks like? Now’s your chance to find out!\nJoin us for a one-day special event packed with FREE hands-on activities\, expert talks\, and access to hidden areas of the Museum. \nWhen: Saturday 7 June 2025\, 10:30am – 4:30pm \nWhere: Museum of Cambridge\, 2-3 Castle Street\, CB5 8SE \nCost: FREE!* \n*All activities in our courtyard and Enid Porter Room\, including Collection Care Chats\, Behind the Scene Tours\, Design Your Own Badge are free. Admission ticket is required for entry into the Museum itself (Standard entry £7\, Concession entry £6\, Free for 16 and under). \n  \n\n\n💬Collection Care Chats \nHear from our Collections Officer on what it means to care for the objects in the Museum. In our short 20-minute introduction\, learn how we care for our collection with specialised equipment and skills\, how we track and document items\, and how we continue to safeguard Cambridgeshire history through our Museum objects. Sessions will run at 11:00am\, 12:30pm\, 2:00pm and 4:00pm. \n🔍Museum Unlocked: Behind the Scenes Tour \nThe Museum boasts 40\,000 objects in our care\, and plenty of it is kept safely in our stores. Join our 30-minute behind the scenes tour to take a look at areas normally closed to the public and understand how we keep our objects safe. Due to space constraints\, tours are limited to six people per tour\, and sign ups are first come\, first serve on the day at the Museum front desk. Sessions will run at 11:30am\, 1:30pm\, and 3:00pm. \n🎖️Design Your Own Badge \nWant to take a souvenir home? Make and take home your own badge inspired by your favourite object at the Museum to remember your time with us! \n🖌️Conservation in Action: Have a Go! \nTry your hand in cleaning an object from our collection\, learn what materials are used and how to clean like an expert! Join our collections team and learn about how and why we clean the objects in our collection\, and how you can support our collection care with the Adopt an Object scheme! \n\n\nPlease note that Conservation in Action: Have a Go will begin at 11am and is inside the Museum of Cambridge building\, which requires an admission ticket (£ 7/Standard\, £6/Concession\, Free for 16 and under). \n🍰 Sweet Treats\, Too!Enjoy a bite-sized treat on us! Free sweet snacks catered by local café Bridges will be available in the Enid Porter room throughout the day\, as a little thank-you when you sign up to our mailing list. \n\n\n  \nAccessibility \nYou can also read about our accessibility information on our website. If you’d like to chat through any accessibility requirements\, don’t hesitate to give us a call on 01223 355159 or email enquiries@museumofcambridge.org.uk. Event attendees with additional needs are welcome to bring a supporter or carer who will be admitted to the event free of charge.   \nGetting Here \nWe are in the centre of Cambridge. You’ll find us at the corner of Castle Street and Northampton Street. We are right beside Kettle’s Yard and only a 15-minute walk from King’s College.  \nYou can park your bike at the bike parks on Bridge Street or on Northampton Street. There is a bus stop on Bridge Street. Check out the Stagecoach website to plan your journey to and from the Museum. Find out more about how to get here by train\, bike\, bus\, car or on foot on our website.  \nPhotography and Videography\nPlease also note that photographs will be taken throughout this event\, and images may be used in future marketing and reporting materials. If you do not wish you or your family’s photograph to be taken\, please make sure to let us know.  \nHealthy Events \nIf you’re feeling unwell or have recently tested positive for Covid-19\, please do not attend this event. We’ll be happy to offer you a refund if applicable\, and welcome you at the Museum on another day.
URL:https://www.museumofcambridge.org.uk/event/museum-unlocked/
LOCATION:Enid Porter Room\, Museum of Cambridge\, 2-3 Castle Street\, Cambridge\, Cambridgeshire\, CB3 0AQ\, United Kingdom
CATEGORIES:Activity,Arts and Crafts,Museum,Our Cambridge
ATTACH;FMTTYPE=image/png:https://www.museumofcambridge.org.uk/wp-content/uploads/2025/05/generic-Square-Museum-Unlocked.png
END:VEVENT
BEGIN:VEVENT
DTSTART;TZID=Europe/London:20250611T103000
DTEND;TZID=Europe/London:20250611T120000
DTSTAMP:20260421T113036
CREATED:20250528T115452Z
LAST-MODIFIED:20250528T115452Z
UID:13847-1749637800-1749643200@www.museumofcambridge.org.uk
SUMMARY:Little Feet\, Big Impressions
DESCRIPTION:Little Feet\, Big Impressions at the Museum of Cambridge! \nJoin us for our programme of FREE storytelling and activities every two weeks for families with children aged 1-5. \nBe welcomed into the Museum’s purpose-built event space\, the Enid Porter Room\, with complementary tea and coffee\, before entering our 16th-century building to explore the objects on display with some storytelling. \nThen return to the Enid Porter Room for a sensory activity related to the story you heard. \nLittle Feet\, Big Impressions is a unique opportunity for you and your little ones to engage with history in a relaxed and inclusive environment. \nSessions run every other Wednesday from 10:30 – 12:00. \nThis is NOT a drop-in session\, and will begin at the advertised start time. \nTickets are FREE\, but places must be booked in advance. Please book for you and your child (minimum 2 tickets) \n 
URL:https://www.museumofcambridge.org.uk/event/little-feet-big-impressions-48/
LOCATION:Enid Porter Room\, Museum of Cambridge\, 2-3 Castle Street\, Cambridge\, Cambridgeshire\, CB3 0AQ\, United Kingdom
CATEGORIES:Activity,Arts and Crafts,Museum
ATTACH;FMTTYPE=image/png:https://www.museumofcambridge.org.uk/wp-content/uploads/2025/03/Mini_MoC_Social_Media_Template_1080x1080_1-2.png
END:VEVENT
BEGIN:VEVENT
DTSTART;TZID=Europe/London:20250625T103000
DTEND;TZID=Europe/London:20250625T120000
DTSTAMP:20260421T113036
CREATED:20250611T123548Z
LAST-MODIFIED:20250611T123548Z
UID:13936-1750847400-1750852800@www.museumofcambridge.org.uk
SUMMARY:Little Feet\, Big Impressions
DESCRIPTION:Little Feet\, Big Impressions at the Museum of Cambridge! \nJoin us for our programme of FREE storytelling and activities every two weeks for families with children aged 1-5. \nBe welcomed into the Museum’s purpose-built event space\, the Enid Porter Room\, with complementary tea and coffee\, before entering our 16th-century building to explore the objects on display with some storytelling. \nThen return to the Enid Porter Room for a sensory activity related to the story you heard. \nLittle Feet\, Big Impressions is a unique opportunity for you and your little ones to engage with history in a relaxed and inclusive environment. \nSessions run every other Wednesday from 10:30 – 12:00. \nThis is NOT a drop-in session\, and will begin at the advertised start time. \nTickets are FREE\, but places must be booked in advance. Please book for you and your child (minimum 2 tickets) \n 
URL:https://www.museumofcambridge.org.uk/event/little-feet-big-impressions-49/
LOCATION:Enid Porter Room\, Museum of Cambridge\, 2-3 Castle Street\, Cambridge\, Cambridgeshire\, CB3 0AQ\, United Kingdom
CATEGORIES:Activity,Arts and Crafts,Museum
ATTACH;FMTTYPE=image/png:https://www.museumofcambridge.org.uk/wp-content/uploads/2025/03/Mini_MoC_Social_Media_Template_1080x1080_1-2.png
END:VEVENT
END:VCALENDAR