BEGIN:VCALENDAR
VERSION:2.0
PRODID:-//The Museum of Cambridge - ECPv6.15.20//NONSGML v1.0//EN
CALSCALE:GREGORIAN
METHOD:PUBLISH
X-WR-CALNAME:The Museum of Cambridge
X-ORIGINAL-URL:https://www.museumofcambridge.org.uk
X-WR-CALDESC:Events for The Museum of Cambridge
REFRESH-INTERVAL;VALUE=DURATION:PT1H
X-Robots-Tag:noindex
X-PUBLISHED-TTL:PT1H
BEGIN:VTIMEZONE
TZID:Europe/London
BEGIN:DAYLIGHT
TZOFFSETFROM:+0000
TZOFFSETTO:+0100
TZNAME:BST
DTSTART:20210328T010000
END:DAYLIGHT
BEGIN:STANDARD
TZOFFSETFROM:+0100
TZOFFSETTO:+0000
TZNAME:GMT
DTSTART:20211031T010000
END:STANDARD
BEGIN:DAYLIGHT
TZOFFSETFROM:+0000
TZOFFSETTO:+0100
TZNAME:BST
DTSTART:20220327T010000
END:DAYLIGHT
BEGIN:STANDARD
TZOFFSETFROM:+0100
TZOFFSETTO:+0000
TZNAME:GMT
DTSTART:20221030T010000
END:STANDARD
BEGIN:DAYLIGHT
TZOFFSETFROM:+0000
TZOFFSETTO:+0100
TZNAME:BST
DTSTART:20230326T010000
END:DAYLIGHT
BEGIN:STANDARD
TZOFFSETFROM:+0100
TZOFFSETTO:+0000
TZNAME:GMT
DTSTART:20231029T010000
END:STANDARD
END:VTIMEZONE
BEGIN:VEVENT
DTSTART;TZID=Europe/London:20221217T100000
DTEND;TZID=Europe/London:20221217T123000
DTSTAMP:20260421T233534
CREATED:20221112T153651Z
LAST-MODIFIED:20221112T154425Z
UID:9262-1671271200-1671280200@www.museumofcambridge.org.uk
SUMMARY:Festive Folktales and more!
DESCRIPTION:Come one\, come all to our Festive folktales and more! \nEnjoy seasonal arts and crafts before being swept away in to Chips storytelling with Festive Folktales! \nFirst (for 1 hour) – We have card making\, decoration creation station and Christmas collaging in our Arts and crafts session \nThere is then a half hour break – this is a great chance to have a look around the Museum of Cambridge\, we have Children’s trails suitable for all ages and Children’s’ tickets are FREE! (available on site). \nSecond (for 1 hour) – Chip from EpicTales enchants with his folktale storytelling! \nFamily friendly and suitable for all ages. \nTo get your tickets click the link below!
URL:https://www.museumofcambridge.org.uk/event/festive-folktales-and-more-3/
LOCATION:Enid Porter Room\, Museum of Cambridge\, 2-3 Castle Street\, Cambridge\, Cambridgeshire\, CB3 0AQ\, United Kingdom
CATEGORIES:Activity,Arts and Crafts,Museum
ATTACH;FMTTYPE=image/png:https://www.museumofcambridge.org.uk/wp-content/uploads/2022/11/Festive-pic-for-eventswebsite-1.png
END:VEVENT
BEGIN:VEVENT
DTSTART;TZID=Europe/London:20221210T133000
DTEND;TZID=Europe/London:20221210T160000
DTSTAMP:20260421T233534
CREATED:20221112T153225Z
LAST-MODIFIED:20221112T154528Z
UID:9259-1670679000-1670688000@www.museumofcambridge.org.uk
SUMMARY:Festive Folktales and more!
DESCRIPTION:Come one\, come all to our Festive Folktales and more! \n\n\n\n\nEnjoy some seasonal arts and crafts before being swept away into Chips storytelling with Festive Folktales! \nFirst (for 1 hour) – We have card making\, a Decoration Creation Station and Christmas collaging in our Arts and Crafts session \nThere is then a half hour break – this is a great chance to have a look around the Museum of Cambridge\, we have Children’s trails suitable for all ages and Children’s’ tickets are FREE! (available on site). \nSecond (for 1 hour) – Chip from EpicTales enchants with his folktale storytelling! \nFamily friendly and suitable for all ages. \nTo get your free tickets click the link below! \n 
URL:https://www.museumofcambridge.org.uk/event/festive-folktales-and-more-2/
LOCATION:Cambridgeshire
CATEGORIES:Activity,Arts and Crafts,Museum
ATTACH;FMTTYPE=image/png:https://www.museumofcambridge.org.uk/wp-content/uploads/2022/11/Festive-pic-for-eventswebsite-1.png
END:VEVENT
END:VCALENDAR