BEGIN:VCALENDAR
VERSION:2.0
PRODID:-//The Museum of Cambridge - ECPv6.15.20//NONSGML v1.0//EN
CALSCALE:GREGORIAN
METHOD:PUBLISH
X-ORIGINAL-URL:https://www.museumofcambridge.org.uk
X-WR-CALDESC:Events for The Museum of Cambridge
REFRESH-INTERVAL;VALUE=DURATION:PT1H
X-Robots-Tag:noindex
X-PUBLISHED-TTL:PT1H
BEGIN:VTIMEZONE
TZID:Europe/London
BEGIN:DAYLIGHT
TZOFFSETFROM:+0000
TZOFFSETTO:+0100
TZNAME:BST
DTSTART:20230326T010000
END:DAYLIGHT
BEGIN:STANDARD
TZOFFSETFROM:+0100
TZOFFSETTO:+0000
TZNAME:GMT
DTSTART:20231029T010000
END:STANDARD
BEGIN:DAYLIGHT
TZOFFSETFROM:+0000
TZOFFSETTO:+0100
TZNAME:BST
DTSTART:20240331T010000
END:DAYLIGHT
BEGIN:STANDARD
TZOFFSETFROM:+0100
TZOFFSETTO:+0000
TZNAME:GMT
DTSTART:20241027T010000
END:STANDARD
BEGIN:DAYLIGHT
TZOFFSETFROM:+0000
TZOFFSETTO:+0100
TZNAME:BST
DTSTART:20250330T010000
END:DAYLIGHT
BEGIN:STANDARD
TZOFFSETFROM:+0100
TZOFFSETTO:+0000
TZNAME:GMT
DTSTART:20251026T010000
END:STANDARD
END:VTIMEZONE
BEGIN:VEVENT
DTSTART;TZID=Europe/London:20241019T140000
DTEND;TZID=Europe/London:20241019T170000
DTSTAMP:20260422T070406
CREATED:20241004T074309Z
LAST-MODIFIED:20241010T082738Z
UID:12280-1729346400-1729357200@www.museumofcambridge.org.uk
SUMMARY:You Are Invited: Launch of Legacies of Windrush in Cambridgeshire
DESCRIPTION:The Museum of Cambridge warmly invites you to a special event celebrating the launch of the Legacies of Windrush in Cambridgeshire project. Join us on October 19th\, from 2 pm – 5 pm for an afternoon of celebration\, storytelling\, and community. \nWe are honoured to welcome our partner in this project\, Dr Carol Brown-Leonardi who will give a talk highlighting the significance of the Windrush generation’s contributions and legacy. You will also hear more about the project from the Museum of Cambridge\, and how you or your loved ones can get involved. This event will mark the beginning of an exciting journey to collect and share the stories of the Windrush Elders\, preserving them for future generations through an exhibition and events. We’re excited to work with young people to bring these stories to life and truly celebrate the lives of the Windrush Generation in Cambridgeshire. \nEnjoy a wonderful afternoon filled with music and delicious food\, as well as an opportunity to visit the Museum and connect with fellow members of the Windrush community. \n Event Details: \n📅 Date: October 19\, 2024 \n🕒 Time: 2:00 PM – 5:00 PM \n📍 Location: Museum of Cambridge\, 2-3 Castle Street\, Cambridge\, CB3 0AQ \nWe look forward to celebrating with you\, and together\, preserving the legacy of the Windrush generation in Cambridgeshire. \nPlease RSVP by emailing alex.smaridge@museumofcambridge.org.uk for catering purposes. All are welcome! \n 
URL:https://www.museumofcambridge.org.uk/event/you-are-invited-launch-of-legacies-of-windrush-in-cambridgeshire/
LOCATION:The Museum of Cambridge\, 2-3 Castle Street\, Cambridge\, Cambridgeshire\, CB3 0AQ\, United Kingdom
CATEGORIES:Exhibition,Legacies of Windrush in Cambridgeshire,Museum,Talk
ATTACH;FMTTYPE=image/jpeg:https://www.museumofcambridge.org.uk/wp-content/uploads/2024/10/HMT_Empire_Windrush_FL9448-2.jpg
END:VEVENT
END:VCALENDAR