BEGIN:VCALENDAR
VERSION:2.0
PRODID:-//The Museum of Cambridge - ECPv6.15.20//NONSGML v1.0//EN
CALSCALE:GREGORIAN
METHOD:PUBLISH
X-WR-CALNAME:The Museum of Cambridge
X-ORIGINAL-URL:https://www.museumofcambridge.org.uk
X-WR-CALDESC:Events for The Museum of Cambridge
REFRESH-INTERVAL;VALUE=DURATION:PT1H
X-Robots-Tag:noindex
X-PUBLISHED-TTL:PT1H
BEGIN:VTIMEZONE
TZID:Europe/London
BEGIN:DAYLIGHT
TZOFFSETFROM:+0000
TZOFFSETTO:+0100
TZNAME:BST
DTSTART:20240331T010000
END:DAYLIGHT
BEGIN:STANDARD
TZOFFSETFROM:+0100
TZOFFSETTO:+0000
TZNAME:GMT
DTSTART:20241027T010000
END:STANDARD
BEGIN:DAYLIGHT
TZOFFSETFROM:+0000
TZOFFSETTO:+0100
TZNAME:BST
DTSTART:20250330T010000
END:DAYLIGHT
BEGIN:STANDARD
TZOFFSETFROM:+0100
TZOFFSETTO:+0000
TZNAME:GMT
DTSTART:20251026T010000
END:STANDARD
BEGIN:DAYLIGHT
TZOFFSETFROM:+0000
TZOFFSETTO:+0100
TZNAME:BST
DTSTART:20260329T010000
END:DAYLIGHT
BEGIN:STANDARD
TZOFFSETFROM:+0100
TZOFFSETTO:+0000
TZNAME:GMT
DTSTART:20261025T010000
END:STANDARD
END:VTIMEZONE
BEGIN:VEVENT
DTSTART;TZID=Europe/London:20250313T180000
DTEND;TZID=Europe/London:20250313T190000
DTSTAMP:20260422T073137
CREATED:20250205T152949Z
LAST-MODIFIED:20250205T153342Z
UID:12840-1741888800-1741892400@www.museumofcambridge.org.uk
SUMMARY:Her Cambridge: Reframing Women’s Hidden Histories
DESCRIPTION:Delve into the untold stories of women in Cambridge with Uncomfortable Cambridge\, and critically examine how we narrate their history! \n\n\nInspired by Uncomfortable Cambridge‘s Hidden Histories tour\, this lecture delves into the untold stories of women in Cambridge and critically examines how we narrate their history. Building on the tour’s exploration of women’s urban\, academic\, and family lives\, the construction of gendered identities\, and queer experiences\, this talk addresses key questions: What gaps exist in the historical record\, and how can we amplify silenced voices? Through case studies of pioneering women scholars\, everyday lives\, and communities\, we’ll explore their struggles\, achievements\, and the ways historical narratives have excluded or misrepresented them. \nJoin us to discuss strategies for creating a more comprehensive narrative of Cambridge’s past. \nAbout the speaker: \nUncomfortable Cambridge is a community interest company and a social enterprise that runs unique walking tours that highlight histories of race\, gender\, class\, and legacies of empire. Run by university researchers\, our tours are dedicated to diversifying the stories told about Cambridge. \nLearn more at: https://www.uncomfortablecambridge.com/ \n\n\n\n\nBook now: \nHer Cambridge: Reframing Women’s Hidden Histories Tickets\, Thu\, Mar 13\, 2025 at 6:00 PM | Eventbrite \n  \nSupporting the Museum of Cambridge \nThe Museum of Cambridge is an independent Charity and is not part of either the Cambridge Council or the University of Cambridge. We kindly suggest a donation of £7\, which includes the talk and entry to the Museum of Cambridge (usually £6 for Adults\, £4.50 for Students/Jobseekers). Your donation supports the daily running and conservation care of the Museum\, an independent charity. \nNOTE: Eventbrite has changed its set up and now only allows one ‘donate as you feel’ ticket per purchase. Please kindly book tickets separately per email; the same email can be used. \nAccessibility  \nYou can also read about our accessibility information on our website. If you’d like to chat through any accessibility requirements\, don’t hesitate to give us a call on 01223 355159 or email sumyin.wong@museumofcambridge.org.uk. Event attendees with additional needs are welcome to bring a supporter or carer who will be admitted to the event free of charge.   \nGetting Here  \nWe are in the centre of Cambridge. You’ll find us at the corner of Castle Street and Northampton Street. We are right beside Kettle’s Yard and only a 15-minute walk from King’s College.  \nYou can park your bike at the bike parks on Bridge Street or on Northampton Street. There is a bus stop on Bridge Street. Check out the Stagecoach website to plan your journey to and from the Museum. Find out more about how to get here by train\, bike\, bus\, car or on foot on our website.  \nPhotography and Videography \nPlease note that this talk will be recorded for future viewing online. Please also note that photographs will be taken throughout this event\, and images may be used in future marketing and reporting materials. If you do not wish you or your family’s photograph to be taken\, please make sure to let us know.  \nHealthy Events  \nIf you’re feeling unwell or have recently tested positive for Covid-19\, please do not attend this event. We’ll be happy to offer you a refund if applicable\, and welcome you at the Museum on another day.  \nLove events? Love them even more when they’re free? Join the Friends of the Museum of Cambridge today and you’ll get access to free events\, discounts in our shop and year-round free entry for you and a guest.
URL:https://www.museumofcambridge.org.uk/event/her-cambridge/
LOCATION:Enid Porter Room\, Museum of Cambridge\, 2-3 Castle Street\, Cambridge\, Cambridgeshire\, CB3 0AQ\, United Kingdom
CATEGORIES:Museum,Our Cambridge,Talk
ATTACH;FMTTYPE=image/jpeg:https://www.museumofcambridge.org.uk/wp-content/uploads/2025/02/Her-Cambridge-Reframing-Womens-Hidden-Histories.jpg
END:VEVENT
BEGIN:VEVENT
DTSTART;TZID=Europe/London:20250327T180000
DTEND;TZID=Europe/London:20250327T190000
DTSTAMP:20260422T073137
CREATED:20250205T153224Z
LAST-MODIFIED:20250205T153224Z
UID:12844-1743098400-1743102000@www.museumofcambridge.org.uk
SUMMARY:Beyond the Ivory Tower: Sharing Cambridge's Diverse Histories
DESCRIPTION:Join Uncomfortable Cambridge to explore the often overlooked stories and individuals of Cambridge\, tracing their presence through history. \n\n\nCambridge’s traditional histories often conjure images of its prestigious university and iconic architecture\, but these narratives have often obscured the contributions of diverse communities that have profoundly shaped the city’s past. Drawing inspiration from the critical history walking tours of Uncomfortable Cambridge\, this lecture will delve into overlooked stories and individuals\, bringing to light the enduring presence and influences of marginalised ethnic and religious communities and trace their presence throughout the city’s history. \nJoin us to explore how connecting with these often-overlooked histories can not only enrich our understanding of the city’s past but also inspire the building of stronger\, more inclusive communities today. \nAbout the speaker: \nUncomfortable Cambridge is a community interest company and a social enterprise that runs unique walking tours that highlight histories of race\, gender\, class\, and legacies of empire. Run by university researchers\, our tours are dedicated to diversifying the stories told about Cambridge. \nLearn more at: https://www.uncomfortablecambridge.com/ \n\n\n\n\nBook now: \nBeyond the Ivory Tower: Sharing Cambridge’s Diverse Histories Tickets\, Thu\, Mar 27\, 2025 at 6:00 PM | Eventbrite \n  \nSupporting the Museum of Cambridge \nThe Museum of Cambridge is an independent Charity and is not part of either the Cambridge Council or the University of Cambridge. We kindly suggest a donation of £7\, which includes the talk and entry to the Museum of Cambridge (usually £6 for Adults\, £4.50 for Students/Jobseekers). Your donation supports the daily running and conservation care of the Museum\, an independent charity. \nNOTE: Eventbrite has changed its set up and now only allows one ‘donate as you feel’ ticket per purchase. Please kindly book tickets separately per email; the same email can be used. \nAccessibility  \nYou can also read about our accessibility information on our website. If you’d like to chat through any accessibility requirements\, don’t hesitate to give us a call on 01223 355159 or email sumyin.wong@museumofcambridge.org.uk. Event attendees with additional needs are welcome to bring a supporter or carer who will be admitted to the event free of charge.   \nGetting Here  \nWe are in the centre of Cambridge. You’ll find us at the corner of Castle Street and Northampton Street. We are right beside Kettle’s Yard and only a 15-minute walk from King’s College.  \nYou can park your bike at the bike parks on Bridge Street or on Northampton Street. There is a bus stop on Bridge Street. Check out the Stagecoach website to plan your journey to and from the Museum. Find out more about how to get here by train\, bike\, bus\, car or on foot on our website.  \nPhotography and Videography \nPlease note that this talk will be recorded for future viewing online. Please also note that photographs will be taken throughout this event\, and images may be used in future marketing and reporting materials. If you do not wish you or your family’s photograph to be taken\, please make sure to let us know.  \nHealthy Events  \nIf you’re feeling unwell or have recently tested positive for Covid-19\, please do not attend this event. We’ll be happy to offer you a refund if applicable\, and welcome you at the Museum on another day.  \nLove events? Love them even more when they’re free? Join the Friends of the Museum of Cambridge today and you’ll get access to free events\, discounts in our shop and year-round free entry for you and a guest.
URL:https://www.museumofcambridge.org.uk/event/beyond-the-ivory-tower/
LOCATION:Enid Porter Room\, Museum of Cambridge\, 2-3 Castle Street\, Cambridge\, Cambridgeshire\, CB3 0AQ\, United Kingdom
CATEGORIES:Museum,Our Cambridge,Talk
ATTACH;FMTTYPE=image/jpeg:https://www.museumofcambridge.org.uk/wp-content/uploads/2025/02/Beyond-the-Ivory-Tower-Sharing-Cambridges-Diverse-Histories.jpg
END:VEVENT
END:VCALENDAR