BEGIN:VCALENDAR
VERSION:2.0
PRODID:-//The Museum of Cambridge - ECPv6.15.20//NONSGML v1.0//EN
CALSCALE:GREGORIAN
METHOD:PUBLISH
X-WR-CALNAME:The Museum of Cambridge
X-ORIGINAL-URL:https://www.museumofcambridge.org.uk
X-WR-CALDESC:Events for The Museum of Cambridge
REFRESH-INTERVAL;VALUE=DURATION:PT1H
X-Robots-Tag:noindex
X-PUBLISHED-TTL:PT1H
BEGIN:VTIMEZONE
TZID:Europe/London
BEGIN:DAYLIGHT
TZOFFSETFROM:+0000
TZOFFSETTO:+0100
TZNAME:BST
DTSTART:20240331T010000
END:DAYLIGHT
BEGIN:STANDARD
TZOFFSETFROM:+0100
TZOFFSETTO:+0000
TZNAME:GMT
DTSTART:20241027T010000
END:STANDARD
BEGIN:DAYLIGHT
TZOFFSETFROM:+0000
TZOFFSETTO:+0100
TZNAME:BST
DTSTART:20250330T010000
END:DAYLIGHT
BEGIN:STANDARD
TZOFFSETFROM:+0100
TZOFFSETTO:+0000
TZNAME:GMT
DTSTART:20251026T010000
END:STANDARD
BEGIN:DAYLIGHT
TZOFFSETFROM:+0000
TZOFFSETTO:+0100
TZNAME:BST
DTSTART:20260329T010000
END:DAYLIGHT
BEGIN:STANDARD
TZOFFSETFROM:+0100
TZOFFSETTO:+0000
TZNAME:GMT
DTSTART:20261025T010000
END:STANDARD
END:VTIMEZONE
BEGIN:VEVENT
DTSTART;TZID=Europe/London:20250515T130000
DTEND;TZID=Europe/London:20250515T140000
DTSTAMP:20260422T035833
CREATED:20250422T150620Z
LAST-MODIFIED:20250506T141310Z
UID:13619-1747314000-1747317600@www.museumofcambridge.org.uk
SUMMARY:Talk: Cambridge’s Sporting Revolution with a global impact
DESCRIPTION:Explore the history of sport in Cambridge with Nigel Fenner\, author of ‘Cambridge Sport: in Fenner’s hands’!\n\n\nCambridge had a significant involvement in the English sporting revolution that went global from the mid-19th century. Whilst University students were responsible for creating the modern-day laws of football\, boxing\, and a sporting ethos\, it was Frank Fenner\, a local tobacconist and creator of ‘Fenner’s Cricket Ground’ who made a largely unheralded contribution – until now. \nAbout the speaker:\nNigel Fenner came to Cambridge to train as a teacher\, also acquiring a University Football Blue – and has lived locally ever since for over 40 years. Following a career in teaching (with young offenders\, adult with disabilities etc) Nigel today runs Cambridge Sports Tours\, majoring on the book he recently published ‘Cambridge Sport: in Fenner’s hands’. \nYou can purchase ‘Cambridge Sport: in Fenner’s hands’ at the Museum shop. For more information on the book you can also visit: https://www.cambridgesportstours.co.uk/book-for-sale \n\nSupporting the Museum of Cambridge\nThe Museum of Cambridge is an independent Charity and is not part of either the Cambridge Council or the University of Cambridge. We kindly suggest a donation of £8\, which includes the talk and entry to the Museum of Cambridge (usually £7 for Standard\, £6 for Concession). Your donation supports the daily running and conservation care of the Museum\, an independent charity. \n\n\n\nBook Now!\n\n\n  \nAccessibility \nYou can also read about our accessibility information on our website. If you’d like to chat through any accessibility requirements\, don’t hesitate to give us a call on 01223 355159 or email sumyin.wong@museumofcambridge.org.uk. Event attendees with additional needs are welcome to bring a supporter or carer who will be admitted to the event free of charge.   \nGetting Here \nWe are in the centre of Cambridge. You’ll find us at the corner of Castle Street and Northampton Street. We are right beside Kettle’s Yard and only a 15-minute walk from King’s College.  \nYou can park your bike at the bike parks on Bridge Street or on Northampton Street. There is a bus stop on Bridge Street. Check out the Stagecoach website to plan your journey to and from the Museum. Find out more about how to get here by train\, bike\, bus\, car or on foot on our website.  \nPhotography and Videography\nPlease note that this talk will be recorded for future viewing online. Please also note that photographs will be taken throughout this event\, and images may be used in future marketing and reporting materials. If you do not wish you or your family’s photograph to be taken\, please make sure to let us know.  \nHealthy Events \nIf you’re feeling unwell or have recently tested positive for Covid-19\, please do not attend this event. We’ll be happy to offer you a refund if applicable\, and welcome you at the Museum on another day.
URL:https://www.museumofcambridge.org.uk/event/talk-cambridges-sporting-revolution/
LOCATION:Enid Porter Room\, Museum of Cambridge\, 2-3 Castle Street\, Cambridge\, Cambridgeshire\, CB3 0AQ\, United Kingdom
CATEGORIES:Museum,Our Cambridge,Talk
ATTACH;FMTTYPE=image/png:https://www.museumofcambridge.org.uk/wp-content/uploads/2025/04/May-Social-1.png
END:VEVENT
END:VCALENDAR