BEGIN:VCALENDAR
VERSION:2.0
PRODID:-//The Museum of Cambridge - ECPv6.15.20//NONSGML v1.0//EN
CALSCALE:GREGORIAN
METHOD:PUBLISH
X-ORIGINAL-URL:https://www.museumofcambridge.org.uk
X-WR-CALDESC:Events for The Museum of Cambridge
REFRESH-INTERVAL;VALUE=DURATION:PT1H
X-Robots-Tag:noindex
X-PUBLISHED-TTL:PT1H
BEGIN:VTIMEZONE
TZID:Europe/London
BEGIN:DAYLIGHT
TZOFFSETFROM:+0000
TZOFFSETTO:+0100
TZNAME:BST
DTSTART:20240331T010000
END:DAYLIGHT
BEGIN:STANDARD
TZOFFSETFROM:+0100
TZOFFSETTO:+0000
TZNAME:GMT
DTSTART:20241027T010000
END:STANDARD
BEGIN:DAYLIGHT
TZOFFSETFROM:+0000
TZOFFSETTO:+0100
TZNAME:BST
DTSTART:20250330T010000
END:DAYLIGHT
BEGIN:STANDARD
TZOFFSETFROM:+0100
TZOFFSETTO:+0000
TZNAME:GMT
DTSTART:20251026T010000
END:STANDARD
BEGIN:DAYLIGHT
TZOFFSETFROM:+0000
TZOFFSETTO:+0100
TZNAME:BST
DTSTART:20260329T010000
END:DAYLIGHT
BEGIN:STANDARD
TZOFFSETFROM:+0100
TZOFFSETTO:+0000
TZNAME:GMT
DTSTART:20261025T010000
END:STANDARD
END:VTIMEZONE
BEGIN:VEVENT
DTSTART;TZID=Europe/London:20251106T130000
DTEND;TZID=Europe/London:20251106T140000
DTSTAMP:20260421T175205
CREATED:20250822T114328Z
LAST-MODIFIED:20250827T100753Z
UID:14375-1762434000-1762437600@www.museumofcambridge.org.uk
SUMMARY:Talk: A Cambridge Diary: A 365 day project that took 13 years
DESCRIPTION:Martin Bond is a professional photographer who has lived in Cambridge all his life. His personal photography project — A Cambridge Diary\, saw him post a photograph of his hometown online every day for more than thirteen years. At the end of last year at number 5\,000\, he published his final continuous daily picture receiving the attention of national and international media including The Guardian\, BBC and Smithsonian Magazine. He has published two books – ’Town & Gown’ and ’Time & Space’ – each with a picture for every day of the year selected from his archive of photographs. Martin will be talking about his Cambridge Diary project\, his photography and the importance of the viewer in the creative process. \n\n\nAbout the speaker:\n\nMartin Bond was born in Cambridge and has lived in the city all his life. His grandparents ran The Little Rose Public House\, which still trades on Trumpington Street opposite the Fitzwilliam Museum. His mother was an invoicing clerk at Pye Telecommunications\, while his father\, a carpenter\, worked for Coulson & Son\, both businesses with a long history in Cambridge. He has a younger sister and two nephews. \nMartin’s chequered career includes employment as a building surveyor with Coulson & Son\, a retail manager for Andy’s Records\, a singer in professional show band Cops\, Advertising Manager for the Cambridge Evening News and Marketing Director for London media agency Mediaforce. \nIn 2001 Martin left his job in the City and started working as a freelance graphic artist. During this period of self-employment one of his clients asked about some photography work and occasional requests developed into regular assignments for prestigious brands including Jaguar and Coutts & Co. Accidentally\, Martin found that he had become a professional photographer and has continued in this profession. \nFind out more about Martin at acambridgediary.co.uk  and cambridgebooks.co.uk \n\nSupporting the Museum of Cambridge\nThe Museum of Cambridge is an independent Charity and is not part of either the Cambridge Council or the University of Cambridge. We kindly suggest a donation of £8\, which includes the talk and entry to the Museum of Cambridge (usually £7 for Standard\, £6 for Concession). Your donation supports the daily running and conservation care of the Museum\, an independent charity. \n\n\n\nBook Now!\n\n\nAccessibility \nYou can also read about our accessibility information on our website. If you’d like to chat through any accessibility requirements\, don’t hesitate to give us a call on 01223 355159 or email sumyin.wong@museumofcambridge.org.uk. Event attendees with additional needs are welcome to bring a supporter or carer who will be admitted to the event free of charge.   \nGetting Here \nWe are in the centre of Cambridge. You’ll find us at the corner of Castle Street and Northampton Street. We are right beside Kettle’s Yard and only a 15-minute walk from King’s College.  \nYou can park your bike at the bike parks on Bridge Street or on Northampton Street. There is a bus stop on Bridge Street. Check out the Stagecoach website to plan your journey to and from the Museum. Find out more about how to get here by train\, bike\, bus\, car or on foot on our website.  \nPhotography and Videography\nPlease note that this talk will be recorded for future viewing online. Please also note that photographs will be taken throughout this event\, and images may be used in future marketing and reporting materials. If you do not wish for you or your family’s photograph to be taken\, please make sure to let us know.  \nHealthy Events \nIf you’re feeling unwell or have recently tested positive for Covid-19\, please do not attend this event. We’ll be happy to offer you a refund if applicable\, and welcome you at the Museum on another day.
URL:https://www.museumofcambridge.org.uk/event/a-cambridge-diary/
LOCATION:Enid Porter Room\, Museum of Cambridge\, 2-3 Castle Street\, Cambridge\, Cambridgeshire\, CB3 0AQ\, United Kingdom
CATEGORIES:Ghost Hunts,Museum,Our Cambridge,Talk
ATTACH;FMTTYPE=image/png:https://www.museumofcambridge.org.uk/wp-content/uploads/2025/08/November-Talk-Social-1-1.png
END:VEVENT
END:VCALENDAR