BEGIN:VCALENDAR
VERSION:2.0
PRODID:-//The Museum of Cambridge - ECPv6.15.20//NONSGML v1.0//EN
CALSCALE:GREGORIAN
METHOD:PUBLISH
X-ORIGINAL-URL:https://www.museumofcambridge.org.uk
X-WR-CALDESC:Events for The Museum of Cambridge
REFRESH-INTERVAL;VALUE=DURATION:PT1H
X-Robots-Tag:noindex
X-PUBLISHED-TTL:PT1H
BEGIN:VTIMEZONE
TZID:Europe/London
BEGIN:DAYLIGHT
TZOFFSETFROM:+0000
TZOFFSETTO:+0100
TZNAME:BST
DTSTART:20170326T010000
END:DAYLIGHT
BEGIN:STANDARD
TZOFFSETFROM:+0100
TZOFFSETTO:+0000
TZNAME:GMT
DTSTART:20171029T010000
END:STANDARD
BEGIN:DAYLIGHT
TZOFFSETFROM:+0000
TZOFFSETTO:+0100
TZNAME:BST
DTSTART:20180325T010000
END:DAYLIGHT
BEGIN:STANDARD
TZOFFSETFROM:+0100
TZOFFSETTO:+0000
TZNAME:GMT
DTSTART:20181028T010000
END:STANDARD
BEGIN:DAYLIGHT
TZOFFSETFROM:+0000
TZOFFSETTO:+0100
TZNAME:BST
DTSTART:20190331T010000
END:DAYLIGHT
BEGIN:STANDARD
TZOFFSETFROM:+0100
TZOFFSETTO:+0000
TZNAME:GMT
DTSTART:20191027T010000
END:STANDARD
END:VTIMEZONE
BEGIN:VEVENT
DTSTART;TZID=Europe/London:20181004T193000
DTEND;TZID=Europe/London:20181004T213000
DTSTAMP:20260421T211619
CREATED:20180916T114250Z
LAST-MODIFIED:20181003T071228Z
UID:2960-1538681400-1538688600@www.museumofcambridge.org.uk
SUMMARY:Talk: Cambridge Suffragists 1884-1913\, Mary Ward and the Ladies Dining Society
DESCRIPTION:Mary Ward\, from a Newnham College newsletter\, January 1934\nFew people realise how important a group of University of Cambridge wives were  to voting equality and education \nActive between 1890 and 1914\, the Ladies Dining Society was a discussion club formed by twelve Cambridge women\, some of whom were connected with Newnham College. \nMembers of the Society included Ellen Darwin\, Ida Darwin\, Maud Darwin\, Caroline Jebb\, Mary Paley Marshall\, Fanny Prothero\, Eleanor Sidgwick\, Margaret Verrall\, Eliza Von Hügel and Mary Ward as well as founders Louise Creighton and Kathleen Lyttelton. \nJoin Dr Ann Kennedy Smith in the Enid Porter Room on Thursday 4 October and learn more about the importance of this notable group of women and most especially Mary Ward\, author of the play Man and Woman: the Question of the Day and for many years the Honorary Secretary of the Cambridge Women’s Suffrage Association. \nTickets are available at £8.50 each\, from Eventbrite. \nTicket fee includes admission to the Museum\, after the talk\, to view our current exhibition At Last! Votes for Women\n\nAnn Kennedy SmithDr Ann Kennedy Smith is a freelance writer\, researcher and literature tutor\, she was awarded an MA in Creative Writing (Biography and Creative Nonfiction) at the University of East Anglia in 2015. Her book proposal Cambridge Wives was shortlisted for the Biographers Club Tony Lothian Prize for best uncommissioned biography. She has published articles and reviews in the Oxford Dictionary of National Biography\, The Times Literary Supplement\, Slightly Foxed and The Dublin Review of Books. \nAnn is the author of a monograph\, Painted Poetry: Colour in Baudelaire’s Art Criticism  (Peter Lang\, 2011) and a chapter in The Reception of Alfred Tennyson in Europe  (ed. Leonee Ormond\, Bloomsbury\, 2017).\n\nYou may also be interested in: \n\nCambridge Banners and Suffrage – a talk by Carolyn Ferguson\, 7:30pm-9:30pm\, Wednesday 10 October\nNewnham Ladies Walking Tour – a street tour of Cambridge locations associated with the suffrage movement 10:30am-12:00pm\, Thursday 11 October
URL:https://www.museumofcambridge.org.uk/event/talk-cambridge-suffragists-1884-1913-mary-ward-and-the-ladies-dining-society/
LOCATION:Enid Porter Room\, Museum of Cambridge\, 2-3 Castle Street\, Cambridge\, Cambridgeshire\, CB3 0AQ\, United Kingdom
CATEGORIES:Museum,Talk
END:VEVENT
BEGIN:VEVENT
DTSTART;TZID=Europe/London:20180915T140000
DTEND;TZID=Europe/London:20180915T160000
DTSTAMP:20260421T211619
CREATED:20180908T095609Z
LAST-MODIFIED:20181003T071314Z
UID:2890-1537020000-1537027200@www.museumofcambridge.org.uk
SUMMARY:Talk and Signing: Cambridge Women and the Struggle for the Vote
DESCRIPTION:Did you know that Cambridge was at the forefront of the struggles for women’s rights to vote a century ago? \n\nMillicent Fawcett\, the national leader of the non-militant Suffragists and arguably one of the most influential women in Britain during the last 100 years\, was a city resident and founded the Cambridge Women’s Suffrage Association. What’s more\, leading militant Suffragette Emmeline Pankhurst spoke at a number of riotous rallies and meetings. \nAuthor Sue Slack has researched the role of Cambridge women in the struggle for voting rights\, from the late 19th century to 1918 Act that granted suffrage to women over the age 30 and on to equal voting rights in 1928. Alongside many familiar names are accounts of many others who fought for rights that we take for granted today. \nJoin us in the Enid Porter Room from 2:00pm – 4:00pm on Saturday 15 September to find out more about the local women who contributed to the Great War and protested against it\, founded local groups for the Women’s Institute and Girl Guides\, led developments in eduction and welfare\, and became the first female MPs\, barristers\, magistrates and surgeons.
URL:https://www.museumofcambridge.org.uk/event/talk-and-signing-cambridge-women-and-the-struggle-for-the-vote/
LOCATION:Enid Porter Room\, Museum of Cambridge\, 2-3 Castle Street\, Cambridge\, Cambridgeshire\, CB3 0AQ\, United Kingdom
CATEGORIES:Museum,Talk
ATTACH;FMTTYPE=image/jpeg:https://www.museumofcambridge.org.uk/wp-content/uploads/2018/09/fawcett-e1536395242107.jpg
END:VEVENT
BEGIN:VEVENT
DTSTART;TZID=Europe/London:20180721T120000
DTEND;TZID=Europe/London:20180721T170000
DTSTAMP:20260421T211619
CREATED:20180708T151835Z
LAST-MODIFIED:20180708T152543Z
UID:2459-1532174400-1532192400@www.museumofcambridge.org.uk
SUMMARY:Event: Castle Hill Open Day - Wobbly Goings-on at the Museum
DESCRIPTION:Join us for an afternoon of frolics\, laughter and fun on Saturday 21 July \nCome and explore one of the oldest\, most vibrant and interesting parts of the city of Cambridge as many of the venues in the area open their doors to visitors for the afternoon for Castle Hill Open Day 2018. \nThere’ll be events aplenty and something for every everyone from 12:00pm to 5:00pm on Saturday 21 July. \nJoin us here at the Museum of Cambridge as we explore the history of jelly with Sue Bailey – our very own Fanny Cradock – and find out how combining food and science can lead to loads of wobbly\, fruit-flavoured fun in our practical demonstrations throughout the afternoon. \nFanny will tell us the history of jelly and about the copper and china jelly moulds on display in our collection. She’ll be making jellies in retro aluminium bunny rabbit jelly moulds\, so familiar to children of the 1960s and 1970s\, as well as testing modern day jelly moulds\, courtesy of Tala. \nYou can even get involved yourself! Make your own fabulously-coloured\, quick-setting agar jelly balls\, see who can make the tallest tower out of marshmallows and spaghetti and create your very own vision of Cambridge in the the year 2196. \nWe’re looking forward to seeing you there! \nDr Sue Bailey works as a food historian\, food science lecturer and consultant. She has over 25 years of experience in food and education as lead for food communications and food science degree courses at London Metropolitan University. \nA guest on Channel Four’s Great British Bake Off\, Sue showed presenter Sandi Toksvig how to make a Cambridge Pudding. She is a frequent expert contributor to Channel Four’s Food Unwrapped\, BBC One’s Rip Off Britain food exposes and ITV’s Save Money Good Health. \nSue regularly appears in the guise of the colourful and fabulously waspish Fanny Cradock\, combining demonstrations of retro 1960s and 1970s party recipes with an exploration of the chef’s influential role as an early television celebrity gourmand. Fanny was keen to encourage children to get into the fun of cooking and trying different foods and Sue carries on her campaign with gusto!
URL:https://www.museumofcambridge.org.uk/event/event-castle-hill-open-day-wobbly-goings-on-at-the-museum/
LOCATION:The Museum of Cambridge\, 2-3 Castle Street\, Cambridge\, Cambridgeshire\, CB3 0AQ\, United Kingdom
CATEGORIES:Activity,Capturing Cambridge,Museum,Talk
ATTACH;FMTTYPE=image/jpeg:https://www.museumofcambridge.org.uk/wp-content/uploads/2018/07/jellies.jpg
END:VEVENT
BEGIN:VEVENT
DTSTART;TZID=Europe/London:20180515T200000
DTEND;TZID=Europe/London:20180515T220000
DTSTAMP:20260421T211619
CREATED:20180506T203832Z
LAST-MODIFIED:20180507T101435Z
UID:2149-1526414400-1526421600@www.museumofcambridge.org.uk
SUMMARY:Talk: Send Her Victorious
DESCRIPTION:Cambridge is no stranger to a royal celebration and the sheer scale of some has been remarkable \nWith arrangements for this month’s royal wedding well underway\, valued Friend of the Museum Tamsin Wimhurst takes us back 180 years to the preparations for another major royal event: the Coronation of Her Majesty Queen Victoria on 28 June 1838.   \nConscious that this was to be event of a lifetime\, the great and the good of Cambridge conceived of a celebration that would involve more than 20\,000 townspeople. They had ambition\, they had enthusiasm and they knew how to plan and organise. All they had to do was to unveil their spectacular scheme and keep their fingers crossed that the unpredictable English weather would be kind to them. \nSend Her Victorious compliments our current exhibition A Loyal Toast. \nThis talk is part of Tracing Traditions\, a project funded by the Esmée Fairbairn Collections Fund and delivered by the Museums Association
URL:https://www.museumofcambridge.org.uk/event/talk-send-her-victorious/
LOCATION:Enid Porter Room\, Museum of Cambridge\, 2-3 Castle Street\, Cambridge\, Cambridgeshire\, CB3 0AQ\, United Kingdom
CATEGORIES:Museum,Talk,Tracing Traditions
ATTACH;FMTTYPE=image/jpeg:https://www.museumofcambridge.org.uk/wp-content/uploads/2018/05/coronation.jpg
END:VEVENT
BEGIN:VEVENT
DTSTART;TZID=Europe/London:20180319T140000
DTEND;TZID=Europe/London:20180319T150000
DTSTAMP:20260421T211619
CREATED:20180121T123955Z
LAST-MODIFIED:20180305T171807Z
UID:1265-1521468000-1521471600@www.museumofcambridge.org.uk
SUMMARY:Talk: Safeguards Against Witchcraft - Local Protective Practices
DESCRIPTION:Expanding the narrative of our current exhibition Safeguards Against Witchcraft\, this session will explore more stories of the protective practices used by the people of Cambridge and Cambridgeshire \nWitches\, warlocks and magic were once a part of everyday life\, provoking fear and trepidation throughout the late Medieval and Early Modern periods.  \nSo great was the perceived threat that practising witchcraft became a capital offence in Great Britain during the sixteenth century. Suspicion gripped the people of East Anglia and witch-hunts and the brutal trials of local women\, as well as their families\, became commonplace. \nAlice Samuel\, a resident of the village of Warboys\, became national news when Lady Cromwell fell ill and subsequently died after meeting her\, confirming the locals’ suspicions of witchcraft. Alice and her family were taken to trial and hanged in Huntingdon. \nWhile the violence arising from the witch mania that consumed the country is well known\, the steps taken by individuals to protect their homes\, their kin and themselves are often overlooked. There was so much that could be done to stop a witch from causing harm and all that was needed was a single\, worn shoe… \nJoin us in the Dining Parlour at our Museum on Monday 19 March to learn more \nThis talk is part of Tracing Traditions\, a project funded by the Esmée Fairbairn Collections Fund and delivered by the Museums Association
URL:https://www.museumofcambridge.org.uk/event/talk-safeguards-against-witchcraft-local-protective-practices/
LOCATION:Dining Parlour\, The Museum of Cambridge\, 2-3 Castle Street\, Cambridge\, Cambridgeshire\, CB3 0AQ\, United Kingdom
CATEGORIES:Museum,Talk,Tracing Traditions
ATTACH;FMTTYPE=image/jpeg:https://www.museumofcambridge.org.uk/wp-content/uploads/2018/01/shoesmall.jpg
END:VEVENT
BEGIN:VEVENT
DTSTART;TZID=Europe/London:20180317T120000
DTEND;TZID=Europe/London:20180317T150000
DTSTAMP:20260421T211619
CREATED:20180305T151349Z
LAST-MODIFIED:20180305T171522Z
UID:1577-1521288000-1521298800@www.museumofcambridge.org.uk
SUMMARY:Activity: Raptor Day at the Museum
DESCRIPTION:Ever seen a peregrine falcon or a tawny owl up close? \nWell now is your chance\, because we have invited some of these magnificent birds\, along with their keepers\, to visit the Museum for the afternoon. \nRaptors are predatory birds that hunt and feed on rodents and other small animals. For centuries\, some species were used as  hunting birds because of their keen vision\, powerful talons and sharp beaks. Others were regarded as a threat or a menace. Join us as members of the Raptor Foundation talk about their birds in real life and in local folklore and find out which of the raptor family was once commonly thought to be a witch in disguise! \nWe know that this will be an eagerly anticipated event\, so we are running three 50-minute session during the afternoon\, in order to accommodate as many visitors as possible. You can reserve free places for a session below. \nPlease do not book for multiple sessions. we want as many visitors as possible to be able to take part. If you do\, we reserve the right to cancel all your bookings. \nThe Raptor Foundation is a local organisation based near Huntingdon that exists to protect\, rescue and rehabilitate hawks\, falcons\, owls and other raptors. You can experience a variety of birds up close at their sanctuary and even fly some during daily flight displays. The Foundation runs regular talks and hands-on sessions that include other residents including snakes\, reptiles and meerkats.More information is available from the Raptor Foundation website. \n\nThis activity is part of Tracing Traditions\, a project funded by the Esmée Fairbairn Collections Fund and delivered by the Museums Association
URL:https://www.museumofcambridge.org.uk/event/raptor-day-at-the-museum/
LOCATION:Enid Porter Room\, Museum of Cambridge\, 2-3 Castle Street\, Cambridge\, Cambridgeshire\, CB3 0AQ\, United Kingdom
CATEGORIES:Activity,Museum,Talk,Tracing Traditions
ATTACH;FMTTYPE=image/png:https://www.museumofcambridge.org.uk/wp-content/uploads/2018/03/falcon.png
END:VEVENT
BEGIN:VEVENT
DTSTART;TZID=Europe/London:20180310T143000
DTEND;TZID=Europe/London:20180310T163000
DTSTAMP:20260421T211619
CREATED:20180304T135454Z
LAST-MODIFIED:20180304T175019Z
UID:1544-1520692200-1520699400@www.museumofcambridge.org.uk
SUMMARY:Talk: Bags of Yarn
DESCRIPTION:Discover the joys of creating beautiful and practical things from recycled materials\nCambridge textile artist Jenny Langley will explore how working with recycled materials feeds her creativity and inspires her to try new and different ideas. \n“It lead me to a deep appreciation of all the good things that I have in my life\, so I’m much happier with my lot than I used to be. No more striving to get what I haven’t got\, as ”ve already got great riches. I now treat everything as precious\, and I feel that that’s a really good way to look at the world.” \nJenny will tell us the story of how she came to work with recycled materials\, her techniques and what you will need to start to creating your very own things. She will also bring some fabrics to share with those who are eager to get start immediately. \nYou can find more of Jenny’s work at Art Textiles \nWe’ll be collecting your thoughts and ideas about recycling and how to make the best of pre-own materials as part of our Capturing Cambridge project
URL:https://www.museumofcambridge.org.uk/event/bags-of-yarn/
LOCATION:Enid Porter Room\, Museum of Cambridge\, 2-3 Castle Street\, Cambridge\, Cambridgeshire\, CB3 0AQ\, United Kingdom
CATEGORIES:Capturing Cambridge,Museum,Talk
ATTACH;FMTTYPE=image/jpeg:https://www.museumofcambridge.org.uk/wp-content/uploads/2018/03/small_Jenny_Langley_bags.jpg
END:VEVENT
BEGIN:VEVENT
DTSTART;VALUE=DATE:20180221
DTEND;VALUE=DATE:20180330
DTSTAMP:20260421T211619
CREATED:20180203T174143Z
LAST-MODIFIED:20180217T102359Z
UID:1320-1519171200-1522285199@www.museumofcambridge.org.uk
SUMMARY:Talk and Walking Tours: Discovering Cambridge
DESCRIPTION:We have sold all of the tickets for Discovering Cambridge. \n \n 
URL:https://www.museumofcambridge.org.uk/event/discovering-cambridge/
LOCATION:The Museum of Cambridge\, 2-3 Castle Street\, Cambridge\, Cambridgeshire\, CB3 0AQ\, United Kingdom
CATEGORIES:Museum,Talk,Walking Tour
ATTACH;FMTTYPE=image/png:https://www.museumofcambridge.org.uk/wp-content/uploads/2018/02/discovering-cambridge-600pix.png
END:VEVENT
END:VCALENDAR