BEGIN:VCALENDAR
VERSION:2.0
PRODID:-//The Museum of Cambridge - ECPv6.15.20//NONSGML v1.0//EN
CALSCALE:GREGORIAN
METHOD:PUBLISH
X-WR-CALNAME:The Museum of Cambridge
X-ORIGINAL-URL:https://www.museumofcambridge.org.uk
X-WR-CALDESC:Events for The Museum of Cambridge
REFRESH-INTERVAL;VALUE=DURATION:PT1H
X-Robots-Tag:noindex
X-PUBLISHED-TTL:PT1H
BEGIN:VTIMEZONE
TZID:Europe/London
BEGIN:DAYLIGHT
TZOFFSETFROM:+0000
TZOFFSETTO:+0100
TZNAME:BST
DTSTART:20240331T010000
END:DAYLIGHT
BEGIN:STANDARD
TZOFFSETFROM:+0100
TZOFFSETTO:+0000
TZNAME:GMT
DTSTART:20241027T010000
END:STANDARD
BEGIN:DAYLIGHT
TZOFFSETFROM:+0000
TZOFFSETTO:+0100
TZNAME:BST
DTSTART:20250330T010000
END:DAYLIGHT
BEGIN:STANDARD
TZOFFSETFROM:+0100
TZOFFSETTO:+0000
TZNAME:GMT
DTSTART:20251026T010000
END:STANDARD
BEGIN:DAYLIGHT
TZOFFSETFROM:+0000
TZOFFSETTO:+0100
TZNAME:BST
DTSTART:20260329T010000
END:DAYLIGHT
BEGIN:STANDARD
TZOFFSETFROM:+0100
TZOFFSETTO:+0000
TZNAME:GMT
DTSTART:20261025T010000
END:STANDARD
END:VTIMEZONE
BEGIN:VEVENT
DTSTART;TZID=Europe/London:20250827T160000
DTEND;TZID=Europe/London:20250827T180000
DTSTAMP:20260421T114515
CREATED:20250714T123536Z
LAST-MODIFIED:20250714T123740Z
UID:14078-1756310400-1756317600@www.museumofcambridge.org.uk
SUMMARY:Curator for a Day - Teacher Event
DESCRIPTION:Come to the Museum of Cambridge ahead of the new term and find out how to enhance your history teaching with our ‘Curator for a Day’ Teacher Workshop. \nEnjoy refreshments in our purpose-built event space\, the Enid Porter Room. \nExplore the handling collection of social history objects available in our Loan Boxes. \nLearn endangered crafts linked to the county’s history. \nGet a behind-the-scenes guided tour of the Museum to see how we preserve the stories of the past. \nFind out about the Museum’s brand-new ‘Curator for a Day’ school workshops\, available to book now! \n  \nDates: \nWednesday 27th August \n  \nTimes: \n16:00 – 18:00 \n  \nTickets: \nPlease book your FREE ticket here: https://museumofcambridge2.beaconforms.com/form/be9c38d1 \n  \nPlace: \nThe Enid Porter Room \nMuseum of Cambridge \n2-3 Castle Street \nCambridge \nCB3 0AQ \n  \nAccessibility: \nThe Enid Porter Room has level access into the space. You can also read about our accessibility information on our website. If you’d like to chat through any accessibility requirements\, don’t hesitate to give us a call on 01223 355159 or email enquiries@museumofcambridge.org.uk. \n  \nGetting Here: \nWe are in the centre of Cambridge. You’ll find us at the corner of Castle Street and Northampton Street. We are right beside Kettle’s Yard and only a 15-minute walk from King’s College. \nYou can park your bike at the bike parks on Bridge Street or on Northampton Street. There is a bus stop nearby on Bridge Street. Find out more about how to get here by train\, bike\, bus\, car or on foot on our website. \n  \nPhotography: \nPlease note that photographs may be taken throughout this event\, and images may be used in future marketing and reporting materials. If you do not wish for you or your family’s photograph to be taken\, please make sure to let us know. \n  \nHealthy Events: \nIf you’re feeling unwell or have recently tested positive for COVID-19\, please do not attend this event. We’ll be happy to welcome you at the Museum on another day. \n 
URL:https://www.museumofcambridge.org.uk/event/curator-for-a-day-teacher-event/
LOCATION:Enid Porter Room\, Museum of Cambridge\, 2-3 Castle Street\, Cambridge\, Cambridgeshire\, CB3 0AQ\, United Kingdom
CATEGORIES:Museum,Tour of Museum,Workshop
ATTACH;FMTTYPE=image/png:https://www.museumofcambridge.org.uk/wp-content/uploads/2025/07/CPD-Event-Social.png
END:VEVENT
END:VCALENDAR