BEGIN:VCALENDAR
VERSION:2.0
PRODID:-//The Museum of Cambridge - ECPv6.15.20//NONSGML v1.0//EN
CALSCALE:GREGORIAN
METHOD:PUBLISH
X-WR-CALNAME:The Museum of Cambridge
X-ORIGINAL-URL:https://www.museumofcambridge.org.uk
X-WR-CALDESC:Events for The Museum of Cambridge
REFRESH-INTERVAL;VALUE=DURATION:PT1H
X-Robots-Tag:noindex
X-PUBLISHED-TTL:PT1H
BEGIN:VTIMEZONE
TZID:Europe/London
BEGIN:DAYLIGHT
TZOFFSETFROM:+0000
TZOFFSETTO:+0100
TZNAME:BST
DTSTART:20230326T010000
END:DAYLIGHT
BEGIN:STANDARD
TZOFFSETFROM:+0100
TZOFFSETTO:+0000
TZNAME:GMT
DTSTART:20231029T010000
END:STANDARD
BEGIN:DAYLIGHT
TZOFFSETFROM:+0000
TZOFFSETTO:+0100
TZNAME:BST
DTSTART:20240331T010000
END:DAYLIGHT
BEGIN:STANDARD
TZOFFSETFROM:+0100
TZOFFSETTO:+0000
TZNAME:GMT
DTSTART:20241027T010000
END:STANDARD
BEGIN:DAYLIGHT
TZOFFSETFROM:+0000
TZOFFSETTO:+0100
TZNAME:BST
DTSTART:20250330T010000
END:DAYLIGHT
BEGIN:STANDARD
TZOFFSETFROM:+0100
TZOFFSETTO:+0000
TZNAME:GMT
DTSTART:20251026T010000
END:STANDARD
END:VTIMEZONE
BEGIN:VEVENT
DTSTART;VALUE=DATE:20241129
DTEND;VALUE=DATE:20241202
DTSTAMP:20260422T032324
CREATED:20241022T122308Z
LAST-MODIFIED:20241129T151828Z
UID:12415-1732838400-1733097599@www.museumofcambridge.org.uk
SUMMARY:Made in Cambridge Christmas Market
DESCRIPTION:The Museum of Cambridge is delighted to welcome you to our annual Made in Cambridge Christmas Market 2024!\n \nWhen: Friday 29th November – Sunday 1st December\, 10am – 5pm daily\n \nWhere: Museum of Cambridge\, 2-3 Castle Street CB3 0AQ\n \nCost: FREE\n \nGet ready to immerse yourself in the Christmas spirit at our Christmas Market. Browse local\, hand-made gifts from talented Cambridgeshire makers\, and gift something different this Christmas!\n \nA festive market celebrating unique and local talent\, the Museum of Cambridge is delighted to host a variety of Cambridgeshire artisans showcasing and selling their craft. Explore a curated selection of handcrafted gifts\, made by the talented people of Cambridgeshire. Gift\, or treat yourself well\, knowing you’ve supported local people\, and spend time at our festive market and be inspired by festive décor!\n \nOur amazing vendors for the Made in Cambridge Christmas Market:\n \nFriday 29th November\nVicky Hallam Design\nWhittle Wire\nPrebble Pots\nOtherside Silly\nRowan Humberstone\nNadia Rose Makes\nRecycled Weaver\n \nSaturday 30th November\n\nVicky Hallam Design\nWhittle Wire\n\nAnsari Prints\nAdira Jewel\nI Like Your Bag\nWildMoonWhispers\n \nSunday 1st December\nHannah B Pottery\nElectraglade\nNancy K Jewellery\n\nPrebble Pots\nOtherside Silly\n\nTrinity Orchards of Cambridge\nBrewBoard\n \nVolunteer-run drinks stand and Second-hand book stall\nIn addition to this wonderful variety of Cambridgeshire makers\, there will be a volunteer-run drinks stand every day serving mulled wine\, tea and coffee to add to the festive cheer! In the Museum’s continued support to sustainability\, we will also be selling second hand books at the Christmas Market and our Museum shop\, offering something for everybody. All proceeds will support the daily running and conservation care of the Museum of Cambridge\, an independent charity. \n \nJoin the Museum of Cambridge for a weekend of festive cheer\, and local artistry and talent. Shop\, visit or browse amazing drinks and gifts galore. Let the wonder of our talented city infuse your holiday season with warmth and cheer!\n \nBeautiful Carols\nJoin us on Saturday\, 30th November at 2pm\, when a talented group of carollers will fill the market with the festive spirit. Enjoy a heart warming performance of classic and modern carols\, adding a magical touch to your Christmas shopping experience!  \n\n \nAccessibility\nYou can read about our accessibility information on our website here Accessibility – The Museum of Cambridge. If you’d like to chat through any accessibility requirements\, don’t hesitate to give us a call on 01223 355159 or email enquiries@museumofcambridge.org.uk. Visitors with additional needs are welcome to bring a supporter or carer who will be admitted to the event free of charge.\n \nGetting Here\nWe are in the centre of Cambridge. You’ll find us at the corner of Castle Street and Northampton Street. We are right beside Kettle’s Yard and only a 15-minute walk from King’s College.\n \nYou can park your bike at the bike parks on Bridge Street or on Northampton Street. There is a bus stop on Bridge Street. Check out the Stagecoach website to plan your journey to and from the Museum. Find out more about how to get here by train\, bike\, bus\, car or on foot on our website.\n \nPhotography \nPlease note that photographs will be taken throughout this event\, and images may be used in future marketing and reporting materials. If you do not wish you or your family’s photograph to be taken\, please make sure to let us know. \n \nHealthy Events\nIf you’re feeling unwell or have recently tested positive for Covid-19\, please do not attend this event. We’ll be happy to offer you a refund if applicable\, and welcome you at the Museum on another day.
URL:https://www.museumofcambridge.org.uk/event/christmas-market-2024/
LOCATION:Enid Porter Room\, Museum of Cambridge\, 2-3 Castle Street\, Cambridge\, Cambridgeshire\, CB3 0AQ\, United Kingdom
CATEGORIES:Activity,Museum,Our Cambridge,Talk
ATTACH;FMTTYPE=image/jpeg:https://www.museumofcambridge.org.uk/wp-content/uploads/2024/10/Christmas-Market-Square-Poster.jpg
END:VEVENT
END:VCALENDAR