BEGIN:VCALENDAR
VERSION:2.0
PRODID:-//The Museum of Cambridge - ECPv6.15.20//NONSGML v1.0//EN
CALSCALE:GREGORIAN
METHOD:PUBLISH
X-ORIGINAL-URL:https://www.museumofcambridge.org.uk
X-WR-CALDESC:Events for The Museum of Cambridge
REFRESH-INTERVAL;VALUE=DURATION:PT1H
X-Robots-Tag:noindex
X-PUBLISHED-TTL:PT1H
BEGIN:VTIMEZONE
TZID:Europe/London
BEGIN:DAYLIGHT
TZOFFSETFROM:+0000
TZOFFSETTO:+0100
TZNAME:BST
DTSTART:20220327T010000
END:DAYLIGHT
BEGIN:STANDARD
TZOFFSETFROM:+0100
TZOFFSETTO:+0000
TZNAME:GMT
DTSTART:20221030T010000
END:STANDARD
BEGIN:DAYLIGHT
TZOFFSETFROM:+0000
TZOFFSETTO:+0100
TZNAME:BST
DTSTART:20230326T010000
END:DAYLIGHT
BEGIN:STANDARD
TZOFFSETFROM:+0100
TZOFFSETTO:+0000
TZNAME:GMT
DTSTART:20231029T010000
END:STANDARD
BEGIN:DAYLIGHT
TZOFFSETFROM:+0000
TZOFFSETTO:+0100
TZNAME:BST
DTSTART:20240331T010000
END:DAYLIGHT
BEGIN:STANDARD
TZOFFSETFROM:+0100
TZOFFSETTO:+0000
TZNAME:GMT
DTSTART:20241027T010000
END:STANDARD
END:VTIMEZONE
BEGIN:VEVENT
DTSTART;TZID=Europe/London:20230216T160000
DTEND;TZID=Europe/London:20230216T190000
DTSTAMP:20260425T154350
CREATED:20230110T154633Z
LAST-MODIFIED:20230110T154633Z
UID:9565-1676563200-1676574000@www.museumofcambridge.org.uk
SUMMARY:Dusk Discoverers!
DESCRIPTION:New! Dusk Discoverers trail \nBook your free place on the trail now! \nCome and discover the Museum of Cambridge after dark! \nWatch our collection come alive under the moonlight\, Discover our 300 year old building. Insights in to the lives and living of people in Cambridge \nCome along to the Museum of Cambridge between 4pm-7pm to discover more. \nBring along the whole family! \nChildren are free\, adults normal admission applies (£6 at the desk) \nSuitable for all ages! \n 
URL:https://www.museumofcambridge.org.uk/event/dusk-discoverers/
LOCATION:The Museum of Cambridge\, 2-3 Castle Street\, Cambridge\, Cambridgeshire\, CB3 0AQ\, United Kingdom
CATEGORIES:Activity,Museum
ATTACH;FMTTYPE=image/jpeg:https://www.museumofcambridge.org.uk/wp-content/uploads/2023/01/Copy-of-Cambridge-Museum-Sept-2021-LOW-246-scaled-e1673365390235.jpg
END:VEVENT
BEGIN:VEVENT
DTSTART;TZID=Europe/London:20230217T130000
DTEND;TZID=Europe/London:20230217T150000
DTSTAMP:20260425T154350
CREATED:20230119T135337Z
LAST-MODIFIED:20230119T135337Z
UID:9589-1676638800-1676646000@www.museumofcambridge.org.uk
SUMMARY:Tricks and Trails - Storytelling\, Arts and Crafts
DESCRIPTION:Come along to a FREE storytelling\, arts and crafts adventure! \n  \nChip will take your imagination by storm in a fun interactive storytelling session featuring tricks and games from around Cambridge! \n  \nMake your own tricks to try out with your friends and families in our arts and crafts session! \n  \nSuitable for all ages. \n  \nClick the link to reserve your free space!
URL:https://www.museumofcambridge.org.uk/event/tricks-and-trails-storytelling-arts-and-crafts/
LOCATION:Enid Porter Room\, Museum of Cambridge\, 2-3 Castle Street\, Cambridge\, Cambridgeshire\, CB3 0AQ\, United Kingdom
CATEGORIES:Activity,Arts and Crafts,Museum
ATTACH;FMTTYPE=image/jpeg:https://www.museumofcambridge.org.uk/wp-content/uploads/2023/01/Twilight-marketing-Instagram-Post-Square.jpg
END:VEVENT
END:VCALENDAR