BEGIN:VCALENDAR
VERSION:2.0
PRODID:-//The Museum of Cambridge - ECPv6.15.20//NONSGML v1.0//EN
CALSCALE:GREGORIAN
METHOD:PUBLISH
X-WR-CALNAME:The Museum of Cambridge
X-ORIGINAL-URL:https://www.museumofcambridge.org.uk
X-WR-CALDESC:Events for The Museum of Cambridge
REFRESH-INTERVAL;VALUE=DURATION:PT1H
X-Robots-Tag:noindex
X-PUBLISHED-TTL:PT1H
BEGIN:VTIMEZONE
TZID:Europe/London
BEGIN:DAYLIGHT
TZOFFSETFROM:+0000
TZOFFSETTO:+0100
TZNAME:BST
DTSTART:20200329T010000
END:DAYLIGHT
BEGIN:STANDARD
TZOFFSETFROM:+0100
TZOFFSETTO:+0000
TZNAME:GMT
DTSTART:20201025T010000
END:STANDARD
BEGIN:DAYLIGHT
TZOFFSETFROM:+0000
TZOFFSETTO:+0100
TZNAME:BST
DTSTART:20210328T010000
END:DAYLIGHT
BEGIN:STANDARD
TZOFFSETFROM:+0100
TZOFFSETTO:+0000
TZNAME:GMT
DTSTART:20211031T010000
END:STANDARD
BEGIN:DAYLIGHT
TZOFFSETFROM:+0000
TZOFFSETTO:+0100
TZNAME:BST
DTSTART:20220327T010000
END:DAYLIGHT
BEGIN:STANDARD
TZOFFSETFROM:+0100
TZOFFSETTO:+0000
TZNAME:GMT
DTSTART:20221030T010000
END:STANDARD
END:VTIMEZONE
BEGIN:VEVENT
DTSTART;TZID=Europe/London:20210901T190000
DTEND;TZID=Europe/London:20210901T201500
DTSTAMP:20260426T053003
CREATED:20210601T075544Z
LAST-MODIFIED:20210713T131200Z
UID:7021-1630522800-1630527300@www.museumofcambridge.org.uk
SUMMARY:A Great Unrecorded History: Cambridge’s Queer Past
DESCRIPTION:Join us for the next in our series of ‘Cambridge Talks’. \nThe writer E.M. Forster once referred to the history of homosexuality in his time as ‘a great unrecorded history’. This was especially true of Forster’s adopted home of Cambridge\, whose vibrant queer past has often gone unrecorded.  \nDiarmuid Hester’s popular queer audio trail of the city aims to set the record straight (as it were). In this talk\, he discusses his work on the audio trail\, and reveals how LGBTQ+ people have shaped the history of the city and been shaped by it in turn. \nDr Diarmuid Hester is a radical cultural historian\, and an authority on sexually dissident literature\, art\, film\, and performance. He is a regular contributor to BBC Radio 3\, and last year was named a BBC New Generation Thinker. Diarmuid’s new book on sexuality\, culture\, and place will be published by Allen Lane/Penguin in 2023. He teaches at the Faculty of English\, University of Cambridge\, and is a research associate of Emmanuel College\, Cambridge. \nAll proceeds from this event will go towards supporting the Museum of Cambridge.   \nHow to attend this talk: \nThis talk will be held on Zoom. There is no need to download any software- you can access the talk via your usual internet browser from the comfort of your own home. Cup of tea/glass of mulled wine is optional! \nOnce you have purchased your ticket on Eventbrite\, you are officially signed up to the event and you will receive an automatic confirmation email from Eventbrite. \nOn the day of the event\, we will send you a ‘Zoom Invite’ with joining instructions which explains how to attend the talk. \nIf you have any concerns or questions about attending this event\, please email Annie on annie.davis@museumofcambridge.org.uk.
URL:https://www.museumofcambridge.org.uk/event/cambridge-talks-a-great-unrecorded-history-cambridges-queer-past/
LOCATION:Zoom
CATEGORIES:Museum,Talk
ATTACH;FMTTYPE=image/jpeg:https://www.museumofcambridge.org.uk/wp-content/uploads/2021/06/Cam-Talk.jpg
END:VEVENT
BEGIN:VEVENT
DTSTART;TZID=Europe/London:20210905T103000
DTEND;TZID=Europe/London:20210905T120000
DTSTAMP:20260426T053003
CREATED:20210614T162628Z
LAST-MODIFIED:20210614T162628Z
UID:7066-1630837800-1630843200@www.museumofcambridge.org.uk
SUMMARY:Hidden Cambridge Walking Tour
DESCRIPTION:Journey through the streets of Hidden Cambridge \nThis Hidden Cambridge tour is for all those who have always meant to explore the side streets and alleyways of this historic city but never quite had the time\, as well as for visitors who want to discover more of Cambridge beyond King’s Parade. \nDiscover the heart of the ancient city\, some of the hidden nooks and crannies you’ve never noticed before around the river crossing and quayside area – traces of the Roman settlement\, the Norman castle\, the Saxon and Viking trading centre and the medieval town. Hear stories of beer\, brothels and boatmen!  \nQualified Blue Badge Guides will share their extensive knowledge of the local area – you won’t find these stories in the guidebooks! \nThe tour is subject to COVID-19 regulations in place at the time\, and the groups will be small and conducted in a safe way. For booking click here.  \nThe tours meet the first Sunday of the month\, at 10.30am outside the Round Church on Bridge Street. Each tour lasts about 90 minutes and the cost of £15 a head includes a free one-time admission to the Museum of Cambridge. All proceeds go towards supporting the Museum. \nThis small\, independent museum\, located in the former White Horse Inn\, has a big story to share. Suffused with the history of the local people of Cambridge\, it contains an eclectic collection of everyday objects used in day-to-day life\, from vacuum cleaners and washing machines to false teeth and mantraps! \nOpening times are limited currently\, check the web site for up to date hours. This tour is organised and run by Hidden Cambridge\, for further details contact Hidden.Cambridge@gmail.com.  \n The Museum of Cambridge is hugely thankful to the generous support of the Blue Badge Guides who give up their time to offer these tours. \nFeatured photo by Bob Wheatley The Round ChurchPortugal PlaceThrough the Door of St Peter’sThe Hawks’ Club
URL:https://www.museumofcambridge.org.uk/event/hidden-cambridge-walking-tour-2/
LOCATION:Round Church\, Round Church\, Bridge Street\, Cambridge\, Cambridgeshire\, United Kingdom
CATEGORIES:Museum,Walking Tour
ATTACH;FMTTYPE=image/jpeg:https://www.museumofcambridge.org.uk/wp-content/uploads/2018/12/CrossKeys1-Bob-Wheatley-scaled-e1598116215412.jpg
ORGANIZER;CN="Hidden Cambridge":MAILTO:Hidden.Cambridge@gmail.com
END:VEVENT
END:VCALENDAR