BEGIN:VCALENDAR
VERSION:2.0
PRODID:-//The Museum of Cambridge - ECPv6.15.20//NONSGML v1.0//EN
CALSCALE:GREGORIAN
METHOD:PUBLISH
X-WR-CALNAME:The Museum of Cambridge
X-ORIGINAL-URL:https://www.museumofcambridge.org.uk
X-WR-CALDESC:Events for The Museum of Cambridge
REFRESH-INTERVAL;VALUE=DURATION:PT1H
X-Robots-Tag:noindex
X-PUBLISHED-TTL:PT1H
BEGIN:VTIMEZONE
TZID:Europe/London
BEGIN:DAYLIGHT
TZOFFSETFROM:+0000
TZOFFSETTO:+0100
TZNAME:BST
DTSTART:20200329T010000
END:DAYLIGHT
BEGIN:STANDARD
TZOFFSETFROM:+0100
TZOFFSETTO:+0000
TZNAME:GMT
DTSTART:20201025T010000
END:STANDARD
BEGIN:DAYLIGHT
TZOFFSETFROM:+0000
TZOFFSETTO:+0100
TZNAME:BST
DTSTART:20210328T010000
END:DAYLIGHT
BEGIN:STANDARD
TZOFFSETFROM:+0100
TZOFFSETTO:+0000
TZNAME:GMT
DTSTART:20211031T010000
END:STANDARD
BEGIN:DAYLIGHT
TZOFFSETFROM:+0000
TZOFFSETTO:+0100
TZNAME:BST
DTSTART:20220327T010000
END:DAYLIGHT
BEGIN:STANDARD
TZOFFSETFROM:+0100
TZOFFSETTO:+0000
TZNAME:GMT
DTSTART:20221030T010000
END:STANDARD
END:VTIMEZONE
BEGIN:VEVENT
DTSTART;TZID=Europe/London:20211003T103000
DTEND;TZID=Europe/London:20211003T120000
DTSTAMP:20260426T040712
CREATED:20210614T162835Z
LAST-MODIFIED:20210614T162835Z
UID:7069-1633257000-1633262400@www.museumofcambridge.org.uk
SUMMARY:Hidden Cambridge Walking Tour
DESCRIPTION:Journey through the streets of Hidden Cambridge \nThis Hidden Cambridge tour is for all those who have always meant to explore the side streets and alleyways of this historic city but never quite had the time\, as well as for visitors who want to discover more of Cambridge beyond King’s Parade. \nDiscover the heart of the ancient city\, some of the hidden nooks and crannies you’ve never noticed before around the river crossing and quayside area – traces of the Roman settlement\, the Norman castle\, the Saxon and Viking trading centre and the medieval town. Hear stories of beer\, brothels and boatmen!  \nQualified Blue Badge Guides will share their extensive knowledge of the local area – you won’t find these stories in the guidebooks! \nThe tour is subject to COVID-19 regulations in place at the time\, and the groups will be small and conducted in a safe way. For booking click here.  \nThe tours meet the first Sunday of the month\, at 10.30am outside the Round Church on Bridge Street. Each tour lasts about 90 minutes and the cost of £15 a head includes a free one-time admission to the Museum of Cambridge. All proceeds go towards supporting the Museum. \nThis small\, independent museum\, located in the former White Horse Inn\, has a big story to share. Suffused with the history of the local people of Cambridge\, it contains an eclectic collection of everyday objects used in day-to-day life\, from vacuum cleaners and washing machines to false teeth and mantraps! \nOpening times are limited currently\, check the web site for up to date hours. This tour is organised and run by Hidden Cambridge\, for further details contact Hidden.Cambridge@gmail.com.  \n The Museum of Cambridge is hugely thankful to the generous support of the Blue Badge Guides who give up their time to offer these tours. \nFeatured photo by Bob Wheatley The Round ChurchPortugal PlaceThrough the Door of St Peter’sThe Hawks’ Club
URL:https://www.museumofcambridge.org.uk/event/hidden-cambridge-walking-tour-3/
LOCATION:Round Church\, Round Church\, Bridge Street\, Cambridge\, Cambridgeshire\, United Kingdom
CATEGORIES:Museum,Walking Tour
ATTACH;FMTTYPE=image/jpeg:https://www.museumofcambridge.org.uk/wp-content/uploads/2018/12/CrossKeys1-Bob-Wheatley-scaled-e1598116215412.jpg
ORGANIZER;CN="Hidden Cambridge":MAILTO:Hidden.Cambridge@gmail.com
END:VEVENT
BEGIN:VEVENT
DTSTART;TZID=Europe/London:20211028T160000
DTEND;TZID=Europe/London:20211031T190000
DTSTAMP:20260426T040712
CREATED:20211008T091013Z
LAST-MODIFIED:20211008T091155Z
UID:7490-1635436800-1635706800@www.museumofcambridge.org.uk
SUMMARY:October Half-Term Spooky Stories
DESCRIPTION:The Museum of Cambridge is delighted to be hosting a series of free Spooky Storytelling during the October Half-Term\, from 28th through to 31st October. \nCambridgeshire is full of fascinating stories\, and some of them being captivatingly eerie\, deserve to be shared with you all at the spookiest time of the year\, and professional storyteller Chip Colquhoun is here to do just that! \nHow do I book? \nSimply head to this link and make a free booking for all attending: https://www.eventbrite.co.uk/e/october-half-term-spooky-stories-tickets-185605911277 \nWho can attend? \nThis is an event for children +5 years old (although kids of any age might enjoy it)\, who must be accompanied by an adult during the whole duration of the session. We recommend that\, whenever possible\, only one adult attends per group of up to 4 children. This is to keep everyone Covid-19 safe\, and make sure that there is enough space in the Enid Porter Room for everyone to be comfortable. \nIf you have accessibility requirements\, please let us know on the email below so we can do our best to meet your needs. \nWhat do I need? \nOn the day of the event\, you only need to show up 5 minutes before the start of the session so that we can show you to your place. \nUnfortunately\, we cannot accept late comers as this can be disruptive for the audience and the performer. \nAny questions\, please email us on eventbrite@museumofcambridge.org.uk \nWe look forward to seeing you soon! \nThis free event is possible thanks to the support of our funders\, Cambridge City Council and the National Lottery Heritage Fund. \nIllustration of Fearless Mary by the incredible Dave Hingley.
URL:https://www.museumofcambridge.org.uk/event/october-half-term-spooky-stories/
LOCATION:Cambridgeshire
CATEGORIES:Activity
ATTACH;FMTTYPE=image/jpeg:https://www.museumofcambridge.org.uk/wp-content/uploads/2021/10/fearlessMaryCOLOURED.jpg
END:VEVENT
END:VCALENDAR