BEGIN:VCALENDAR
VERSION:2.0
PRODID:-//The Museum of Cambridge - ECPv6.15.20//NONSGML v1.0//EN
CALSCALE:GREGORIAN
METHOD:PUBLISH
X-ORIGINAL-URL:https://www.museumofcambridge.org.uk
X-WR-CALDESC:Events for The Museum of Cambridge
REFRESH-INTERVAL;VALUE=DURATION:PT1H
X-Robots-Tag:noindex
X-PUBLISHED-TTL:PT1H
BEGIN:VTIMEZONE
TZID:Europe/London
BEGIN:DAYLIGHT
TZOFFSETFROM:+0000
TZOFFSETTO:+0100
TZNAME:BST
DTSTART:20210328T010000
END:DAYLIGHT
BEGIN:STANDARD
TZOFFSETFROM:+0100
TZOFFSETTO:+0000
TZNAME:GMT
DTSTART:20211031T010000
END:STANDARD
BEGIN:DAYLIGHT
TZOFFSETFROM:+0000
TZOFFSETTO:+0100
TZNAME:BST
DTSTART:20220327T010000
END:DAYLIGHT
BEGIN:STANDARD
TZOFFSETFROM:+0100
TZOFFSETTO:+0000
TZNAME:GMT
DTSTART:20221030T010000
END:STANDARD
BEGIN:DAYLIGHT
TZOFFSETFROM:+0000
TZOFFSETTO:+0100
TZNAME:BST
DTSTART:20230326T010000
END:DAYLIGHT
BEGIN:STANDARD
TZOFFSETFROM:+0100
TZOFFSETTO:+0000
TZNAME:GMT
DTSTART:20231029T010000
END:STANDARD
END:VTIMEZONE
BEGIN:VEVENT
DTSTART;TZID=Europe/London:20221002T103000
DTEND;TZID=Europe/London:20221002T120000
DTSTAMP:20260425T162512
CREATED:20220804T134026Z
LAST-MODIFIED:20220804T134338Z
UID:8825-1664706600-1664712000@www.museumofcambridge.org.uk
SUMMARY:Hidden Cambridge Tour October
DESCRIPTION:Take another look at Cambridge with a 90 minute Hidden Cambridge Walking Tour. \nEnjoy a tour of the lesser-know Castle area of Cambridge. Discover some of the hidden nooks and crannies you’ve never noticed before! \nHear stories of beer\, brothels and boatmen\, and where Nobel prizes jostle with rugby players and mustard factories. \nYour tour will be led by a qualified guide\, and the ticket price includes a free entry to the Museum of Cambridge within a month of the tour. All proceeds of the tours are donated to support museum. \nTickets are £15. Tours start at 10:30 from the Round Church in Cambridge. \nBooking is essential\, follow the Eventbrite link to book: 90 minute Hidden Cambridge walking tour Tickets\, Multiple Dates | Eventbrite \n 
URL:https://www.museumofcambridge.org.uk/event/hidden-cambridge-tour-october/
LOCATION:Cambridgeshire
CATEGORIES:Museum,Walking Tour
ATTACH;FMTTYPE=image/jpeg:https://www.museumofcambridge.org.uk/wp-content/uploads/2018/10/hiddencambridge2.jpg
END:VEVENT
END:VCALENDAR