BEGIN:VCALENDAR
VERSION:2.0
PRODID:-//The Museum of Cambridge - ECPv6.15.20//NONSGML v1.0//EN
CALSCALE:GREGORIAN
METHOD:PUBLISH
X-WR-CALNAME:The Museum of Cambridge
X-ORIGINAL-URL:https://www.museumofcambridge.org.uk
X-WR-CALDESC:Events for The Museum of Cambridge
REFRESH-INTERVAL;VALUE=DURATION:PT1H
X-Robots-Tag:noindex
X-PUBLISHED-TTL:PT1H
BEGIN:VTIMEZONE
TZID:Europe/London
BEGIN:DAYLIGHT
TZOFFSETFROM:+0000
TZOFFSETTO:+0100
TZNAME:BST
DTSTART:20220327T010000
END:DAYLIGHT
BEGIN:STANDARD
TZOFFSETFROM:+0100
TZOFFSETTO:+0000
TZNAME:GMT
DTSTART:20221030T010000
END:STANDARD
BEGIN:DAYLIGHT
TZOFFSETFROM:+0000
TZOFFSETTO:+0100
TZNAME:BST
DTSTART:20230326T010000
END:DAYLIGHT
BEGIN:STANDARD
TZOFFSETFROM:+0100
TZOFFSETTO:+0000
TZNAME:GMT
DTSTART:20231029T010000
END:STANDARD
BEGIN:DAYLIGHT
TZOFFSETFROM:+0000
TZOFFSETTO:+0100
TZNAME:BST
DTSTART:20240331T010000
END:DAYLIGHT
BEGIN:STANDARD
TZOFFSETFROM:+0100
TZOFFSETTO:+0000
TZNAME:GMT
DTSTART:20241027T010000
END:STANDARD
END:VTIMEZONE
BEGIN:VEVENT
DTSTART;TZID=Europe/London:20230806T103000
DTEND;TZID=Europe/London:20230806T120000
DTSTAMP:20260422T233154
CREATED:20230316T081727Z
LAST-MODIFIED:20230316T081727Z
UID:9879-1691317800-1691323200@www.museumofcambridge.org.uk
SUMMARY:Hidden Cambridge Tour August
DESCRIPTION:Take another look at Cambridge with a 90-minute Hidden Cambridge Walking Tour. \nEnjoy a tour of the lesser-known Castle area of Cambridge. Discover some of the hidden nooks and crannies you’ve never noticed before! \nHear stories of beer\, brothels and boatmen\, and where Nobel prizes jostle with rugby players and mustard factories. \nA qualified guide will lead your tour\, and the ticket price includes free entry to the Museum of Cambridge within a month of the tour. All proceeds of the tours are donated to support the Museum. \nTickets are £15. Tours start at 10:30 from the Round Church in Cambridge. \nBooking is essential. Follow the Eventbrite link to book: 90 minute Hidden Cambridge walking tour Tickets\, Multiple Dates | Eventbrite \n 
URL:https://www.museumofcambridge.org.uk/event/hidden-cambridge-tour-august/
LOCATION:Cambridgeshire
CATEGORIES:Museum,Walking Tour
ATTACH;FMTTYPE=image/jpeg:https://www.museumofcambridge.org.uk/wp-content/uploads/2018/10/hiddencambridge2.jpg
END:VEVENT
END:VCALENDAR