BEGIN:VCALENDAR
VERSION:2.0
PRODID:-//The Museum of Cambridge - ECPv6.15.20//NONSGML v1.0//EN
CALSCALE:GREGORIAN
METHOD:PUBLISH
X-WR-CALNAME:The Museum of Cambridge
X-ORIGINAL-URL:https://www.museumofcambridge.org.uk
X-WR-CALDESC:Events for The Museum of Cambridge
REFRESH-INTERVAL;VALUE=DURATION:PT1H
X-Robots-Tag:noindex
X-PUBLISHED-TTL:PT1H
BEGIN:VTIMEZONE
TZID:Europe/London
BEGIN:DAYLIGHT
TZOFFSETFROM:+0000
TZOFFSETTO:+0100
TZNAME:BST
DTSTART:20230326T010000
END:DAYLIGHT
BEGIN:STANDARD
TZOFFSETFROM:+0100
TZOFFSETTO:+0000
TZNAME:GMT
DTSTART:20231029T010000
END:STANDARD
BEGIN:DAYLIGHT
TZOFFSETFROM:+0000
TZOFFSETTO:+0100
TZNAME:BST
DTSTART:20240331T010000
END:DAYLIGHT
BEGIN:STANDARD
TZOFFSETFROM:+0100
TZOFFSETTO:+0000
TZNAME:GMT
DTSTART:20241027T010000
END:STANDARD
BEGIN:DAYLIGHT
TZOFFSETFROM:+0000
TZOFFSETTO:+0100
TZNAME:BST
DTSTART:20250330T010000
END:DAYLIGHT
BEGIN:STANDARD
TZOFFSETFROM:+0100
TZOFFSETTO:+0000
TZNAME:GMT
DTSTART:20251026T010000
END:STANDARD
END:VTIMEZONE
BEGIN:VEVENT
DTSTART;TZID=Europe/London:20240804T103000
DTEND;TZID=Europe/London:20240804T120000
DTSTAMP:20260422T031128
CREATED:20240430T154304Z
LAST-MODIFIED:20240430T154304Z
UID:11582-1722767400-1722772800@www.museumofcambridge.org.uk
SUMMARY:Hidden Cambridge Tour August
DESCRIPTION:Take another look at Cambridge with a 90-minute Hidden Cambridge Walking Tour! \nWant to learn more about the hidden gems of Cambridge? \n\n🕥 10:30AM\, Sunday 4th of August (First Sunday of every month)\n\n\n📍 Round Church\, Bridge Street\, Cambridge CB2 1UB\n\n\n💰£15 (Includes entry to the Museum of Cambridge within 1 month of the tour)\n\n🏛️ Enjoy a tour of the lesser-known Castle area of Cambridge. Discover some of the hidden nooks and crannies you’ve never noticed before! \n🍻 Hear stories of beer\, brothels and boatmen\, and where Nobel prizes jostle with rugby players and mustard factories. \n🕵️‍♂️ The tour is led by a qualified guide on a voluntary basis\, so the entirety of the ticket price supports the upkeep of the Museum. Your ticket price includes free entry to the Museum of Cambridge within a month of the tour. \nBooking is essential. Follow the Eventbrite link to book: 90 minute Hidden Cambridge walking tour Tickets\, Multiple Dates | Eventbrite
URL:https://www.museumofcambridge.org.uk/event/hidden-cambridge-tour-august-2/
LOCATION:Round Church\, Round Church\, Bridge Street\, Cambridge\, Cambridgeshire\, United Kingdom
CATEGORIES:Museum,Walking Tour
ATTACH;FMTTYPE=image/jpeg:https://www.museumofcambridge.org.uk/wp-content/uploads/2018/10/hiddencambridge2.jpg
END:VEVENT
END:VCALENDAR